BEGIN:VCALENDAR
VERSION:2.0
PRODID:-//Wandelstadt Esslingen - ECPv6.15.20//NONSGML v1.0//EN
CALSCALE:GREGORIAN
METHOD:PUBLISH
X-ORIGINAL-URL:https://wandelstadt-esslingen.de
X-WR-CALDESC:Veranstaltungen für Wandelstadt Esslingen
REFRESH-INTERVAL;VALUE=DURATION:PT1H
X-Robots-Tag:noindex
X-PUBLISHED-TTL:PT1H
BEGIN:VTIMEZONE
TZID:Europe/Berlin
BEGIN:DAYLIGHT
TZOFFSETFROM:+0100
TZOFFSETTO:+0200
TZNAME:CEST
DTSTART:20240331T010000
END:DAYLIGHT
BEGIN:STANDARD
TZOFFSETFROM:+0200
TZOFFSETTO:+0100
TZNAME:CET
DTSTART:20241027T010000
END:STANDARD
BEGIN:DAYLIGHT
TZOFFSETFROM:+0100
TZOFFSETTO:+0200
TZNAME:CEST
DTSTART:20250330T010000
END:DAYLIGHT
BEGIN:STANDARD
TZOFFSETFROM:+0200
TZOFFSETTO:+0100
TZNAME:CET
DTSTART:20251026T010000
END:STANDARD
BEGIN:DAYLIGHT
TZOFFSETFROM:+0100
TZOFFSETTO:+0200
TZNAME:CEST
DTSTART:20260329T010000
END:DAYLIGHT
BEGIN:STANDARD
TZOFFSETFROM:+0200
TZOFFSETTO:+0100
TZNAME:CET
DTSTART:20261025T010000
END:STANDARD
END:VTIMEZONE
BEGIN:VEVENT
DTSTART;TZID=Europe/Berlin:20250613T090000
DTEND;TZID=Europe/Berlin:20250613T110000
DTSTAMP:20260422T124234
CREATED:20250530T133957Z
LAST-MODIFIED:20250530T133957Z
UID:10005565-1749805200-1749812400@wandelstadt-esslingen.de
SUMMARY:Freitagssprechstunde
DESCRIPTION:Rufen Sie an! Vorstandsmitglieder vom StadtSeniorenRat haben von 9 bis 11 Uhr ein offenes Ohr für alle Anliegen von Seniorinnen sowie Senioren und vermitteln auch Termine bei der Esslinger Initiative zur Erstellung von Vorsorgepapieren wie Vollmachten und Patientenverfügungen: Telefon 0711 357420
URL:https://wandelstadt-esslingen.de/event/freitagssprechstunde-3/
LOCATION:Forum Esslingen in der Schelztorstraße 38\, 73728 Esslingen\, Schelztorstraße 38\, Esslingen\, 73728\, Deutschland
ATTACH;FMTTYPE=image/jpeg:https://wandelstadt-esslingen.de/wp-content/uploads/2025/05/Telefonieren.jpg
END:VEVENT
BEGIN:VEVENT
DTSTART;TZID=Europe/Berlin:20250613T140000
DTEND;TZID=Europe/Berlin:20250613T160000
DTSTAMP:20260422T124234
CREATED:20250424T162646Z
LAST-MODIFIED:20250424T162714Z
UID:10002529-1749823200-1749830400@wandelstadt-esslingen.de
SUMMARY:Beratung Esslinger Initiative
DESCRIPTION:Das Leben vom guten Ende her denken.\n\n\n\n\n\n\n\n\n\n\n\n\n\n\n\n\n\n\n\n\nFreitags 14 bis 16 Uhr kostenlose Beratungen der Esslinger Initiative e.V.\nAnmeldung; Fr 9-11 Uhr über Tel. 0711/357420 \nJa das ist unangenehm\, wo doch jetzt Leben dran ist. Scheint doch auch logisch zu sein es so anzugehen wie Heinz Erhardt seine Gedichte anfing „Ich fang mal mit dem Anfang an“.\n„Das Leben vom guten Ende her denken“ ist quasi das Motto der Esslinger Initiative um die es hier heute geht. Sie selbst bezeichnet sich als \n„Eine Initiative für die Wahrung von Menschenwürde und Selbstbestimmung im Alter und bei Krankheit“\, ausgehend von der Frage: „ \nWie kann das Selbstbestimmungsrecht im Alter und bei Krankheit – also in schwierigen Lebensphasen – erhalten werden?“. \nDie Esslinger Initiative … \n\nsetzt sich ein für einen menschenwürdigen Umgang mit Schwerstkranken und Sterbenden\nfördert die Verbesserung der medizinischen und pflegerischen Versorgung Schwerstkranker und Sterbender (Palliative Care)\ntritt ein für die Wahrung des Selbstbestimmungsrechts im Gesundheitswesen und in der Altenpflege\nwirbt für ihre Anliegen in öffentlichen Veranstaltungen\nbietet Beratungen zur Vorsorge an\nstellt Formulare zur Vorsorge zur Verfügung\nschult Ehrenamtliche zu kompetenten Beraterinnen und Beratern und bildet diese regelmäßig weiter\nunterstützt die Durchsetzung einer vorsorgenden Gesundheitsplanung (ACP)\n\n  \nDas besondere Angebot der Esslinger Initiative ist eine kostenlose und unabhängige Beratung zur Vorsorge\, abgestimmt auf die ganz persönliche Situation. Beratungsstellen im gesamten Landkreis Esslingen und darüber hinaus bieten diese Hilfe an.\nDas Ende geht alle an – ein Angebot an alle über 18! \nBitte vorab anmelden unter 0711/357420.
URL:https://wandelstadt-esslingen.de/event/beratung-esslinger-initiative-bitte-vorab-anmelden-2/2025-06-13/
LOCATION:Forum Esslingen – Zentrum für Bürgerengagement\, Schelztorstraße 38\, Esslingen\, Deutschland
ORGANIZER;CN="Esslinger Initiative e.V.":MAILTO:news@esslinger-initiative.de
END:VEVENT
BEGIN:VEVENT
DTSTART;TZID=Europe/Berlin:20250613T193000
DTEND;TZID=Europe/Berlin:20250613T193000
DTSTAMP:20260422T124234
CREATED:20250526T153711Z
LAST-MODIFIED:20250526T153711Z
UID:10005539-1749843000-1749843000@wandelstadt-esslingen.de
SUMMARY:Queerbeet-Lesung: Alles dazwischen/darüber hinaus
DESCRIPTION:Mae Schwinghammer aus Österreich liest aus dem Debüt „Alles dazwischen\, darüber hinaus“. Darin geht es um das Aufwachsen als nicht-binäre Person – also darum\, sich nicht eindeutig als männlich oder weiblich zu identifizieren – und um die Probleme\, die damit einhergehen\, gesellschaftlich\, psychologisch\, aber auch sprachlich: Was bedeutet es\, keine Sprache für das eigene Ich zu finden? \nMaë liest in der Stadtbücherei Esslingen. Wegen der Bauarbeiten im Gebäude muss die Veranstaltung in das Zeitschriften-Café verlegt werden. \nVom 13. bis 15. Juni finden an drei Tagen drei Veranstaltungen zu queerer Literatur für verschiedene Altersgruppen statt. Die Veranstalter:innen QueerES e. V.\, Poppinski und Stadtbücherei Esslingen möchten mit diesen kostenfreien Lesungen die diverse Stadtgesellschaft sichtbar machen und den Stimmen marginalisierter Gruppen eine Bühne bieten.
URL:https://wandelstadt-esslingen.de/event/queerbeet-lesung-alles-dazwischen-darueber-hinaus/
LOCATION:Stadtbibliothek\, Heugasse 9\, Esslingen\, Deutschland
END:VEVENT
BEGIN:VEVENT
DTSTART;TZID=Europe/Berlin:20250613T201500
DTEND;TZID=Europe/Berlin:20250613T201500
DTSTAMP:20260422T124234
CREATED:20250526T113226Z
LAST-MODIFIED:20250526T113320Z
UID:10005525-1749845700-1749845700@wandelstadt-esslingen.de
SUMMARY:Kino: The Mattachine Family
DESCRIPTION:Fr | 13.06.2025 | 20.15 Uhr\n100 Minuten | FSK 12  | OmU Specials > Queerfilmnacht \nWas ist eine Familie? Und welche Alternativen zur klassischen Kernfamilie kann es für queere Menschen geben? Mit viel Feingefühl und einem liebevollen Blick auf Nebenfiguren und Details findet der Film erfrischend realistische Antworten. Eine mitreißende Tragikomödie über die wunderbare Magie der Wahlfamilie! \nFotograf Thomas und Schauspieler Oscar sind ein schwules Paar wie aus dem Bilderbuch. Als sich auch noch ihr langgehegter Kinderwunsch erfüllt\, scheint ihr Glück perfekt. Doch dann entscheidet ein Gericht\, dass ihr Adoptivsohn zu seiner leiblichen Mutter zurückkehren soll. Und plötzlich scheint ihre gemeinsame Zukunft gar nicht mehr so gewiss zu sein. Zum Glück können sich die beiden auf ihren Freundeskreis\, vor allem auf Thomas‘ beste Freundin Leah und deren Partnerin verlassen.
URL:https://wandelstadt-esslingen.de/event/kino-the-mattachine-family/
LOCATION:Kommunales Kino\, Maille 4-9\, Esslingen\, 73728\, Deutschland
END:VEVENT
END:VCALENDAR