BEGIN:VCALENDAR
VERSION:2.0
PRODID:-//Wandelstadt Esslingen - ECPv6.15.20//NONSGML v1.0//EN
CALSCALE:GREGORIAN
METHOD:PUBLISH
X-WR-CALNAME:Wandelstadt Esslingen
X-ORIGINAL-URL:https://wandelstadt-esslingen.de
X-WR-CALDESC:Veranstaltungen für Wandelstadt Esslingen
REFRESH-INTERVAL;VALUE=DURATION:PT1H
X-Robots-Tag:noindex
X-PUBLISHED-TTL:PT1H
BEGIN:VTIMEZONE
TZID:Europe/Berlin
BEGIN:DAYLIGHT
TZOFFSETFROM:+0100
TZOFFSETTO:+0200
TZNAME:CEST
DTSTART:20240331T010000
END:DAYLIGHT
BEGIN:STANDARD
TZOFFSETFROM:+0200
TZOFFSETTO:+0100
TZNAME:CET
DTSTART:20241027T010000
END:STANDARD
BEGIN:DAYLIGHT
TZOFFSETFROM:+0100
TZOFFSETTO:+0200
TZNAME:CEST
DTSTART:20250330T010000
END:DAYLIGHT
BEGIN:STANDARD
TZOFFSETFROM:+0200
TZOFFSETTO:+0100
TZNAME:CET
DTSTART:20251026T010000
END:STANDARD
BEGIN:DAYLIGHT
TZOFFSETFROM:+0100
TZOFFSETTO:+0200
TZNAME:CEST
DTSTART:20260329T010000
END:DAYLIGHT
BEGIN:STANDARD
TZOFFSETFROM:+0200
TZOFFSETTO:+0100
TZNAME:CET
DTSTART:20261025T010000
END:STANDARD
END:VTIMEZONE
BEGIN:VEVENT
DTSTART;TZID=Europe/Berlin:20250610T073000
DTEND;TZID=Europe/Berlin:20250610T093000
DTSTAMP:20260422T124203
CREATED:20250527T173315Z
LAST-MODIFIED:20250602T181157Z
UID:10005555-1749540600-1749547800@wandelstadt-esslingen.de
SUMMARY:Wiesenmahd - Agendagruppe Streuobstwiesen
DESCRIPTION:Locker und mit Schwung: Eine Wiese mit der Sense mähen \nAnfänger sind besonders willkommen. Die Termine sind an 4 Samstagen im Juni am 07.06 / 14.06. / 21.06. / 28.06. und außerdem dienstags am 10.06. / 17.06. / 24.06. für alle\, die auch unter der Woche Zeit haben. Die Termine beginnen alle um 7 Uhr 30 und dauern bis etwa 9 Uhr 30. Wir treffen uns an der Wiese\, auf der Karte zu finden mit Google Maps unter den Koordinaten 48.74885\, 9.30826. Der Zugang erfolgt über die Mülbergerstraße – Obere Beutau – Wittumhalde. Anmeldung bei Rainer König unter rainer.o.koenig@web.de oder 0151 50742396. Eigene Sensen und Wetzsteine sollten mitgebracht werden. Mehrere Sensen zum Ausleihen sind vorhanden.
URL:https://wandelstadt-esslingen.de/event/wiesenmahd-agendagruppe-streuobstwiesen-2/
ORGANIZER;CN="Agendagruppe Streuobstwiesen":MAILTO:streuobstgruppe@forum-esslingen.de
END:VEVENT
BEGIN:VEVENT
DTSTART;TZID=Europe/Berlin:20250610T160000
DTEND;TZID=Europe/Berlin:20250610T190000
DTSTAMP:20260422T124203
CREATED:20250526T155735Z
LAST-MODIFIED:20250526T155735Z
UID:10005544-1749571200-1749582000@wandelstadt-esslingen.de
SUMMARY:Upcycling-Nähworkshop
DESCRIPTION:Beim Upcycling-Nähworkshop werden alte Werbebanner\, Fahnen und Stoffreste zu Taschen\, Beuteln und weiteren praktischen Gegenständen verarbeitet. Die Stoffe sind unter anderem Flaggen und Planen\, mit denen die zurückliegenden Ausgaben des Kulturfestivals „Stadt im Fluss“ beworben worden waren. Genäht wird unter Anleitung\, die Teilnahme ist auch ohne Näherfahrung möglich. Material und Nähmaschinen werden zur Verfügung gestellt. Alles\, was sie herstellen\, dürfen die Teilnehmenden des Upcycling-Nähworkshops behalten – und auch\, was sie gestalten wollen\, können sie ganz frei entscheiden. Im Vordergrund stehen das kreative Arbeiten\, Ausprobieren und Kennenlernen von Techniken und Gleichgesinnten.
URL:https://wandelstadt-esslingen.de/event/upcycling-naehworkshop/
LOCATION:KOMMA\, Maille 5-9\, Esslingen\, Deutschland
END:VEVENT
BEGIN:VEVENT
DTSTART;TZID=Europe/Berlin:20250610T170000
DTEND;TZID=Europe/Berlin:20250610T170000
DTSTAMP:20260422T124203
CREATED:20250526T094845Z
LAST-MODIFIED:20250526T094845Z
UID:10005510-1749574800-1749574800@wandelstadt-esslingen.de
SUMMARY:Photovoltaik auf Mehrfamilienhäusern: Betriebskonzepte unter der Lupe
DESCRIPTION:Kostenlose Online-Vorträge \nAuch im Jahr 2025 geben wir alles\, um die Energiewende voran zu treiben.\nIn unseren kostenfreien Online-Vorträgen bietet die Energieberatung der Verbraucherzentrale Baden-Württemberg einen Rundumblick über interessante Themen. Die Anmeldung und weitere Informationen finden Sie unter: https://www.verbraucherzentrale-bawue.de/energie/onlineseminare-der-energieberatung-59522 \nNeben den Online-Vorträgen bieten die Energieberatung der Verbraucherzentrale und die Kimaschutzagentur des Landkreises Esslingen individuelle Beratungen an. Sie findet zurzeit hauptsächlich online und telefonisch statt. Mehr Informationen gibt es auf verbraucherzentrale-energieberatung.de oder kostenfrei unter 0800 – 809 802 400 oder unter 0711 20 70 30 70.
URL:https://wandelstadt-esslingen.de/event/photovoltaik-auf-mehrfamilienhaeusern-betriebskonzepte-unter-der-lupe/
LOCATION:online
ORGANIZER;CN="Klimaschutzagentur des Landkreises Esslingen gGmbH":MAILTO:info@ksa-es.de
END:VEVENT
BEGIN:VEVENT
DTSTART;TZID=Europe/Berlin:20250610T170000
DTEND;TZID=Europe/Berlin:20250610T183000
DTSTAMP:20260422T124203
CREATED:20250526T154832Z
LAST-MODIFIED:20250526T154923Z
UID:10005542-1749574800-1749580200@wandelstadt-esslingen.de
SUMMARY:Stadtacker für Vielfalt und Kunst – Pflanzenfarbe herstellen
DESCRIPTION:Der Stadtacker für Vielfalt und Kunst der Villa Merkel stellt sich und seine Projekte vor – unter anderem: das Arbeiten mit Färbepflanzen und was sie alles können. Im Workshop stellen wir selbst einige Aquarellfarben her und probieren diese aus.\nPreis\nOhne Anmeldung\, kostenlos\, Material wird gestellt
URL:https://wandelstadt-esslingen.de/event/stadtacker-fuer-vielfalt-und-kunst-pflanzenfarbe-herstellen/
LOCATION:Modehaus Kögel
END:VEVENT
BEGIN:VEVENT
DTSTART;TZID=Europe/Berlin:20250610T191500
DTEND;TZID=Europe/Berlin:20250610T201500
DTSTAMP:20260422T124203
CREATED:20240520T091234Z
LAST-MODIFIED:20260106T174409Z
UID:10005711-1749582900-1749586500@wandelstadt-esslingen.de
SUMMARY:Inklusive Lachyoga-Gruppe
DESCRIPTION:Lachen ist nicht nur gesund\, sondern auch ansteckend. Und genau darum geht es bei Lachyoga. Gemeinsam lachen und sich gut fühlen\, Stress abbauen und entspannen. Zudem stärkt Lachen die Gesundheit. \n\n\n\n\n\nWann:\nDienstags von 19:15 – 20:15 Uhr\nEinstieg jederzeit möglich!\nKeine Anmeldung erforderlich.\n\n\n\nFür wen:\nFür (fast) jeden geeignet\, da Lachyoga keine schwierigen körperlichen Übungen beinhaltet.\n(siehe Details zur Barrierefreiheit)\n\n\nKursleitung:\nSusanne Klaus (Lachyoga Master Trainerin\, Stuttgarter Lachschule)\n\n\nKosten:\nkeine (freiwillige Spendenbasis)\n\n\nMitzubringen:\netwas zum Trinken
URL:https://wandelstadt-esslingen.de/event/inklusive-lachyoga-gruppe/2025-06-10/
LOCATION:Forum Esslingen – Zentrum für Bürgerengagement\, Schelztorstraße 38\, Esslingen\, Deutschland
ATTACH;FMTTYPE=image/jpeg:https://wandelstadt-esslingen.de/wp-content/uploads/2024/05/Lachyoga-Gruppe_Forum-Esslingen_16-9-scaled.jpg
ORGANIZER;CN="InklusivES - Der Esslinger Stammtisch zum Thema Inklusion":MAILTO:c.lira@inklusives.de
END:VEVENT
END:VCALENDAR