BEGIN:VCALENDAR
VERSION:2.0
PRODID:-//Wandelstadt Esslingen - ECPv6.15.20//NONSGML v1.0//EN
CALSCALE:GREGORIAN
METHOD:PUBLISH
X-ORIGINAL-URL:https://wandelstadt-esslingen.de
X-WR-CALDESC:Veranstaltungen für Wandelstadt Esslingen
REFRESH-INTERVAL;VALUE=DURATION:PT1H
X-Robots-Tag:noindex
X-PUBLISHED-TTL:PT1H
BEGIN:VTIMEZONE
TZID:Europe/Berlin
BEGIN:DAYLIGHT
TZOFFSETFROM:+0100
TZOFFSETTO:+0200
TZNAME:CEST
DTSTART:20240331T010000
END:DAYLIGHT
BEGIN:STANDARD
TZOFFSETFROM:+0200
TZOFFSETTO:+0100
TZNAME:CET
DTSTART:20241027T010000
END:STANDARD
BEGIN:DAYLIGHT
TZOFFSETFROM:+0100
TZOFFSETTO:+0200
TZNAME:CEST
DTSTART:20250330T010000
END:DAYLIGHT
BEGIN:STANDARD
TZOFFSETFROM:+0200
TZOFFSETTO:+0100
TZNAME:CET
DTSTART:20251026T010000
END:STANDARD
BEGIN:DAYLIGHT
TZOFFSETFROM:+0100
TZOFFSETTO:+0200
TZNAME:CEST
DTSTART:20260329T010000
END:DAYLIGHT
BEGIN:STANDARD
TZOFFSETFROM:+0200
TZOFFSETTO:+0100
TZNAME:CET
DTSTART:20261025T010000
END:STANDARD
END:VTIMEZONE
BEGIN:VEVENT
DTSTART;TZID=Europe/Berlin:20250405T093000
DTEND;TZID=Europe/Berlin:20250405T093000
DTSTAMP:20260422T130723
CREATED:20250322T150504Z
LAST-MODIFIED:20250322T150712Z
UID:10004944-1743845400-1743845400@wandelstadt-esslingen.de
SUMMARY:Putzaktion in der Pliensauvorstadt
DESCRIPTION:Einmal im Quartal treffen wir uns Samstags ab 9:30 und sammeln in unserem Stadtteil Müll auf. Den bringen wir dann zum Bürgerhaus\, wo wir uns zusammensetzen und bei einer Pizza über die Aktion und vieles mehr austauschen.Hier ist jede und jeder herzlich willkommen und kann aktiv werden. \n  \nTreffpunkt ist jeweils am Bürgerhaus\, wo Zangen\, Beutel und anderes ausgegeben werden. Die Termine werden in unserer Terminübersicht angekündigt. Für 2025 haben wir vorgesehen: 25. Januar\, 5. April\, 5. Juli und 20. September. \nKoordiniert wird das Projekt durch Barbara Siegel-Schwilk.
URL:https://wandelstadt-esslingen.de/event/putzaktion-in-der-pliensauvorstadt/2025-04-05/
LOCATION:Mehrgenerationen- und Bürgerhaus Pliensauvorstadt\, Weilstr. 8\, Esslingen am Neckar\, Baden Württemberg\, 73734\, Deutschland
ORGANIZER;CN="F%C3%B6rderverein Pliensauvorstadt e.V.":MAILTO:fv@fv-pvs.de
END:VEVENT
BEGIN:VEVENT
DTSTART;TZID=Europe/Berlin:20250405T100000
DTEND;TZID=Europe/Berlin:20250405T100000
DTSTAMP:20260422T130723
CREATED:20250329T051056Z
LAST-MODIFIED:20250329T051056Z
UID:10005183-1743847200-1743847200@wandelstadt-esslingen.de
SUMMARY:Fußgängercheck in Zell
DESCRIPTION:Der Bürgerausschuss will es wissen: Wie geht es sich zu Fuß in Zell? Dazu sind alle Bürgerinnen und Bürger sowie verschiedene Akteure am Samstag\, 5. April um 10:00 Uhr herzlich eingeladen. Treffpunkt ist der Backhausplatz. Untersucht wird das Gebiet vom westlichen Ende der Wilhelmstraße bis zur Mettenhalde\, die Bachstraße und der untere Teil der Kirchstraße. Dabei steht die Frage der Sicherheit von Menschen zu Fuß\, insbesondere Schulkindern\, im Mittelpunkt. Wenn es um die Infrastruktur im Verkehr geht\, denkt man meistens als letztes an Fußgänger. Dabei ist zu Fuß gehen die gesündeste\, umweltfreundlichste und kommunikativste Art der Fortbewegung. Attraktiv wird das aber erst\, wenn man dabei flott vorankommt\, nicht durch falsch parkende Autos von seinem Weg gedrängt und dadurch gefährdet sowie möglichst wenig von Abgasen und Lärm belästigt wird. Zu einer guten Fußgängerinfrastruktur gehören Gehwege\, die breit genug sind und ggf. Zebrastreifen oder Ampeln\, die Fußgänger nicht ewig warten lassen. \n„Wir nehmen Ihre Anregungen vor Ort auf\, dokumentieren mit Fotos und Worten Gefahrenstellen sowie Verbesserungsvorschläge und werden diese schließlich mit den Verantwortlichen bei der Stadt beraten.“\, meint der Bürgerausschuss unisono. Ziel ist es\, die Situation von Fußgängern in Zell zu verbessern. Wir freuen uns über viele Bürgerinnen und Bürger\, die mit uns gemeinsam den Fußgängercheck machen. Sie sind alle herzlich eingeladen!
URL:https://wandelstadt-esslingen.de/event/fussgaengercheck-in-zell/
ORGANIZER;CN="B%C3%BCrgerausschuss Esslingen-Zell":MAILTO:thorsten.gotthardy@zell-am-neckar.de
END:VEVENT
BEGIN:VEVENT
DTSTART;TZID=Europe/Berlin:20250405T190000
DTEND;TZID=Europe/Berlin:20250405T223000
DTSTAMP:20260422T130723
CREATED:20250326T180914Z
LAST-MODIFIED:20250326T180914Z
UID:10004958-1743879600-1743892200@wandelstadt-esslingen.de
SUMMARY:Makerspace Esslingen Workshop
DESCRIPTION:Zusammen wollen wir von- und miteinander lernen! Im Makerspace Esslingen beschäftigen wir uns mit Technik im weitestmöglichen Sinne. Von Elektronik und 3D-Druck über Programmierung bis IT-Sicherheit ist alles dabei. \nSeit Januar 2021 treffen wir uns jeden Monat zu einem Workshop und bringen uns gegenseitig den Umgang mit Technik bei. Dabei wollen wir uns gegenseitig motivieren\, die Technik\, die uns im Alltag begleitet\, nicht nur zu nutzen\, sondern auch zu verstehen. Zusammen entwickeln wir beispielsweise Platinen\, drucken Teile mit dem 3D-Drucker\, programmieren unsere eigene Software oder beteiligen uns mit unserem Team „Zwiebel“ an IT-Security-Wettbewerben\, sogenannten CTFs. Jeden ersten Samstag im Monat treffen wir uns im Forum Esslingen und tauschen uns im Rahmen eines Workshops über ein Thema aus. \nGelegentlich finden die Treffen auch im Komma statt. Im Mastadon-Profil finden sich in der Regel eine Woche vorher Informationen über Thema und den Ort.
URL:https://wandelstadt-esslingen.de/event/makerspace-esslingen-workshop/
LOCATION:Forum Esslingen – Zentrum für Bürgerengagement\, Schelztorstraße 38\, Esslingen\, Deutschland
CATEGORIES:Beteiligung,Vernetzungsveranstaltung
END:VEVENT
END:VCALENDAR