BEGIN:VCALENDAR
VERSION:2.0
PRODID:-//Wandelstadt Esslingen - ECPv6.15.20//NONSGML v1.0//EN
CALSCALE:GREGORIAN
METHOD:PUBLISH
X-WR-CALNAME:Wandelstadt Esslingen
X-ORIGINAL-URL:https://wandelstadt-esslingen.de
X-WR-CALDESC:Veranstaltungen für Wandelstadt Esslingen
REFRESH-INTERVAL;VALUE=DURATION:PT1H
X-Robots-Tag:noindex
X-PUBLISHED-TTL:PT1H
BEGIN:VTIMEZONE
TZID:Europe/Berlin
BEGIN:DAYLIGHT
TZOFFSETFROM:+0100
TZOFFSETTO:+0200
TZNAME:CEST
DTSTART:20240331T010000
END:DAYLIGHT
BEGIN:STANDARD
TZOFFSETFROM:+0200
TZOFFSETTO:+0100
TZNAME:CET
DTSTART:20241027T010000
END:STANDARD
BEGIN:DAYLIGHT
TZOFFSETFROM:+0100
TZOFFSETTO:+0200
TZNAME:CEST
DTSTART:20250330T010000
END:DAYLIGHT
BEGIN:STANDARD
TZOFFSETFROM:+0200
TZOFFSETTO:+0100
TZNAME:CET
DTSTART:20251026T010000
END:STANDARD
BEGIN:DAYLIGHT
TZOFFSETFROM:+0100
TZOFFSETTO:+0200
TZNAME:CEST
DTSTART:20260329T010000
END:DAYLIGHT
BEGIN:STANDARD
TZOFFSETFROM:+0200
TZOFFSETTO:+0100
TZNAME:CET
DTSTART:20261025T010000
END:STANDARD
END:VTIMEZONE
BEGIN:VEVENT
DTSTART;TZID=Europe/Berlin:20250318T170000
DTEND;TZID=Europe/Berlin:20250318T190000
DTSTAMP:20260422T160604
CREATED:20250222T213233Z
LAST-MODIFIED:20250222T213233Z
UID:10004834-1742317200-1742324400@wandelstadt-esslingen.de
SUMMARY:Nutzpflanzenbibliothek: Saatgutausleihe
DESCRIPTION:Für eine blühende Zukunft. Saatgut alter Nutzpflanzensorten und das dazugehörige Wissen sind ein unverzichtbares und erhaltenswertes Kulturerbe. Wie die Vermehrung der Pflanzen funktioniert\, wissen aber leider nur noch wenige … Damit sich das wieder ändert\, bietet der Verein Transition Town Esslingen Möglichkeiten an\, verschiedene Tomatensamen mitzunehmen und zuhause zu pflanzen. Später können neue Samen in der Bücherei zurück gegeben werden. Mit der Nutzpflanzenbibliothek leistet Transition Town Esslingen einen wertvollen Beitrag zur Förderung der Pflanzenvielfalt in der Stadt. Im 1. Stock wird der Verein zwei Stunden lang allen Fragen beantworten und vermeindliche grüne Daumen prüfen. \n 
URL:https://wandelstadt-esslingen.de/event/nutzpflanzenbibliothek-saatgutausleihe/
LOCATION:Stadtbibliothek\, Heugasse 9\, Esslingen\, Deutschland
CATEGORIES:Infoveranstaltung
ORGANIZER;CN="Transition Town Esslingen - Stadt im Wandel":MAILTO:kontakt@transition-town-es.de
END:VEVENT
BEGIN:VEVENT
DTSTART;TZID=Europe/Berlin:20250318T180000
DTEND;TZID=Europe/Berlin:20250318T200000
DTSTAMP:20260422T160604
CREATED:20250222T213502Z
LAST-MODIFIED:20250224T194827Z
UID:10004835-1742320800-1742328000@wandelstadt-esslingen.de
SUMMARY:Lieder\, die das Leben schreibt – eine Einladung zum Lauschen und Fühlen
DESCRIPTION:Konzert \nHelena schreibt und singt Lieder\, die in Worte fassen\, wie sie in die Welt schaut … über Momente\, die sie bewegen … über Emotionen\, die wir alle kennen. Mal mit kraftvoller Tiefe in „Wer sind wir?“\, mal herrlich humorvoll mit „Schiss“\, mal schmerzhaft ehrlich in „Kennst du den Schmerz?“. Meistens auf Deutsch\, manchmal auf Englisch und begleitet von ihrer Gitarre. Du bist eingeladen mit deinem Herzen zu lauschen und zu fühlen. \nKünstlerin Helena Muster\, www.helenasingt.de \n\n\n\n\n\n\n\nPreis \nTeilnahme kostenlos\, mit Spendenhut für die Künstlerin\n\n\n\n\nHinweis \nohne Anmeldung\, max. 50 Teilnehmende
URL:https://wandelstadt-esslingen.de/event/lieder-die-das-leben-schreibt-eine-einladung-zum-lauschen-und-fuehlen/
LOCATION:ZAK – Zentrum für Arbeit und Kommunikation\, Franziskanergasse 7\, Esslingen\, 73728
CATEGORIES:Kulturveranstaltung
END:VEVENT
BEGIN:VEVENT
DTSTART;TZID=Europe/Berlin:20250318T190000
DTEND;TZID=Europe/Berlin:20250318T210000
DTSTAMP:20260422T160604
CREATED:20241229T163553Z
LAST-MODIFIED:20241229T163559Z
UID:10004524-1742324400-1742331600@wandelstadt-esslingen.de
SUMMARY:Treffen der Regionalgruppe Esslingen der Teckwerke Bürgerenergie
DESCRIPTION:
URL:https://wandelstadt-esslingen.de/event/treffen-der-regionalgruppe-esslingen-der-teckwerke-buergerenergie-2/
LOCATION:Mehrgenerationen- und Bürgerhaus Pliensauvorstadt\, Weilstr. 8\, Esslingen am Neckar\, Baden Württemberg\, 73734\, Deutschland
END:VEVENT
BEGIN:VEVENT
DTSTART;TZID=Europe/Berlin:20250318T190000
DTEND;TZID=Europe/Berlin:20250318T220000
DTSTAMP:20260422T160604
CREATED:20250221T164213Z
LAST-MODIFIED:20250221T164213Z
UID:10004824-1742324400-1742335200@wandelstadt-esslingen.de
SUMMARY:Die Unbeugsamen
DESCRIPTION:Ein erkenntnisreiches Zeitdokument\, das einen unüberhörbaren Beitrag zur aktuellen Diskussion leistet\, nicht zuletzt\, weil für den neuen Bundestag prognostiziert wird\, dass der Anteil der Parlamentarierinnen auf unter ein Drittel sinken wird. Erzählt wird die Geschichte der Frauen in der Bonner Republik\, die sich ihre Beteiligung an den demokratischen Entscheidungsprozessen wie echte Pionierinnen buchstäblich erkämpfen mussten. Unerschrocken\, ehrgeizig und mit unendlicher Geduld verfolgten sie ihren Weg und trotzten Vorurteilen und sexueller Diskriminierung. \nPolitikerinnen von damals kommen heute zu Wort. Ihre Erinnerungen sind zugleich komisch und bitter\, absurd und bisweilen erschreckend aktuell. Verflochten mit zum Teil ungesehenen Archiv-Ausschnitten ist Torsten Körner eine emotional bewegende Chronik westdeutscher Politik von den 1950er Jahren bis zur Wiedervereinigung geglückt.\n104 Minuten | FSK 0  | deutsche Originalfassung
URL:https://wandelstadt-esslingen.de/event/die-unbeugsamen-2/
LOCATION:Kommunales Kino\, Maille 4-9\, Esslingen\, 73728\, Deutschland
CATEGORIES:Kulturveranstaltung
END:VEVENT
BEGIN:VEVENT
DTSTART;TZID=Europe/Berlin:20250318T191500
DTEND;TZID=Europe/Berlin:20250318T201500
DTSTAMP:20260422T160604
CREATED:20240520T091234Z
LAST-MODIFIED:20260106T174409Z
UID:10004491-1742325300-1742328900@wandelstadt-esslingen.de
SUMMARY:Inklusive Lachyoga-Gruppe
DESCRIPTION:Lachen ist nicht nur gesund\, sondern auch ansteckend. Und genau darum geht es bei Lachyoga. Gemeinsam lachen und sich gut fühlen\, Stress abbauen und entspannen. Zudem stärkt Lachen die Gesundheit. \n\n\n\n\n\nWann:\nDienstags von 19:15 – 20:15 Uhr\nEinstieg jederzeit möglich!\nKeine Anmeldung erforderlich.\n\n\n\nFür wen:\nFür (fast) jeden geeignet\, da Lachyoga keine schwierigen körperlichen Übungen beinhaltet.\n(siehe Details zur Barrierefreiheit)\n\n\nKursleitung:\nSusanne Klaus (Lachyoga Master Trainerin\, Stuttgarter Lachschule)\n\n\nKosten:\nkeine (freiwillige Spendenbasis)\n\n\nMitzubringen:\netwas zum Trinken
URL:https://wandelstadt-esslingen.de/event/inklusive-lachyoga-gruppe/2025-03-18/
LOCATION:Forum Esslingen – Zentrum für Bürgerengagement\, Schelztorstraße 38\, Esslingen\, Deutschland
ATTACH;FMTTYPE=image/jpeg:https://wandelstadt-esslingen.de/wp-content/uploads/2024/05/Lachyoga-Gruppe_Forum-Esslingen_16-9-scaled.jpg
ORGANIZER;CN="InklusivES - Der Esslinger Stammtisch zum Thema Inklusion":MAILTO:c.lira@inklusives.de
END:VEVENT
END:VCALENDAR