BEGIN:VCALENDAR
VERSION:2.0
PRODID:-//Wandelstadt Esslingen - ECPv6.15.20//NONSGML v1.0//EN
CALSCALE:GREGORIAN
METHOD:PUBLISH
X-ORIGINAL-URL:https://wandelstadt-esslingen.de
X-WR-CALDESC:Veranstaltungen für Wandelstadt Esslingen
REFRESH-INTERVAL;VALUE=DURATION:PT1H
X-Robots-Tag:noindex
X-PUBLISHED-TTL:PT1H
BEGIN:VTIMEZONE
TZID:Europe/Berlin
BEGIN:DAYLIGHT
TZOFFSETFROM:+0100
TZOFFSETTO:+0200
TZNAME:CEST
DTSTART:20240331T010000
END:DAYLIGHT
BEGIN:STANDARD
TZOFFSETFROM:+0200
TZOFFSETTO:+0100
TZNAME:CET
DTSTART:20241027T010000
END:STANDARD
BEGIN:DAYLIGHT
TZOFFSETFROM:+0100
TZOFFSETTO:+0200
TZNAME:CEST
DTSTART:20250330T010000
END:DAYLIGHT
BEGIN:STANDARD
TZOFFSETFROM:+0200
TZOFFSETTO:+0100
TZNAME:CET
DTSTART:20251026T010000
END:STANDARD
BEGIN:DAYLIGHT
TZOFFSETFROM:+0100
TZOFFSETTO:+0200
TZNAME:CEST
DTSTART:20260329T010000
END:DAYLIGHT
BEGIN:STANDARD
TZOFFSETFROM:+0200
TZOFFSETTO:+0100
TZNAME:CET
DTSTART:20261025T010000
END:STANDARD
END:VTIMEZONE
BEGIN:VEVENT
DTSTART;VALUE=DATE:20250305
DTEND;VALUE=DATE:20250318
DTSTAMP:20260422T161811
CREATED:20250222T203655Z
LAST-MODIFIED:20250222T203655Z
UID:10004827-1741132800-1742255999@wandelstadt-esslingen.de
SUMMARY:Alles Fake? Interaktive Ausstellung
DESCRIPTION:Der Landesfilmdienst lädt herzlich zu einer einzigartigen Ausstellung ein. In unseren Räumen erwarten dich interaktive Stationen\, an denen du die Möglichkeit hast\, die neuesten KI-Tools hautnah zu erleben und selbst kreativ zuwerden!\nDie Ausstellung bietet dir die Chance\, in die Welt der Medienproduktion einzutauchen und dabei die spannenden Möglichkeiten der künstlichen Intelligenz in den Bereichen Musik\, Sprache\, Bild und Video zu entdecken. \nHier ist eine kleine Vorschau\, der geplanten Stationen: \n•Face Swapper: Tausche dein Gesicht mit eineranderen Person in einem Video.\n•Virtuelle Realität: Tauche mit einer VR-Brillein eine immersive Welt ein.\n•Color Keying: Lass dich vor einem Greenscreenfilmen und werde Teil eines Filmplakats.\n•KI-Fotobearbeitung und -Bildgenerator: Entdeckedie Möglichkeiten in der Bildbearbeitung und erschaffe neueKunstwerke.\n•KI-Musikgenerator und -Sprache: KomponiereMusik oder lasse deine Worte von einer KI-Stimme wiedergeben.\n•Datenschutz und Fake or No Fake: Setze dich mitwichtigen Themen wie Cyber-Mobbing und Fälschungen auseinanderund lerne\, wie du dich schützen kannst. \n\n\n\n\n\n\n\nPreis \nEintritt frei.
URL:https://wandelstadt-esslingen.de/event/alles-fake-interaktive-ausstellung/
LOCATION:Landesfilmdienst Baden-Württemberg e.V.\, Neckarstraße 53\, Esslingen\, 73728\, Deutschland
CATEGORIES:Kulturveranstaltung
END:VEVENT
BEGIN:VEVENT
DTSTART;TZID=Europe/Berlin:20250314T140000
DTEND;TZID=Europe/Berlin:20250314T160000
DTSTAMP:20260422T161811
CREATED:20240208T160917Z
LAST-MODIFIED:20250424T162425Z
UID:10002516-1741960800-1741968000@wandelstadt-esslingen.de
SUMMARY:Beratung Esslinger Initiative
DESCRIPTION:Das Leben vom guten Ende her denken.\n\n\n\n\n\n\n\n\n\n\n\n\n\n\n\n\n\n\n\n\nFreitags 14 bis 16 Uhr kostenlose Beratungen der Esslinger Initiative e.V.\nAnmeldung; Fr 9-11 Uhr über Tel. 0711/357420 \nJa das ist unangenehm\, wo doch jetzt Leben dran ist. Scheint doch auch logisch zu sein es so anzugehen wie Heinz Erhardt seine Gedichte anfing „Ich fang mal mit dem Anfang an“.\n„Das Leben vom guten Ende her denken“ ist quasi das Motto der Esslinger Initiative um die es hier heute geht. Sie selbst bezeichnet sich als \n„Eine Initiative für die Wahrung von Menschenwürde und Selbstbestimmung im Alter und bei Krankheit“\, ausgehend von der Frage: „ \nWie kann das Selbstbestimmungsrecht im Alter und bei Krankheit – also in schwierigen Lebensphasen – erhalten werden?“. \nDie Esslinger Initiative … \n\nsetzt sich ein für einen menschenwürdigen Umgang mit Schwerstkranken und Sterbenden\nfördert die Verbesserung der medizinischen und pflegerischen Versorgung Schwerstkranker und Sterbender (Palliative Care)\ntritt ein für die Wahrung des Selbstbestimmungsrechts im Gesundheitswesen und in der Altenpflege\nwirbt für ihre Anliegen in öffentlichen Veranstaltungen\nbietet Beratungen zur Vorsorge an\nstellt Formulare zur Vorsorge zur Verfügung\nschult Ehrenamtliche zu kompetenten Beraterinnen und Beratern und bildet diese regelmäßig weiter\nunterstützt die Durchsetzung einer vorsorgenden Gesundheitsplanung (ACP)\n\n  \nDas besondere Angebot der Esslinger Initiative ist eine kostenlose und unabhängige Beratung zur Vorsorge\, abgestimmt auf die ganz persönliche Situation. Beratungsstellen im gesamten Landkreis Esslingen und darüber hinaus bieten diese Hilfe an.\nDas Ende geht alle an – ein Angebot an alle über 18!
URL:https://wandelstadt-esslingen.de/event/beratung-esslinger-initiative-bitte-vorab-anmelden/2025-03-14/
LOCATION:Forum Esslingen – Zentrum für Bürgerengagement\, Schelztorstraße 38\, Esslingen\, Deutschland
ORGANIZER;CN="Esslinger Initiative e.V.":MAILTO:news@esslinger-initiative.de
END:VEVENT
BEGIN:VEVENT
DTSTART;TZID=Europe/Berlin:20250314T193000
DTEND;TZID=Europe/Berlin:20250314T213000
DTSTAMP:20260422T161811
CREATED:20241204T050553Z
LAST-MODIFIED:20241224T100654Z
UID:10004463-1741980600-1741987800@wandelstadt-esslingen.de
SUMMARY:Lebenslust als natürliches Lebensgefühl? Fühl mal drüber nach!
DESCRIPTION:Kinder finden es von Natur aus außerordentlich fantastisch lebendig zu sein! Probleme sind für sie interessante Herausforderungen\, die sie mit viel Einfallsreichtum lösen. Mit anderen in Kontakt zu gehen\, ist ihnen eine Freude. In diesem Workshop gehen wir auf die innere Forschungsreise zu der Quelle unseres ursprünglichen Menschseins. Dahin\, wo unsere enorme Intelligenz\, unsere begeisterte Lebensfreude und unser Bedürfnis nach liebevollen Beziehungen verborgen ist. Dafür erlernen wir die Technik des Zuhör-Austauschs („Deep talk“ statt „small talk“). Das kann bewegend und berührend werden – Lebendigkeit pur! Referentin: Angelina Haug\, Coaching bei Paar- und Lebenskrisen \n  \n\n\n  \n\n\n\nAnmeldung zur Veranstaltung\n Ihr Name\n \n \n Ihre E-Mail-Adresse\n \n \nHiermit bestätige ich\, dass ich die  Datenschutzerklärung der Wandelstadt Esslingen gelesen habe und der Verarbeitung meiner persönlichen Daten zustimme.\n \nIch möchte die Wandelpost\, unseren monatlichen Newsletter\, abonnieren.
URL:https://wandelstadt-esslingen.de/event/lebenslust-als-natuerliches-lebensgefuehl-fuehl-mal-drueber-nach/
LOCATION:Forum Esslingen – Zentrum für Bürgerengagement\, Schelztorstraße 38\, Esslingen\, Deutschland
ATTACH;FMTTYPE=image/jpeg:https://wandelstadt-esslingen.de/wp-content/uploads/2024/12/Foto-fuer-Frauenwochen-VA-scaled.jpg
ORGANIZER;CN="Wandelstadt Esslingen":MAILTO:info@wandelstadt-esslingen.de
END:VEVENT
END:VCALENDAR