BEGIN:VCALENDAR
VERSION:2.0
PRODID:-//Wandelstadt Esslingen - ECPv6.15.20//NONSGML v1.0//EN
CALSCALE:GREGORIAN
METHOD:PUBLISH
X-WR-CALNAME:Wandelstadt Esslingen
X-ORIGINAL-URL:https://wandelstadt-esslingen.de
X-WR-CALDESC:Veranstaltungen für Wandelstadt Esslingen
REFRESH-INTERVAL;VALUE=DURATION:PT1H
X-Robots-Tag:noindex
X-PUBLISHED-TTL:PT1H
BEGIN:VTIMEZONE
TZID:Europe/Berlin
BEGIN:DAYLIGHT
TZOFFSETFROM:+0100
TZOFFSETTO:+0200
TZNAME:CEST
DTSTART:20240331T010000
END:DAYLIGHT
BEGIN:STANDARD
TZOFFSETFROM:+0200
TZOFFSETTO:+0100
TZNAME:CET
DTSTART:20241027T010000
END:STANDARD
BEGIN:DAYLIGHT
TZOFFSETFROM:+0100
TZOFFSETTO:+0200
TZNAME:CEST
DTSTART:20250330T010000
END:DAYLIGHT
BEGIN:STANDARD
TZOFFSETFROM:+0200
TZOFFSETTO:+0100
TZNAME:CET
DTSTART:20251026T010000
END:STANDARD
BEGIN:DAYLIGHT
TZOFFSETFROM:+0100
TZOFFSETTO:+0200
TZNAME:CEST
DTSTART:20260329T010000
END:DAYLIGHT
BEGIN:STANDARD
TZOFFSETFROM:+0200
TZOFFSETTO:+0100
TZNAME:CET
DTSTART:20261025T010000
END:STANDARD
END:VTIMEZONE
BEGIN:VEVENT
DTSTART;VALUE=DATE:20250305
DTEND;VALUE=DATE:20250318
DTSTAMP:20260422T160604
CREATED:20250222T203655Z
LAST-MODIFIED:20250222T203655Z
UID:10004827-1741132800-1742255999@wandelstadt-esslingen.de
SUMMARY:Alles Fake? Interaktive Ausstellung
DESCRIPTION:Der Landesfilmdienst lädt herzlich zu einer einzigartigen Ausstellung ein. In unseren Räumen erwarten dich interaktive Stationen\, an denen du die Möglichkeit hast\, die neuesten KI-Tools hautnah zu erleben und selbst kreativ zuwerden!\nDie Ausstellung bietet dir die Chance\, in die Welt der Medienproduktion einzutauchen und dabei die spannenden Möglichkeiten der künstlichen Intelligenz in den Bereichen Musik\, Sprache\, Bild und Video zu entdecken. \nHier ist eine kleine Vorschau\, der geplanten Stationen: \n•Face Swapper: Tausche dein Gesicht mit eineranderen Person in einem Video.\n•Virtuelle Realität: Tauche mit einer VR-Brillein eine immersive Welt ein.\n•Color Keying: Lass dich vor einem Greenscreenfilmen und werde Teil eines Filmplakats.\n•KI-Fotobearbeitung und -Bildgenerator: Entdeckedie Möglichkeiten in der Bildbearbeitung und erschaffe neueKunstwerke.\n•KI-Musikgenerator und -Sprache: KomponiereMusik oder lasse deine Worte von einer KI-Stimme wiedergeben.\n•Datenschutz und Fake or No Fake: Setze dich mitwichtigen Themen wie Cyber-Mobbing und Fälschungen auseinanderund lerne\, wie du dich schützen kannst. \n\n\n\n\n\n\n\nPreis \nEintritt frei.
URL:https://wandelstadt-esslingen.de/event/alles-fake-interaktive-ausstellung/
LOCATION:Landesfilmdienst Baden-Württemberg e.V.\, Neckarstraße 53\, Esslingen\, 73728\, Deutschland
CATEGORIES:Kulturveranstaltung
END:VEVENT
BEGIN:VEVENT
DTSTART;TZID=Europe/Berlin:20250312T173000
DTEND;TZID=Europe/Berlin:20250312T203000
DTSTAMP:20260422T160604
CREATED:20250223T073126Z
LAST-MODIFIED:20250309T182929Z
UID:10004846-1741800600-1741811400@wandelstadt-esslingen.de
SUMMARY:Klimaschutz kann Jede:r
DESCRIPTION:Wie Klimaschutz und Nachhaltigkeit leicht in den Alltag integriert werden können. \nDer Klimawandel und Maßnahmen dazu sind in aller Munde. Das Thema kann für den Einen oder die Andere auch überfordernd sein. Nachhaltigkeit sowie Ressourcenschonung „runter zu brechen“ und in Alltagssituationen konkret einzubauen\, das ist das Ziel dieser Veranstaltung. \nAuch kulinarisch wird es spannend werden! Es werden leckere „Probiererle“ serviert\, die ein Beispiel für eine nachhaltige Verpflegung für jeden Tag\, aber auch für kleine Familientreffen o.ä. darlegen sollen. \nWir gehen gemeinsam folgenden Fragen nach: \nWie können wir unser Leben ohne größeren Aufwand klimafreundlich(er) und nachhaltig(er) gestalten? \nWie vermeide ich Müll? \nWelche kleinen Änderungen in meinen Gewohnheiten helfen mir dabei? \nWie kann ich nachhaltig\, gesund und lecker essen? \nKlimaschutz und Nachhaltigkeit mit viel Spaß & Freude! Conny Mangold und Sven Teufel von ZuZule unterstützen Sie gerne dabei und führen Sie durch den Abend. \nZuZule – Zusammen Zukunft leben ist eine gemeinnützige Organisation aus Esslingen\, die es sich zur Aufgabe gemacht hat\, Projekte und Räume zu schaffen\, bei denen gemeinsam Ansätze und Lösungen für eine nachhaltige und lebenswerte Zukunft für Mensch\, Tier und Umwelt gefunden werden. \nwww.zuzule.net
URL:https://wandelstadt-esslingen.de/event/klimaschutz-kann-jeder-2/
LOCATION:Volkshochschule\, Mettinger Straße 125\, Esslingen am Neckar\, 73728\, Deutschland
ORGANIZER;CN="ZuZule":MAILTO:zuzule@mail.de
END:VEVENT
BEGIN:VEVENT
DTSTART;TZID=Europe/Berlin:20250312T180000
DTEND;TZID=Europe/Berlin:20250312T210000
DTSTAMP:20260422T160604
CREATED:20240628T154510Z
LAST-MODIFIED:20251125T194322Z
UID:10003091-1741802400-1741813200@wandelstadt-esslingen.de
SUMMARY:Kunststoff-Lab
DESCRIPTION:Positiv gegen Kunststoffverschmutzung \nAn einen Alltag ohne Kunststoffe ist nicht mehr zu denken. Das Material hat nach wie vor wertvolle Eigenschaften\, die wir nach dem “Precious-Plastic-Modell“ in einer kleinen Kunststoffrecycling- Manufaktur einsetzen. “Precious-Plastic“ ist ein internationales Projekt. 2012 in den Niederlanden gestartet\, besteht mittlerweile aus einem globalen Netzwerk von Workspaces. Das Komma in Esslingen ist mit dem @preciousplastic_esslingen Teil dieser Bewegung. 2021 bauten wir unsere Werkstatt mit Maschinen zur Plastikverarbeitung auf. Der Mehrwert des Projektes ist es\, die Möglichkeiten und Grenzen des „Selber-Machens“ selbst zu erfahren\, und zwar in einem für die Kreativität und Empowerment sicheren Ort. \nAus Abfall entsteht ein neuer Rohstoff\, aus dem du eigene Werkstücke wie z. B. kleine Möbel\, Lampen\, Taschen und Schmuck kreieren kannst. Schau dir hier an\, was wir 2023 in der Workshopreihe gemacht haben. \nMit und für junge Menschen: Wir können uns nicht mehr anhören\, wie schlecht die Klimakrise ist. Wir wollen was dagegen machen! Was würdest du daraus machen? \n  \nOffene Kunststoffwerkstatt \nAb Mai 2024 steht immer Mittwochs die offene Kunstwerkstatt für die Einführung in die „Precious-Plastic-Welt“\, die Kunststoffverarbeitung und Materialexperimente zur Verfügung. Plastik wird sortiert\, geschreddert und eingeschmolzen. \nHast du es zum letzten Workshop nicht geschafft und wolltest dir immer Schmuck selber machen? Oder einfach mal mehr über die Kunststoffwerkstatt wissen? Oder hast du sogar ein eigenes Projekt im Kopf\, das du mit Kunststoffplatten versuchen möchtest? Dann ist die offene Werkstatt genau richtig für dich. \nSolltest du es unter der Woche nicht schaffen\, gibt es ab Juni 2024 auch immer am  1. Samstag im Monat die offene Werkstatt. Die Nutzung der Werkstatt ist kostenlos. An den genannten Terminen kannst du ohne Anmeldung teilnehmen.  Ausnahmen aufgrund von Komma Veranstaltungen werden über die Internetseite des Mittwochs geteilt. \nMaterial falls nicht selbst gesammelt\, ist auf Spendenbasis verfügbar\, solange Vorrat reicht. Hier findest du ein How-to-collect\, damit du schauen kannst\, was wir in der Werkstatt grundsätzlich verwenden können. \nEinführungen in die Precious-Plastic-Welt sind auf Deutsch\, Englisch und Spanisch möglich. Hast du noch Fragen? Schreib uns gerne eine Nachricht an plastic@komma.info oder komm einfach vorbei! \nDie Teilnahme ist kostenlos\, wir bitten um Anmeldung per Mail an plastic@komma.info. \nKollabs und Netzwerk \nGroßes Potenzial liegt in unserer interdisziplinären Zusammenarbeit – sowohl im Komma-Team als auch in Kooperationen. Wir arbeiten mit Schulen\, Hochschulen\, Designer*innen\, Initiativen\, Werkstätten und andere Precious Plastics Gruppen auf der Welt zusammen. Hast du eine Idee zu einer Kollaboration? Schreib uns gerne an plastic@komma.info. \nFunfäct \n„The Bänk“\, unser erstes Projekt\, hat es in die Endrunde der RoGUILTLESSPLASTIC Awards geschafft und wurde bei der Mailänder Designwoche (Juni 2022) ausgestellt. Wie das gebaut wurde\, findest du im Video. \nTagesaktuelle Informationen und Workshop-Angebote finden sich auf Instagram @preciousplastic_esslingen \n 
URL:https://wandelstadt-esslingen.de/event/https-www-komma-info-precious-plastic/2025-03-12/
LOCATION:KOMMA\, Maille 5-9\, Esslingen\, Deutschland
END:VEVENT
BEGIN:VEVENT
DTSTART;TZID=Europe/Berlin:20250312T193000
DTEND;TZID=Europe/Berlin:20250312T210000
DTSTAMP:20260422T160604
CREATED:20240206T112222Z
LAST-MODIFIED:20240206T113330Z
UID:10001949-1741807800-1741813200@wandelstadt-esslingen.de
SUMMARY:ES GRÜNT!
DESCRIPTION:Esslingen: eine Stadt kühlt grün\nGlobal denken und regional handeln\, das ist unser Leitspruch. \nKomm gerne vorbei und schreib uns eine Mail an mitmachen@es-gruent.de\, damit wir dir den Ort mitteilen können.
URL:https://wandelstadt-esslingen.de/event/es-gruent-3/2025-03-12/
ATTACH;FMTTYPE=image/jpeg:https://wandelstadt-esslingen.de/wp-content/uploads/2022/10/giesspaten_Natalia_Rak_Girl_with_water_can_Bialystok.jpg
ORGANIZER;CN="ES gr%C3%BCnt":MAILTO:mitmachen@es-gruent.de
END:VEVENT
END:VCALENDAR