BEGIN:VCALENDAR
VERSION:2.0
PRODID:-//Wandelstadt Esslingen - ECPv6.15.20//NONSGML v1.0//EN
CALSCALE:GREGORIAN
METHOD:PUBLISH
X-WR-CALNAME:Wandelstadt Esslingen
X-ORIGINAL-URL:https://wandelstadt-esslingen.de
X-WR-CALDESC:Veranstaltungen für Wandelstadt Esslingen
REFRESH-INTERVAL;VALUE=DURATION:PT1H
X-Robots-Tag:noindex
X-PUBLISHED-TTL:PT1H
BEGIN:VTIMEZONE
TZID:Europe/Berlin
BEGIN:DAYLIGHT
TZOFFSETFROM:+0100
TZOFFSETTO:+0200
TZNAME:CEST
DTSTART:20240331T010000
END:DAYLIGHT
BEGIN:STANDARD
TZOFFSETFROM:+0200
TZOFFSETTO:+0100
TZNAME:CET
DTSTART:20241027T010000
END:STANDARD
BEGIN:DAYLIGHT
TZOFFSETFROM:+0100
TZOFFSETTO:+0200
TZNAME:CEST
DTSTART:20250330T010000
END:DAYLIGHT
BEGIN:STANDARD
TZOFFSETFROM:+0200
TZOFFSETTO:+0100
TZNAME:CET
DTSTART:20251026T010000
END:STANDARD
BEGIN:DAYLIGHT
TZOFFSETFROM:+0100
TZOFFSETTO:+0200
TZNAME:CEST
DTSTART:20260329T010000
END:DAYLIGHT
BEGIN:STANDARD
TZOFFSETFROM:+0200
TZOFFSETTO:+0100
TZNAME:CET
DTSTART:20261025T010000
END:STANDARD
END:VTIMEZONE
BEGIN:VEVENT
DTSTART;VALUE=DATE:20250305
DTEND;VALUE=DATE:20250318
DTSTAMP:20260422T161716
CREATED:20250222T203655Z
LAST-MODIFIED:20250222T203655Z
UID:10004827-1741132800-1742255999@wandelstadt-esslingen.de
SUMMARY:Alles Fake? Interaktive Ausstellung
DESCRIPTION:Der Landesfilmdienst lädt herzlich zu einer einzigartigen Ausstellung ein. In unseren Räumen erwarten dich interaktive Stationen\, an denen du die Möglichkeit hast\, die neuesten KI-Tools hautnah zu erleben und selbst kreativ zuwerden!\nDie Ausstellung bietet dir die Chance\, in die Welt der Medienproduktion einzutauchen und dabei die spannenden Möglichkeiten der künstlichen Intelligenz in den Bereichen Musik\, Sprache\, Bild und Video zu entdecken. \nHier ist eine kleine Vorschau\, der geplanten Stationen: \n•Face Swapper: Tausche dein Gesicht mit eineranderen Person in einem Video.\n•Virtuelle Realität: Tauche mit einer VR-Brillein eine immersive Welt ein.\n•Color Keying: Lass dich vor einem Greenscreenfilmen und werde Teil eines Filmplakats.\n•KI-Fotobearbeitung und -Bildgenerator: Entdeckedie Möglichkeiten in der Bildbearbeitung und erschaffe neueKunstwerke.\n•KI-Musikgenerator und -Sprache: KomponiereMusik oder lasse deine Worte von einer KI-Stimme wiedergeben.\n•Datenschutz und Fake or No Fake: Setze dich mitwichtigen Themen wie Cyber-Mobbing und Fälschungen auseinanderund lerne\, wie du dich schützen kannst. \n\n\n\n\n\n\n\nPreis \nEintritt frei.
URL:https://wandelstadt-esslingen.de/event/alles-fake-interaktive-ausstellung/
LOCATION:Landesfilmdienst Baden-Württemberg e.V.\, Neckarstraße 53\, Esslingen\, 73728\, Deutschland
CATEGORIES:Kulturveranstaltung
END:VEVENT
BEGIN:VEVENT
DTSTART;TZID=Europe/Berlin:20250309T110000
DTEND;TZID=Europe/Berlin:20250309T140000
DTSTAMP:20260422T161716
CREATED:20250228T190413Z
LAST-MODIFIED:20250228T190440Z
UID:10004916-1741518000-1741528800@wandelstadt-esslingen.de
SUMMARY:Veganer Mitbringbrunch mit Vortrag
DESCRIPTION:Unser Brunch findet am Sonntag im Bürgerhaus in der Pliensauvorstadt statt. Beginn ist um 11.00 Uhr\, Einlass ab 10.30 Uhr. Jeder Gast bringt ein veganes Gericht mit und schlemmt sich durch die mitgebrachten Gerichte der anderen Gäste. Getränke und Brot stellen wir kostenlos zur Verfügung\, eine Teilnahmegebühr wird nicht erhoben – Spenden sind natürlich gern gesehen. Eine Anmeldung ist nicht erforderlich. Der Brunch endet gegen 14.00 Uhr. \nBitte melde dich bei Fragen unter esslingen@ariwa.org. \nVortrag \nBei jedem Brunch wird es einen besonderen Gast geben\, der/die uns zu den Themen Veganismus\, Tierrecht\, Umweltschutz oder/und Nachhaltigkeit neue Denkanstöße gibt. Im März 2025 kommt Sonia von Foodsharing Esslingen zu uns mit dem Thema „Foodsharing: Verwenden statt verschwenden“. \nWas bedeutet vegan? \nVegan heißt frei von allen tierischen Produkten\, also auch Honig\, Joghurt\, Sahne\, tierfetthaltiger Margarine usw.\, wenn du unsicher bist\, melde dich bei uns unter esslingen@ariwa.org. Da auch Kinder bei dem Brunch dabei sind\, bitten wir auf alkoholische Bestandteile zu verzichten.
URL:https://wandelstadt-esslingen.de/event/veganer-mitbringbrunch-mit-vortrag-5/
LOCATION:Bürgerhaus Pliensauvorstadt\, Weilstraße 8\, Esslingen\, 73734
ORGANIZER;CN="ARIWA - Ortsgruppe Esslingen":MAILTO:esslingen@ariwa.org
END:VEVENT
BEGIN:VEVENT
DTSTART;TZID=Europe/Berlin:20250309T160000
DTEND;TZID=Europe/Berlin:20250309T191500
DTSTAMP:20260422T161716
CREATED:20250223T072720Z
LAST-MODIFIED:20250223T072720Z
UID:10004844-1741536000-1741547700@wandelstadt-esslingen.de
SUMMARY:Vegane Ernährung - Mythen\, Vorteile und Risiken (Online-Vortrag)
DESCRIPTION:In diesem kurzweiligen Vortrag werden einige klassische Vorurteile über die rein pflanzliche Ernährung auf wissenschaftlicher Basis beleuchtet und Vorteile den möglichen Risiken gegenübergestellt. Darüber hinaus werden die klassischen Fragen beantwortet\, die immer wieder gestellt werden\, z.B.: Woher bekomme ich mein Protein? Brauche ich Nahrungsergänzungsmittel? Ist eine vegane Ernährung sinnvoll? Außerdem werden hilfreiche Tipps zur praktischen Umsetzung gegeben und Alternativen zu tierischen Produkten beim Kochen und Backen aufgezeigt.
URL:https://wandelstadt-esslingen.de/event/vegane-ernaehrung-mythen-vorteile-und-risiken-online-vortrag/
LOCATION:online
ORGANIZER;CN="Volkshochschule Esslingen":MAILTO:info@vhs-esslingen.de
END:VEVENT
END:VCALENDAR