BEGIN:VCALENDAR
VERSION:2.0
PRODID:-//Wandelstadt Esslingen - ECPv6.15.20//NONSGML v1.0//EN
CALSCALE:GREGORIAN
METHOD:PUBLISH
X-ORIGINAL-URL:https://wandelstadt-esslingen.de
X-WR-CALDESC:Veranstaltungen für Wandelstadt Esslingen
REFRESH-INTERVAL;VALUE=DURATION:PT1H
X-Robots-Tag:noindex
X-PUBLISHED-TTL:PT1H
BEGIN:VTIMEZONE
TZID:Europe/Berlin
BEGIN:DAYLIGHT
TZOFFSETFROM:+0100
TZOFFSETTO:+0200
TZNAME:CEST
DTSTART:20240331T010000
END:DAYLIGHT
BEGIN:STANDARD
TZOFFSETFROM:+0200
TZOFFSETTO:+0100
TZNAME:CET
DTSTART:20241027T010000
END:STANDARD
BEGIN:DAYLIGHT
TZOFFSETFROM:+0100
TZOFFSETTO:+0200
TZNAME:CEST
DTSTART:20250330T010000
END:DAYLIGHT
BEGIN:STANDARD
TZOFFSETFROM:+0200
TZOFFSETTO:+0100
TZNAME:CET
DTSTART:20251026T010000
END:STANDARD
BEGIN:DAYLIGHT
TZOFFSETFROM:+0100
TZOFFSETTO:+0200
TZNAME:CEST
DTSTART:20260329T010000
END:DAYLIGHT
BEGIN:STANDARD
TZOFFSETFROM:+0200
TZOFFSETTO:+0100
TZNAME:CET
DTSTART:20261025T010000
END:STANDARD
END:VTIMEZONE
BEGIN:VEVENT
DTSTART;TZID=Europe/Berlin:20250207T140000
DTEND;TZID=Europe/Berlin:20250207T160000
DTSTAMP:20260422T180429
CREATED:20240208T160917Z
LAST-MODIFIED:20250424T162425Z
UID:10002511-1738936800-1738944000@wandelstadt-esslingen.de
SUMMARY:Beratung Esslinger Initiative
DESCRIPTION:Das Leben vom guten Ende her denken.\n\n\n\n\n\n\n\n\n\n\n\n\n\n\n\n\n\n\n\n\nFreitags 14 bis 16 Uhr kostenlose Beratungen der Esslinger Initiative e.V.\nAnmeldung; Fr 9-11 Uhr über Tel. 0711/357420 \nJa das ist unangenehm\, wo doch jetzt Leben dran ist. Scheint doch auch logisch zu sein es so anzugehen wie Heinz Erhardt seine Gedichte anfing „Ich fang mal mit dem Anfang an“.\n„Das Leben vom guten Ende her denken“ ist quasi das Motto der Esslinger Initiative um die es hier heute geht. Sie selbst bezeichnet sich als \n„Eine Initiative für die Wahrung von Menschenwürde und Selbstbestimmung im Alter und bei Krankheit“\, ausgehend von der Frage: „ \nWie kann das Selbstbestimmungsrecht im Alter und bei Krankheit – also in schwierigen Lebensphasen – erhalten werden?“. \nDie Esslinger Initiative … \n\nsetzt sich ein für einen menschenwürdigen Umgang mit Schwerstkranken und Sterbenden\nfördert die Verbesserung der medizinischen und pflegerischen Versorgung Schwerstkranker und Sterbender (Palliative Care)\ntritt ein für die Wahrung des Selbstbestimmungsrechts im Gesundheitswesen und in der Altenpflege\nwirbt für ihre Anliegen in öffentlichen Veranstaltungen\nbietet Beratungen zur Vorsorge an\nstellt Formulare zur Vorsorge zur Verfügung\nschult Ehrenamtliche zu kompetenten Beraterinnen und Beratern und bildet diese regelmäßig weiter\nunterstützt die Durchsetzung einer vorsorgenden Gesundheitsplanung (ACP)\n\n  \nDas besondere Angebot der Esslinger Initiative ist eine kostenlose und unabhängige Beratung zur Vorsorge\, abgestimmt auf die ganz persönliche Situation. Beratungsstellen im gesamten Landkreis Esslingen und darüber hinaus bieten diese Hilfe an.\nDas Ende geht alle an – ein Angebot an alle über 18!
URL:https://wandelstadt-esslingen.de/event/beratung-esslinger-initiative-bitte-vorab-anmelden/2025-02-07/
LOCATION:Forum Esslingen – Zentrum für Bürgerengagement\, Schelztorstraße 38\, Esslingen\, Deutschland
ORGANIZER;CN="Esslinger Initiative e.V.":MAILTO:news@esslinger-initiative.de
END:VEVENT
BEGIN:VEVENT
DTSTART;TZID=Europe/Berlin:20250207T193000
DTEND;TZID=Europe/Berlin:20250207T220000
DTSTAMP:20260422T180429
CREATED:20250124T215726Z
LAST-MODIFIED:20250124T215726Z
UID:10004558-1738956600-1738965600@wandelstadt-esslingen.de
SUMMARY:Die Grube (Uraufführung)
DESCRIPTION:2010\, als der Ort Garzweiler schon lange dem Tagebau zum Opfer gefallen ist\, bekommt Lale die Nachricht\, dass ihr verschwundener Bruder Simon für tot erklärt werden soll. Er gilt als verschollen\, doch sie weiß\, wie er vor 18 Jahren starb. Allerdings ist sie mit diesem Wissen nicht allein in Borschemich\, einem alten Dorf\, das bald wie Garzweiler ebenfalls von der Grube\, dem Braunkohletagebau Garzweiler II\, geschluckt werden soll. Sie will über Simons Ende sprechen\, davon erzählen\, was wirklich passiert ist\, erzählen vom Hof der Familie\, der Familie selbst und ihrem Bruder\, der die Zerstörung des Familienhofs nicht verhindern konnte\, erzählen von dem Gebiet\, das Heimat für zigtausende Menschen war\, erzählen von der hemmungslosen Macht der Konzerne und der ihnen dienenden Politik\, vom Widerstand im Kleinen und der Ergebung im Großen. \nÜber 20 Jahre schrieb Ingrid Bachér an ihrem 2009 veröffentlichten Roman über das Schicksal der Menschen im Braunkohletagebau-Revier. Nicht erst seit den Protesten in Lützerath 2023 ist die Geschichte von Ingrid Bachér hochaktuell und brisant. Denn der Umgang mit den Dörfern im Tagebau-Revier erzählt mehr über uns\, unsere Art zu leben und zu wirtschaften\, als uns lieb sein mag. \n\n\nnach dem gleichnamigen Buch von Ingrid Bachér\nBühnenfassung von Ingrid Bachér und Mirjam Neidhart
URL:https://wandelstadt-esslingen.de/event/die-grube-urauffuehrung/
LOCATION:Württembergische Landesbühne – Schauspielhaus mit Podium 1 & 2\, Ritterstraße 11\, Esslingen\, Deutschland
CATEGORIES:Kulturveranstaltung
END:VEVENT
END:VCALENDAR