BEGIN:VCALENDAR
VERSION:2.0
PRODID:-//Wandelstadt Esslingen - ECPv6.15.20//NONSGML v1.0//EN
CALSCALE:GREGORIAN
METHOD:PUBLISH
X-WR-CALNAME:Wandelstadt Esslingen
X-ORIGINAL-URL:https://wandelstadt-esslingen.de
X-WR-CALDESC:Veranstaltungen für Wandelstadt Esslingen
REFRESH-INTERVAL;VALUE=DURATION:PT1H
X-Robots-Tag:noindex
X-PUBLISHED-TTL:PT1H
BEGIN:VTIMEZONE
TZID:Europe/Berlin
BEGIN:DAYLIGHT
TZOFFSETFROM:+0100
TZOFFSETTO:+0200
TZNAME:CEST
DTSTART:20240331T010000
END:DAYLIGHT
BEGIN:STANDARD
TZOFFSETFROM:+0200
TZOFFSETTO:+0100
TZNAME:CET
DTSTART:20241027T010000
END:STANDARD
BEGIN:DAYLIGHT
TZOFFSETFROM:+0100
TZOFFSETTO:+0200
TZNAME:CEST
DTSTART:20250330T010000
END:DAYLIGHT
BEGIN:STANDARD
TZOFFSETFROM:+0200
TZOFFSETTO:+0100
TZNAME:CET
DTSTART:20251026T010000
END:STANDARD
BEGIN:DAYLIGHT
TZOFFSETFROM:+0100
TZOFFSETTO:+0200
TZNAME:CEST
DTSTART:20260329T010000
END:DAYLIGHT
BEGIN:STANDARD
TZOFFSETFROM:+0200
TZOFFSETTO:+0100
TZNAME:CET
DTSTART:20261025T010000
END:STANDARD
END:VTIMEZONE
BEGIN:VEVENT
DTSTART;TZID=Europe/Berlin:20250128T000000
DTEND;TZID=Europe/Berlin:20250128T235959
DTSTAMP:20260422T161721
CREATED:20241225T181159Z
LAST-MODIFIED:20250830T185824Z
UID:10004516-1738022400-1738108799@wandelstadt-esslingen.de
SUMMARY:Sprechstunde für Bürgerinnen und Bürger bei Herrn Erster Bürgermeister Ingo Rust
DESCRIPTION:Herr Erster Bürgermeister Rust leitet das Dezernat für Finanzen\, Digitalisierung\, Klinikum und Öffentlichen Nahverkehr. \nWenn Sie also Anregungen\, Lob oder Kritik in den Bereichen… \n\n…städtischer Haushalt\,\n…städtische Steuern\,\n…Digitalisierung städtischer Einrichtungen\,\n…das Klinikum Esslingen\, \n…den Busverkehr in Esslingen oder \n…die städtischen Veranstaltungsstätten haben\, \n\n\nmelden Sie sich gerne zur Sprechstunde für Bürgerinnen und Bürger an. \nNeues Rathaus\n1. Stock\, Zimmer 113
URL:https://wandelstadt-esslingen.de/event/sprechstunde-fuer-buergerinnen-und-buerger-bei-herrn-erster-buergermeister-ingo-rust/2025-01-28/
LOCATION:Neues Rathaus\, Rathausplatz 2\, Esslingen am Neckar\, 73728
CATEGORIES:Beteiligung,Vernetzungsveranstaltung
END:VEVENT
BEGIN:VEVENT
DTSTART;TZID=Europe/Berlin:20250128T120000
DTEND;TZID=Europe/Berlin:20250128T120000
DTSTAMP:20260422T161721
CREATED:20241224T103125Z
LAST-MODIFIED:20241224T103156Z
UID:10004514-1738065600-1738065600@wandelstadt-esslingen.de
SUMMARY:Hol dir die Sonne ans Haus – Solarstrom von Balkon und Terrasse
DESCRIPTION:Kostenlose Online-Vorträge \nIn Kooperation mit der Verbraucherzentrale-Energieberatung bietet die Klimaschutzagentur des Landkreises Esslingen auch im Jahr 2025 Wohneigentumsbesitzer*innen und Mieter*innen kostenfreie Beratungen und Informationen zu den Themen energieeffiziente Gebäudemodernisierung\, Heizungsoptimierung und Heizungstausch\, Solarenergie sowie Stromsparen im Haushalt an. \nIn kostenfreien Online-Vorträgen bietet die Energieberatung der Verbraucherzentrale Baden-Württemberg einen Rundumblick über interessante Themen. Die Anmeldung und weitere Informationen finden Sie unter: \nhttps://www.verbraucherzentrale-bawue.de/energie/onlineseminare-der-energieberatung-59522
URL:https://wandelstadt-esslingen.de/event/hol-dir-die-sonne-ans-haus-solarstrom-von-balkon-und-terrasse/
ORGANIZER;CN="Klimaschutzagentur des Landkreises Esslingen gGmbH":MAILTO:info@ksa-es.de
END:VEVENT
BEGIN:VEVENT
DTSTART;TZID=Europe/Berlin:20250128T120000
DTEND;TZID=Europe/Berlin:20250128T120000
DTSTAMP:20260422T161721
CREATED:20241230T091929Z
LAST-MODIFIED:20241230T092135Z
UID:10004532-1738065600-1738065600@wandelstadt-esslingen.de
SUMMARY:Hol Dir die Sonne ins Haus - Solarstrom von Balkon und Terrasse
DESCRIPTION:Auch im Winter 2025 geben wir alles\, um die Energiewende voran zu treiben.\nIn unseren kostenfreien Online-Vorträgen bietet die Energieberatung der Verbraucherzentrale Baden-Württemberg einen Rundumblick über interessante Themen. Die Anmeldung und weitere Informationen finden Sie unter: https://www.verbraucherzentrale-bawue.de/energie/onlineseminare-der-energieberatung-59522 \n\nNeben den Online-Vorträgen bieten die Energieberatung der Verbraucherzentrale und die Kimaschutzagentur des Landkreises Esslingen individuelle Beratungen an. Sie findet zurzeit hauptsächlich online und telefonisch statt. Mehr Informationen gibt es auf verbraucherzentrale-energieberatung.de oder kostenfrei unter 0800 – 809 802 400 oder unter 0711 20 70 30 70
URL:https://wandelstadt-esslingen.de/event/geg-2024-informationen-zum-heizungstausch-4/
LOCATION:online
CATEGORIES:Infoveranstaltung
ORGANIZER;CN="Klimaschutzagentur des Landkreises Esslingen gGmbH":MAILTO:info@ksa-es.de
END:VEVENT
BEGIN:VEVENT
DTSTART;TZID=Europe/Berlin:20250128T191500
DTEND;TZID=Europe/Berlin:20250128T201500
DTSTAMP:20260422T161721
CREATED:20240520T091234Z
LAST-MODIFIED:20260106T174409Z
UID:10004484-1738091700-1738095300@wandelstadt-esslingen.de
SUMMARY:Inklusive Lachyoga-Gruppe
DESCRIPTION:Lachen ist nicht nur gesund\, sondern auch ansteckend. Und genau darum geht es bei Lachyoga. Gemeinsam lachen und sich gut fühlen\, Stress abbauen und entspannen. Zudem stärkt Lachen die Gesundheit. \n\n\n\n\n\nWann:\nDienstags von 19:15 – 20:15 Uhr\nEinstieg jederzeit möglich!\nKeine Anmeldung erforderlich.\n\n\n\nFür wen:\nFür (fast) jeden geeignet\, da Lachyoga keine schwierigen körperlichen Übungen beinhaltet.\n(siehe Details zur Barrierefreiheit)\n\n\nKursleitung:\nSusanne Klaus (Lachyoga Master Trainerin\, Stuttgarter Lachschule)\n\n\nKosten:\nkeine (freiwillige Spendenbasis)\n\n\nMitzubringen:\netwas zum Trinken
URL:https://wandelstadt-esslingen.de/event/inklusive-lachyoga-gruppe/2025-01-28/
LOCATION:Forum Esslingen – Zentrum für Bürgerengagement\, Schelztorstraße 38\, Esslingen\, Deutschland
ATTACH;FMTTYPE=image/jpeg:https://wandelstadt-esslingen.de/wp-content/uploads/2024/05/Lachyoga-Gruppe_Forum-Esslingen_16-9-scaled.jpg
ORGANIZER;CN="InklusivES - Der Esslinger Stammtisch zum Thema Inklusion":MAILTO:c.lira@inklusives.de
END:VEVENT
END:VCALENDAR