BEGIN:VCALENDAR
VERSION:2.0
PRODID:-//Wandelstadt Esslingen - ECPv6.15.20//NONSGML v1.0//EN
CALSCALE:GREGORIAN
METHOD:PUBLISH
X-WR-CALNAME:Wandelstadt Esslingen
X-ORIGINAL-URL:https://wandelstadt-esslingen.de
X-WR-CALDESC:Veranstaltungen für Wandelstadt Esslingen
REFRESH-INTERVAL;VALUE=DURATION:PT1H
X-Robots-Tag:noindex
X-PUBLISHED-TTL:PT1H
BEGIN:VTIMEZONE
TZID:Europe/Berlin
BEGIN:DAYLIGHT
TZOFFSETFROM:+0100
TZOFFSETTO:+0200
TZNAME:CEST
DTSTART:20240331T010000
END:DAYLIGHT
BEGIN:STANDARD
TZOFFSETFROM:+0200
TZOFFSETTO:+0100
TZNAME:CET
DTSTART:20241027T010000
END:STANDARD
BEGIN:DAYLIGHT
TZOFFSETFROM:+0100
TZOFFSETTO:+0200
TZNAME:CEST
DTSTART:20250330T010000
END:DAYLIGHT
BEGIN:STANDARD
TZOFFSETFROM:+0200
TZOFFSETTO:+0100
TZNAME:CET
DTSTART:20251026T010000
END:STANDARD
BEGIN:DAYLIGHT
TZOFFSETFROM:+0100
TZOFFSETTO:+0200
TZNAME:CEST
DTSTART:20260329T010000
END:DAYLIGHT
BEGIN:STANDARD
TZOFFSETFROM:+0200
TZOFFSETTO:+0100
TZNAME:CET
DTSTART:20261025T010000
END:STANDARD
END:VTIMEZONE
BEGIN:VEVENT
DTSTART;TZID=Europe/Berlin:20250109T100000
DTEND;TZID=Europe/Berlin:20250109T100000
DTSTAMP:20260422T200107
CREATED:20241224T102950Z
LAST-MODIFIED:20241224T103013Z
UID:10004513-1736416800-1736416800@wandelstadt-esslingen.de
SUMMARY:Nicht mehr ganz dicht? – Moderne Fenster und Türen
DESCRIPTION:Kostenlose Online-Vorträge \nAuch im Winter 2025 geben wir alles\, um die Energiewende voran zu treiben.\nIn unseren kostenfreien Online-Vorträgen bietet die Energieberatung der Verbraucherzentrale Baden-Württemberg einen Rundumblick über interessante Themen. Die Anmeldung und weitere Informationen finden Sie unter: https://www.verbraucherzentrale-bawue.de/energie/onlineseminare-der-energieberatung-59522 \n\nNeben den Online-Vorträgen bieten die Energieberatung der Verbraucherzentrale und die Kimaschutzagentur des Landkreises Esslingen individuelle Beratungen an. Sie findet zurzeit hauptsächlich online und telefonisch statt. Mehr Informationen gibt es auf verbraucherzentrale-energieberatung.de oder kostenfrei unter 0800 – 809 802 400 oder unter 0711 20 70 30 70
URL:https://wandelstadt-esslingen.de/event/nicht-mehr-ganz-dicht-moderne-fenster-und-tueren-2/
ORGANIZER;CN="Klimaschutzagentur des Landkreises Esslingen gGmbH":MAILTO:info@ksa-es.de
END:VEVENT
BEGIN:VEVENT
DTSTART;TZID=Europe/Berlin:20250109T140000
DTEND;TZID=Europe/Berlin:20250109T160000
DTSTAMP:20260422T200107
CREATED:20241230T153008Z
LAST-MODIFIED:20241230T153008Z
UID:10004534-1736431200-1736438400@wandelstadt-esslingen.de
SUMMARY:Papierkörbe flechten Teil 1 -Papierröllchen anfertigen-
DESCRIPTION:Wir wollen Papierkörbe o.ä. flechten\, doch hierfür benötigen wir erst einmal Papierröllchen\, die in Teil 2 des Workshops verarbeitet werden können. Sei von Grund auf dabei und lerne wie du die Röllchen herstellen kannst. Wir haben Zeitungspapier und alles an Material vor Ort\, du brauchst also nichts mitbringen. Keine Vorkenntnisse nötig\, kostenfrei und du kannst flexibel innerhalb der angegebenen Zeit dazustoßen. \n 
URL:https://wandelstadt-esslingen.de/event/papierkoerbe-flechten-teil-1-papierroellchen-anfertigen/2025-01-09/
LOCATION:eva’s Ottilie\, Ottilienplatz 3\, Esslingen\, 73728
ORGANIZER;CN="eva's Ottilie":MAILTO:evas-ottilie-es@eva-stuttgart.de
END:VEVENT
BEGIN:VEVENT
DTSTART;TZID=Europe/Berlin:20250109T180000
DTEND;TZID=Europe/Berlin:20250109T200000
DTSTAMP:20260422T200107
CREATED:20241018T105825Z
LAST-MODIFIED:20250506T065002Z
UID:10004315-1736445600-1736452800@wandelstadt-esslingen.de
SUMMARY:ReparaturCafé Zollberg
DESCRIPTION:ReparaturCafé – Gebrauchsgegenstände aller Art gemeinsam reparieren. \nDer Fön bleibt kalt? Die Hose hat ein Loch? Das Radio ist verstummt?\nDas Stuhlbein wackelt? Die CD springt? Der Mixer rührt sich nicht mehr? \nOb Kleidung\, Elektrogeräte oder andere Gebrauchsgegenstände – das ReparaturCafé bietet neben dem nötigen Werkzeug auch Materialien\, Tips und tatkräftige Hilfe um defekten Dingen aller Art ein zweites Leben einzuhauchen. Mit unseren freiwilligen Reparatur-Spezialistinnen und -Spezialisten ist die erste Hemmschwelle vor dem Ansetzen von Schraubendreher\, Lötkolben oder Schneiderschere schnell überwunden und schon bald folgt die Erkenntnis: Kaputt muss nicht das Ende sein\, und so kompliziert ist das Reparieren ja gar nicht! So lassen sich Rohstoffe\, Ressourcen und nicht zuletzt auch Geld sparen\, man hilft oder lässt sich helfen\, lernt immer etwas dazu\, trifft nette Menschen oder trinkt einfach nur einen Kaffee. Für die Leckereien an der Cafétheke kooperieren wir mit foodsharing Esslingen\, einer Freiwilligenorganisation die Lebensmittel vor dem Wegwerfen rettet. Die Teilnahme am ReparaturCafé ist übrigens kostenlos\, wir freuen uns aber selbstverständlich über Spenden.
URL:https://wandelstadt-esslingen.de/event/reparaturcafe-zollberg-3/2025-01-09/
LOCATION:Gartengeschoss des Ev. Pfarrhaus am Zollberg\, Neuffenstr. 16\, Esslingen\, 73734
ATTACH;FMTTYPE=image/jpeg:https://wandelstadt-esslingen.de/wp-content/uploads/2024/10/RC-Logo_nur_raeder_quadratisch.jpg
END:VEVENT
BEGIN:VEVENT
DTSTART;TZID=Europe/Berlin:20250109T190000
DTEND;TZID=Europe/Berlin:20250109T190000
DTSTAMP:20260422T200107
CREATED:20240628T160749Z
LAST-MODIFIED:20240629T175416Z
UID:10003591-1736449200-1736449200@wandelstadt-esslingen.de
SUMMARY:Fahrradwerkstatt
DESCRIPTION:Wir unterstützen Dich\, wenn Dein Fahrrad nicht mehr tut was es soll.\nFalls Ihr Interesse und Bedarf an unserer Fahrradwerkstatt habt\, meldet Euch per Mail: info@komma. \nVerantwortlich für die Werkstatt ist der Motorradclub Kuhle Wampe. Sie sind ein basisdemokratisch organisierter Motorradclub mit Sitz im Komma und sie betreiben eine Zweiradwerkstatt. Jeden Donnerstag ist die Fahrradwerkstatt geöffnet – bei gutem Wetter wird möglicherweise auch gegrillt.
URL:https://wandelstadt-esslingen.de/event/fahrrad-werkstatt/2025-01-09/
LOCATION:KOMMA\, Maille 5-9\, Esslingen\, Deutschland
END:VEVENT
END:VCALENDAR