BEGIN:VCALENDAR
VERSION:2.0
PRODID:-//Wandelstadt Esslingen - ECPv6.15.20//NONSGML v1.0//EN
CALSCALE:GREGORIAN
METHOD:PUBLISH
X-WR-CALNAME:Wandelstadt Esslingen
X-ORIGINAL-URL:https://wandelstadt-esslingen.de
X-WR-CALDESC:Veranstaltungen für Wandelstadt Esslingen
REFRESH-INTERVAL;VALUE=DURATION:PT1H
X-Robots-Tag:noindex
X-PUBLISHED-TTL:PT1H
BEGIN:VTIMEZONE
TZID:Europe/Berlin
BEGIN:DAYLIGHT
TZOFFSETFROM:+0100
TZOFFSETTO:+0200
TZNAME:CEST
DTSTART:20220327T010000
END:DAYLIGHT
BEGIN:STANDARD
TZOFFSETFROM:+0200
TZOFFSETTO:+0100
TZNAME:CET
DTSTART:20221030T010000
END:STANDARD
BEGIN:DAYLIGHT
TZOFFSETFROM:+0100
TZOFFSETTO:+0200
TZNAME:CEST
DTSTART:20230326T010000
END:DAYLIGHT
BEGIN:STANDARD
TZOFFSETFROM:+0200
TZOFFSETTO:+0100
TZNAME:CET
DTSTART:20231029T010000
END:STANDARD
BEGIN:DAYLIGHT
TZOFFSETFROM:+0100
TZOFFSETTO:+0200
TZNAME:CEST
DTSTART:20240331T010000
END:DAYLIGHT
BEGIN:STANDARD
TZOFFSETFROM:+0200
TZOFFSETTO:+0100
TZNAME:CET
DTSTART:20241027T010000
END:STANDARD
END:VTIMEZONE
BEGIN:VEVENT
DTSTART;TZID=Europe/Berlin:20231114T180000
DTEND;TZID=Europe/Berlin:20231114T203000
DTSTAMP:20260424T122111
CREATED:20231030T221035Z
LAST-MODIFIED:20231030T221035Z
UID:10002108-1699984800-1699993800@wandelstadt-esslingen.de
SUMMARY:Planspiel "Ankommen" - Dialoge und Perspektiven
DESCRIPTION:Ein Perspektivwechsel im Kontext Flucht und Asyl – ein interaktives Planspiel durchgeführt von Menschen mit Fluchterfahrung  \n\n\n\n\nWie ist es nach Deutschland zu flüchten?\nWie gestaltet sich das Ankommen?\nWelche Herausforderungen warten hier auf einen?\nWer ist alles beim Ankommen involviert?\n\n\n\n\nDas 2\,5 stündige Planspiel ermöglicht einem\, diese Fragestellungen zu durchlaufen. Es gibt über 30 unterschiedliche Rollen\, in die man schlüpfen kann. Das Spiel ist fiktiv\, ahmt aber ein realitätsnahes Szenario nach. Konzipiert und organisiert wird das Planspiel von dem Stuttgarter Verein Pyramidea e.V.. Das Planspiel wurde von Menschen mit Fluchterfahrung mitgestaltet\, mit dem Ziel ein empathisches Miteinander zu fördern. Am 14. November kommt das Planspiel nun nach Esslingen! Das Planspiel ist offen für alle Engagierte und Interessierte\, die Lust haben\, sich auf einen Perspektivwechsel einzulassen. Es braucht dazu keinerlei Vorkenntnisse. \n\n\n\n\nDienstag\, 14. November 2023\n18 – 20.30 Uhr\nMehrgenerationen- und Bürgerhaus Pliensauvorstadt (Saal)\nWeilstraße 8\, 73728 Esslingen\nReferent: : Benjamin Scholz zusammen mit ehrenamtlich Engagierten mit Fluchthintergrund\,\nPyramidea e.V. Stuttgart\nZahl der Teilnehmenden: max. 30 Personen\nAnmeldeschluss: Sonntag\, 30. Oktober 2023
URL:https://wandelstadt-esslingen.de/event/planspiel-ankommen-dialoge-und-perspektiven/
LOCATION:Bürgerhaus Pliensauvorstadt\, Weilstraße 8\, Esslingen\, 73734
END:VEVENT
BEGIN:VEVENT
DTSTART;TZID=Europe/Berlin:20231114T190000
DTEND;TZID=Europe/Berlin:20231114T220000
DTSTAMP:20260424T122111
CREATED:20231026T153807Z
LAST-MODIFIED:20231026T153807Z
UID:10002100-1699988400-1699999200@wandelstadt-esslingen.de
SUMMARY:Photovoltaik-Anlagen inkl. Speicher & Wallbox Interaktives Online-Seminar
DESCRIPTION:Für Inhaber eines Kulturpass Skonto ist eine Internetanmeldung aus technischen Gründen momentan leider noch nicht möglich. Bitte melden Sie sich tel. unter 0711 550210 oder Email info@vhs-esslingen.de zum Kurs an. \nWie bekomme ich vergleichbare Angebote für eine Photovoltaikanlage inkl. Speicher und Wallbox?\nUm eine Ausschreibung für eine PV-Anlage vergleichbar zu machen und zu einem fairen Preis zu kommen\, sind ein paar Punkte zu beachten.\nIn diesem interaktiven Seminar werden wir anhand des Daches eines/einer Teilnehmenden einige praktische Tools kennen lernen.\nFragen\, die beantwortet werden:\n– Welche Dachflächen sind geeignet?\n– Wie groß sollte die PV-Anlage sein?\n– Sollte ich einen Speicher und eine Wallbox mit beauftragen?\n– Wie hoch ist der Stromertrag\, Autarkiegrad\, Eigenverbrauch\, die Stromeinspeisung?\nJede:r Teilnehmende bekommt die Unterlagen\, um alles nachzuvollziehen.\nVoraussetzung für den Kurs: Die Teilnehmer:inne sollten an den Kursen „Balkonkraftwerke“ teilgenommen haben.
URL:https://wandelstadt-esslingen.de/event/photovoltaik-anlagen-inkl-speicher-wallbox-interaktives-online-seminar/
LOCATION:Volkshochschule\, Mettinger Straße 125\, Esslingen am Neckar\, 73728\, Deutschland
ORGANIZER;CN="Volkshochschule Esslingen":MAILTO:info@vhs-esslingen.de
END:VEVENT
END:VCALENDAR