BEGIN:VCALENDAR
VERSION:2.0
PRODID:-//Wandelstadt Esslingen - ECPv6.15.20//NONSGML v1.0//EN
CALSCALE:GREGORIAN
METHOD:PUBLISH
X-ORIGINAL-URL:https://wandelstadt-esslingen.de
X-WR-CALDESC:Veranstaltungen für Wandelstadt Esslingen
REFRESH-INTERVAL;VALUE=DURATION:PT1H
X-Robots-Tag:noindex
X-PUBLISHED-TTL:PT1H
BEGIN:VTIMEZONE
TZID:Europe/Berlin
BEGIN:DAYLIGHT
TZOFFSETFROM:+0100
TZOFFSETTO:+0200
TZNAME:CEST
DTSTART:20220327T010000
END:DAYLIGHT
BEGIN:STANDARD
TZOFFSETFROM:+0200
TZOFFSETTO:+0100
TZNAME:CET
DTSTART:20221030T010000
END:STANDARD
BEGIN:DAYLIGHT
TZOFFSETFROM:+0100
TZOFFSETTO:+0200
TZNAME:CEST
DTSTART:20230326T010000
END:DAYLIGHT
BEGIN:STANDARD
TZOFFSETFROM:+0200
TZOFFSETTO:+0100
TZNAME:CET
DTSTART:20231029T010000
END:STANDARD
BEGIN:DAYLIGHT
TZOFFSETFROM:+0100
TZOFFSETTO:+0200
TZNAME:CEST
DTSTART:20240331T010000
END:DAYLIGHT
BEGIN:STANDARD
TZOFFSETFROM:+0200
TZOFFSETTO:+0100
TZNAME:CET
DTSTART:20241027T010000
END:STANDARD
END:VTIMEZONE
BEGIN:VEVENT
DTSTART;VALUE=DATE:20230617
DTEND;VALUE=DATE:20230708
DTSTAMP:20260425T002418
CREATED:20230423T131921Z
LAST-MODIFIED:20230423T131921Z
UID:10001055-1686960000-1688774399@wandelstadt-esslingen.de
SUMMARY:Stadtradeln 2023
DESCRIPTION:Liebe Teilnehmerinnen und liebe Teilnehmer des STADTRADELN 2022\, \nauch in diesem Jahr wird die Stadt Esslingen wieder an der Klimaschutzkampagen STADTRADELN teilnehmen und vom 17.06.-7.07.2023 gemeinsam mit dem Landkreis in die Pedale treten. Auch einen Schulwettbewerb soll es wieder geben. Die Abschlussveranstaltung mit Siegerehrung findet am 25.07.2023 im Komma an der Maille statt. \nEine Anmeldung ist ab sofort möglich. Weitere Informationen folgen in den kommenden Wochen. \nWährend des gesamten STADTRADELN-Zeitraums können neue Teammitglieder und Teams angemeldet werden. \nIn der Ansicht ‚Mein Team‘ können Sie über den Button ‚Team gründen oder vergrößern‘ ganz einfach Freunde und Bekannte in Ihr Team einladen oder ein eigenes Unterteam gründen. Die Kilometer können mit der kostenlosen STADTRADELN-App erfasst oder online unter ‚Mein km-Buch‘ eingetragen werden. Radelnde ohne Internetzugang können ihre Kilometer handschriftlich in einen Erfassungsbogen eintragen; bitte melden Sie sich bei Bedarf bei uns. \nAuch können Sie während des STADTRADELN die Meldeplattform RADar! nutzen und uns auf störende und gefährliche Stellen auf Ihren Wegen aufmerksam machen. \nWir wünschen Ihnen viel Freude beim Radfahren! \nAuf der STADTRADELN-Webseite gibt es die Infos dazu\, dort könnt Ihr Euch auch registrieren und dem Team von Esslingen aufs Rad beitreten.
URL:https://wandelstadt-esslingen.de/event/stadtradeln-2023/
END:VEVENT
BEGIN:VEVENT
DTSTART;VALUE=DATE:20230618
DTEND;VALUE=DATE:20230619
DTSTAMP:20260425T002418
CREATED:20230515T145530Z
LAST-MODIFIED:20230515T145530Z
UID:10001142-1687046400-1687132799@wandelstadt-esslingen.de
SUMMARY:CSD: Esslingen is coming out!
DESCRIPTION:Ein coming out zu haben bedeutet\, „herauszukommen“\, offen zu zeigen\, dass man lesbisch\, schwul\, bi\, trans*\, inter* oder queer* ist. Also Ein Teil von LSBTIQ ist. Wer uns dieses Jahr bei den Veranstaltungen für unser coming out fördert\, könnt ihr unten nachlesen. \n\n\nAuch in Esslingen gibt es queeres Leben. Auch wir sind lesbisch\, schwul\, bi\, trans*\, inter* oder queer* und wir wollen es auf dem ersten Christopher Street Day Esslingens offen zeigen. Am 17. Juni werden wir auf den Straßen Esslingens für unsere Rechte demonstrieren\, auf dem Marktplatz eine Hocketse machen und am Abend im Komma feiern\, dass es uns gibt. Auch am 16.Juni und am 18 Juni gibt es Programm: \n11-13 Uhr Workshop-Phase 1\nAntihelden: Queerness intersektional gedacht \nBerTa:  „Beyond Boundaries- Queere Elternschaft und die Vielfalt von Familienmodellen“ \n14-16 Uhr Workshop-Phase 2\nQueerdenker*: „Archive of our voices“
URL:https://wandelstadt-esslingen.de/event/csd-esslingen-is-coming-out-3/
END:VEVENT
BEGIN:VEVENT
DTSTART;TZID=Europe/Berlin:20230618T160000
DTEND;TZID=Europe/Berlin:20230618T183000
DTSTAMP:20260425T002418
CREATED:20230522T153921Z
LAST-MODIFIED:20230522T153921Z
UID:10001144-1687104000-1687113000@wandelstadt-esslingen.de
SUMMARY:Esslingen Habibi
DESCRIPTION:Junge Erwachsene mit Fluchtgeschichte führen durchs Städtle \nJunge Erwachsene mit Fluchtgeschichte zeigen ihre wichtigsten\, schönsten\, fragwürdigsten Sehenswürdigkeiten und Schätze (arabisch: Habibis) in Esslingen. Die Teilnehmenden an den ca. 1 1/2 stündigen Führungen werden neben bekannten\, auch so manche unbekannte Ecken Esslingens näher kennenlernen\, verknüpft mit den persönlichen Geschichten der Stadtführer*innen.  \nNeugierig geworden? – Auf der Webseite https://www.kubusev.org/veranstaltungen/esslinen-habibi/ gibt es detaillierte Info\, einen Überblick zu den Terminen der geplanten Führungen und die Kontaktdaten für die Anmeldung. \nTermine für Einzel- oder gerne auch Gruppenanmeldungen (bis 15 Personen) zur Verfügung:\nSonntag\, 11. Juni um 16:00 Uhr und 18:30 Uhr\nSonntag\, 18. Juni um 16:00 Uhr und 18:30 Uhr \nEin paar weitere Juni-Termine werden in den nächsten Tagen noch veröffentlicht.\nBei Gruppenanfragen könnt ihr uns gerne auch mit Terminanfragen kontaktieren.\nWie? \nAnmeldung (bis spätestens 3 Tage vor der Veranstaltung):\njulia.vogl@kubusev.org \nBitte per E-Mail unter Angabe der Personenanzahl\, des Auswahltermins inkl. Uhrzeit und einer Kontaktnummer (für den Fall von kurzfristigen Änderungen wie z.B. Starkregen/Gewitter). Anmeldungen sind verbindlich und sollten möglichst 5 Tage im Voraus abgesagt werden.\nBesucher*innen unter 18 Jahren sollten in Begleitung einer Verantwortungsperson teilnehmen.\nEsslingen Habibi ist Teil des Projektes „Ankommen im Ländle“ von Kubus e.V. Durch eine besondere Sprach- und Kulturbildung bringen wir unterschiedliche Menschen zusammen und bauen gegenseitige Hürden ab. Für eine offene\, vielfältige und zugewandte Gesellschaft.
URL:https://wandelstadt-esslingen.de/event/esslingen-habibi/2023-06-18/
ATTACH;FMTTYPE=image/jpeg:https://wandelstadt-esslingen.de/wp-content/uploads/2023/05/esslingen-habibi-fuehrungen.jpg
ORGANIZER;CN="Kubus e.V.":MAILTO:julia.vogl@kubusev.org
END:VEVENT
END:VCALENDAR