BEGIN:VCALENDAR
VERSION:2.0
PRODID:-//Wandelstadt Esslingen - ECPv6.15.20//NONSGML v1.0//EN
CALSCALE:GREGORIAN
METHOD:PUBLISH
X-ORIGINAL-URL:https://wandelstadt-esslingen.de
X-WR-CALDESC:Veranstaltungen für Wandelstadt Esslingen
REFRESH-INTERVAL;VALUE=DURATION:PT1H
X-Robots-Tag:noindex
X-PUBLISHED-TTL:PT1H
BEGIN:VTIMEZONE
TZID:Europe/Berlin
BEGIN:DAYLIGHT
TZOFFSETFROM:+0100
TZOFFSETTO:+0200
TZNAME:CEST
DTSTART:20220327T010000
END:DAYLIGHT
BEGIN:STANDARD
TZOFFSETFROM:+0200
TZOFFSETTO:+0100
TZNAME:CET
DTSTART:20221030T010000
END:STANDARD
BEGIN:DAYLIGHT
TZOFFSETFROM:+0100
TZOFFSETTO:+0200
TZNAME:CEST
DTSTART:20230326T010000
END:DAYLIGHT
BEGIN:STANDARD
TZOFFSETFROM:+0200
TZOFFSETTO:+0100
TZNAME:CET
DTSTART:20231029T010000
END:STANDARD
BEGIN:DAYLIGHT
TZOFFSETFROM:+0100
TZOFFSETTO:+0200
TZNAME:CEST
DTSTART:20240331T010000
END:DAYLIGHT
BEGIN:STANDARD
TZOFFSETFROM:+0200
TZOFFSETTO:+0100
TZNAME:CET
DTSTART:20241027T010000
END:STANDARD
END:VTIMEZONE
BEGIN:VEVENT
DTSTART;TZID=Europe/Berlin:20230616T180000
DTEND;TZID=Europe/Berlin:20230616T180000
DTSTAMP:20260425T002418
CREATED:20221010T204011Z
LAST-MODIFIED:20221010T204011Z
UID:10000336-1686938400-1686938400@wandelstadt-esslingen.de
SUMMARY:Critical Mass
DESCRIPTION:Critical Mass ist eine weltweite Fahrrad­bewegung\, um eine Alternative zum motorisi­erten Individual­verkehr aufzu­zeigen. Grundlage bildet Paragraph 27 der Straßenverkehrs-Ordnung. \nBei der Critical Mass Esslingen treffen sich jeden 3. Freitag im Monat Radfahrerinnen und Radfahrer zur gemeinsamen Fahrrad­ausfahrt durch Esslingen. Treffpunkt ist um 18:00 Uhr auf dem Bahnhofsvorplatz. Im Anschluss findet oft noch ein Erfahrungsaustausch beim „Radlerstammtisch“ statt.
URL:https://wandelstadt-esslingen.de/event/critical-mass-2/2023-06-16/
LOCATION:Bahnhofsvorplatz\, Esslingen
ORGANIZER;CN="Critical Mass":MAILTO:schugra@posteo.de
END:VEVENT
BEGIN:VEVENT
DTSTART;TZID=Europe/Berlin:20230616T183000
DTEND;TZID=Europe/Berlin:20230616T203000
DTSTAMP:20260425T002418
CREATED:20230502T065439Z
LAST-MODIFIED:20230601T211653Z
UID:10001107-1686940200-1686947400@wandelstadt-esslingen.de
SUMMARY:Lesung/Vortrag: "anders satt- wie der Ausstieg aus der Tierindustrie gelingt"
DESCRIPTION:Lesung/Vortrag von Friederike Schmitz zum Buch „anders satt- wie der Ausstieg aus der Tierindustrie gelingt“ \nOrt:  Forum Esslingen in der Schelztorstr. 38\nEinlass ab 18 Uhr \nEintritt: gegen Spende zur Deckung der Unkosten \nEs gibt kleine Häppchen \n-> Anmeldung erwünscht zur besseren Planung über zuzule@mail.de \nMehr Details zum Buch unter: https://friederikeschmitz.de/anderssatt/
URL:https://wandelstadt-esslingen.de/event/lesung-vortrag-anders-satt-wie-der-ausstieg-aus-der-tierindustrie-gelingt/
LOCATION:Forum Esslingen – Zentrum für Bürgerengagement\, Schelztorstraße 38\, Esslingen\, Deutschland
ORGANIZER;CN="ZuZule":MAILTO:zuzule@mail.de
END:VEVENT
BEGIN:VEVENT
DTSTART;TZID=Europe/Berlin:20230616T200000
DTEND;TZID=Europe/Berlin:20230616T200000
DTSTAMP:20260425T002418
CREATED:20230515T144840Z
LAST-MODIFIED:20230515T144840Z
UID:10001140-1686945600-1686945600@wandelstadt-esslingen.de
SUMMARY:CSD: Esslingen is coming out!
DESCRIPTION:Ein coming out zu haben bedeutet\, „herauszukommen“\, offen zu zeigen\, dass man lesbisch\, schwul\, bi\, trans*\, inter* oder queer* ist. Also Ein Teil von LSBTIQ ist. Wer uns dieses Jahr bei den Veranstaltungen für unser coming out fördert\, könnt ihr unten nachlesen. \n\n\nAuch in Esslingen gibt es queeres Leben. Auch wir sind lesbisch\, schwul\, bi\, trans*\, inter* oder queer* und wir wollen es auf dem ersten Christopher Street Day Esslingens offen zeigen. Am 17. Juni werden wir auf den Straßen Esslingens für unsere Rechte demonstrieren\, auf dem Marktplatz eine Hocketse machen und am Abend im Komma feiern\, dass es uns gibt. Auch am 16.Juni und am 18 Juni gibt es Programm: \n\n20 Uhr: Karaokeabend im Landesfilmdienst \n\nNeckarstr. 53\, 73728 Esslingen a.N.\nVeranstaltungsräume und Toiletten sind nur mit Stufen zu erreichen\n\n\n20 Uhr: Queerer Poetry Slam im Jugendhaus Komma\n\nMaillestr. 5\, 73728 Esslingen a.N.\nBarrierearm\, Eingang hat eine Stufe von höchstens 7 cm\,\nder Veranstaltungsraum ist stufenlos und es gibt eine rollstuhlgerechte Toilette\n\n\n20 Uhr: CSD Warmup-Party im Kulturpalast\n\nStuttgarterstr. 2\, 73734Esslingen\nEbenerdig\, breite Türen und rollstuhlgerechte Toilette sind vorhanden
URL:https://wandelstadt-esslingen.de/event/csd-esslingen-is-coming-out/
END:VEVENT
END:VCALENDAR