BEGIN:VCALENDAR
VERSION:2.0
PRODID:-//Wandelstadt Esslingen - ECPv6.15.20//NONSGML v1.0//EN
CALSCALE:GREGORIAN
METHOD:PUBLISH
X-WR-CALNAME:Wandelstadt Esslingen
X-ORIGINAL-URL:https://wandelstadt-esslingen.de
X-WR-CALDESC:Veranstaltungen für Wandelstadt Esslingen
REFRESH-INTERVAL;VALUE=DURATION:PT1H
X-Robots-Tag:noindex
X-PUBLISHED-TTL:PT1H
BEGIN:VTIMEZONE
TZID:Europe/Berlin
BEGIN:DAYLIGHT
TZOFFSETFROM:+0100
TZOFFSETTO:+0200
TZNAME:CEST
DTSTART:20220327T010000
END:DAYLIGHT
BEGIN:STANDARD
TZOFFSETFROM:+0200
TZOFFSETTO:+0100
TZNAME:CET
DTSTART:20221030T010000
END:STANDARD
BEGIN:DAYLIGHT
TZOFFSETFROM:+0100
TZOFFSETTO:+0200
TZNAME:CEST
DTSTART:20230326T010000
END:DAYLIGHT
BEGIN:STANDARD
TZOFFSETFROM:+0200
TZOFFSETTO:+0100
TZNAME:CET
DTSTART:20231029T010000
END:STANDARD
BEGIN:DAYLIGHT
TZOFFSETFROM:+0100
TZOFFSETTO:+0200
TZNAME:CEST
DTSTART:20240331T010000
END:DAYLIGHT
BEGIN:STANDARD
TZOFFSETFROM:+0200
TZOFFSETTO:+0100
TZNAME:CET
DTSTART:20241027T010000
END:STANDARD
END:VTIMEZONE
BEGIN:VEVENT
DTSTART;TZID=Europe/Berlin:20230615T180000
DTEND;TZID=Europe/Berlin:20230615T200000
DTSTAMP:20260425T002339
CREATED:20230221T112432Z
LAST-MODIFIED:20230221T112758Z
UID:10000698-1686852000-1686859200@wandelstadt-esslingen.de
SUMMARY:Klimaneutrale Stadt?
DESCRIPTION:Besuch und Führung im Klimaquartier Esslingen\nFür junge Erwachsene von 18 bis 32 Jahren\nAuf dem Gelände des ehemaligen Güterbahnhofs in Esslingen entsteht das Klimaquartier „Neue Weststadt“ mit ca. 480 Wohnungen\, Büro- und Gewerbeflächen sowie einem Neubau der Hochschule Esslingen. Kern des innovativen Quartierprojekts ist die energetische Versorgung durch die Kopplung der Sektoren Strom\, Wärme\, Kälte und Mobilität\, die dadurch nahezu keine CO2 Emissionen verursachen sollen. Bei einer Führung im Info Space und dem Klimaquartier erfahren wir\, wie die Stadt das Klimaquartier geplant hat und wie sozial und ökologisch das klimaneutrale Wohnen in der Zukunft aussehen könnte. Infos zum Projekt: www.neue-weststadt.de \nDr. Katja Walther\, Leitung Stabsstelle Nachhaltigkeit und Klimaschutz Stadt Esslingen am Neckar \nTreffpunkt: Esslingen\, Bahnhofsvorplatz\, Info Space\nAnmeldung bis 8. Juni 2023 über www.kuq-stuttgart.de\nVeranstalter: JIN – jung\, innovativ\, nah – eine Initiative der keb im Landkreis Esslingen in Kooperation mit kreuz&quer\, dem Programm für junge Erwachsene im Katholischen Bildungswerk Stuttgart
URL:https://wandelstadt-esslingen.de/event/klimaneutrale-stadt/
LOCATION:Bahnhofsvorplatz\, Esslingen
ATTACH;FMTTYPE=image/jpeg:https://wandelstadt-esslingen.de/wp-content/uploads/2023/02/katholische-erwachsenenbildung_Aufmacher_Programm_VK_2023_1.jpg
ORGANIZER;CN="JIN - jung%2C innovativ%2C nah":MAILTO:info@keb-esslingen
END:VEVENT
BEGIN:VEVENT
DTSTART;TZID=Europe/Berlin:20230615T190000
DTEND;TZID=Europe/Berlin:20230615T190000
DTSTAMP:20260425T002339
CREATED:20230330T155352Z
LAST-MODIFIED:20230330T155352Z
UID:10000891-1686855600-1686855600@wandelstadt-esslingen.de
SUMMARY:Zukunftskino: Vandana Shiva - Ein Leben für die Erde
DESCRIPTION:Der Film erzählt die bemerkenswerte Lebensgeschichte der Öko-Aktivistin Dr. Vandana Shiva\, wie sie sich den Großkonzernen der industriellen Landwirtschaft entgegenstellte und in der Bewegung für Biodiversität und ökologischer Landwirtschaft zur Ikone wurde. Sie inspirierte so weltweit zu einer Agrar- und Ernährungswende und wurde zu einer der wichtigsten Aktivistinnen unserer Zeit\, wofür sie unter anderem den Alternativen Nobelpreis erhielt. (USA\, Australien 2021 | R: James Becket & Camilla Becket)
URL:https://wandelstadt-esslingen.de/event/zukunftskino-vandana-shiva-ein-leben-fuer-die-erde/
LOCATION:Kommunales Kino\, Maille 4-9\, Esslingen\, 73728\, Deutschland
END:VEVENT
BEGIN:VEVENT
DTSTART;TZID=Europe/Berlin:20230615T190000
DTEND;TZID=Europe/Berlin:20230615T190000
DTSTAMP:20260425T002339
CREATED:20230510T113913Z
LAST-MODIFIED:20230510T113913Z
UID:10001137-1686855600-1686855600@wandelstadt-esslingen.de
SUMMARY:Myanmar Bike - Filmvorführung Midwives
DESCRIPTION:Wir\, die Vereine Weitblick Freiburg e.V. und German Solidarity with Myanmar Democracy e.V sind mit dem MyanmarBike in Baden-Württemberg unterwegs und wollen vor allem Junge\, entwicklungspolitisch interessierte Personen durch Filmvorführungen für die politische Lage in Myanmar sensibilisieren. \nEin öffentlichkeitswirksames Lastenrad mit Anhänger ermöglicht eine CO2-neutrale Tour des Projekts. Begleitende Vorträge und Ausstellungen ordnen den Diskurs des Schwerpunktlandes Myanmar in globale Kontexte zu den Themen Klimawandel und Migration ein. Ziel ist es\, das Engagement junger Menschen mithilfe von niedrigschwelligen Handlungsoptionen langfristig zu (re-)aktivieren. \nInfos zum Projekt gibt es hier.  \nDazu haben wir eine spannende Ausstellung erstellt: „Körperation. Myanmar-Burma-Birma\, same same but different. Arbeiten über Dislokation – Wandlungen als Körperation.“ Diese könnt ihr auf iPads und RollUps anschauen und dabei eine kostenlose Tasse\, frisch aufgebrühten\, Tee aus Myanmar von Conflictfood genießen. \nDer Dokumentarfilm MIDWIVES begleitet zwei Hebammen\, eine Buddhistin und eine Muslima\, die ungeachtet ihrer ethnischen Zugehörigkeit in einer improvisierten Klinik im Westen Myanmar zusammenarbeiten. Dort leisten sie den muslimischen Rohingya\, die als eine der am stärksten verfolgten Minderheiten der Welt gelten\, medizinische Hilfe\, während die Bevölkerung mit den Nachwirkungen des Militärputsches und dem harten Vorgehen gegen Demonstranten kämpft. \nTrailer: https://www.youtube.com/watch?v=2rr52ABsb4k
URL:https://wandelstadt-esslingen.de/event/myanmar-bike-filmvorfuehrung-midwives/
LOCATION:Kommunales Kino\, Maille 4-9\, Esslingen\, 73728\, Deutschland
END:VEVENT
END:VCALENDAR