BEGIN:VCALENDAR
VERSION:2.0
PRODID:-//Wandelstadt Esslingen - ECPv6.15.20//NONSGML v1.0//EN
CALSCALE:GREGORIAN
METHOD:PUBLISH
X-ORIGINAL-URL:https://wandelstadt-esslingen.de
X-WR-CALDESC:Veranstaltungen für Wandelstadt Esslingen
REFRESH-INTERVAL;VALUE=DURATION:PT1H
X-Robots-Tag:noindex
X-PUBLISHED-TTL:PT1H
BEGIN:VTIMEZONE
TZID:Europe/Berlin
BEGIN:DAYLIGHT
TZOFFSETFROM:+0100
TZOFFSETTO:+0200
TZNAME:CEST
DTSTART:20220327T010000
END:DAYLIGHT
BEGIN:STANDARD
TZOFFSETFROM:+0200
TZOFFSETTO:+0100
TZNAME:CET
DTSTART:20221030T010000
END:STANDARD
BEGIN:DAYLIGHT
TZOFFSETFROM:+0100
TZOFFSETTO:+0200
TZNAME:CEST
DTSTART:20230326T010000
END:DAYLIGHT
BEGIN:STANDARD
TZOFFSETFROM:+0200
TZOFFSETTO:+0100
TZNAME:CET
DTSTART:20231029T010000
END:STANDARD
BEGIN:DAYLIGHT
TZOFFSETFROM:+0100
TZOFFSETTO:+0200
TZNAME:CEST
DTSTART:20240331T010000
END:DAYLIGHT
BEGIN:STANDARD
TZOFFSETFROM:+0200
TZOFFSETTO:+0100
TZNAME:CET
DTSTART:20241027T010000
END:STANDARD
END:VTIMEZONE
BEGIN:VEVENT
DTSTART;TZID=Europe/Berlin:20230502T180000
DTEND;TZID=Europe/Berlin:20230502T180000
DTSTAMP:20260425T020250
CREATED:20230424T101123Z
LAST-MODIFIED:20230424T101123Z
UID:10001061-1683050400-1683050400@wandelstadt-esslingen.de
SUMMARY:DIE KLIMA-REGNOSE - Wie wir die Klimawende schaffen werden
DESCRIPTION:Der Abschied von Öl\, Kohle und Gas\, den Grundenergieträgern des industriellen Zeitalters\, scheint unmöglich. Woran liegt das? Schließlich hat die Menschheit schon ganz andere Transformationen geschafft. Der Vortrag beschäftigt sich mit den psychosozialen Umständen der Klimawende\, der „fossilen Verweigerung”\, die das\, was möglich und nötig ist\, als unmöglich erscheinen lässt. \nMatthias Horx steht für eine Futurologie\, die nicht jeder Angst oder jedem Technik-Hype hinterherrennt\, sondern den Bewusstseinswandel mit einbezieht. „Zukunft entsteht\, wenn wir die Welt aus der Perspektive des Morgen betrachten – und unser Geist die Verbindungen zwischen Gegenwart und Zukunft verspürt!“ \nReferent: Matthias Horx\, Zukunftsforscher
URL:https://wandelstadt-esslingen.de/event/die-klima-regnose-wie-wir-die-klimawende-schaffen-werden/
END:VEVENT
BEGIN:VEVENT
DTSTART;TZID=Europe/Berlin:20230502T193000
DTEND;TZID=Europe/Berlin:20230502T193000
DTSTAMP:20260425T020250
CREATED:20230424T100436Z
LAST-MODIFIED:20230424T100436Z
UID:10001058-1683055800-1683055800@wandelstadt-esslingen.de
SUMMARY:Radschnellverbindungen fürs Ländle - direkt\, schnell und sicher
DESCRIPTION:Am Dienstag den 02.05 beleuchtet eine weitere VCD-Online-Veranstaltung das Thema Radschnellverbindungen in Baden-Württemberg. 32 Korridore für mögliche Radschnellverbindungen versprechen im Ländle besonders hohe Nutzerzahlen. Auf vielen davon sollen in den nächsten Jahren Radschnellverbindungen entstehen. \n\nBesondere Qualitätsstandards für Radschnellverbindungen ermöglichen kurze Wegezeiten und hohe Verkehrssicherheit. Ähnliche Projekte in ganz Europa zeigen: Menschen wählen so öfter Fahrrad statt Auto\, tun so etwas für ihre Gesundheit und ganz nebenbei auch für Umwelt und Klima. \nAm Di. den 2.5. Um 19.30 Uhr gehen wir der Fragen nach: \n\nWann und wie bekommen wir diese Radschnellverbindungen?\nWo liegen dabei die besonderen Herausforderungen?\nWas kann ich dazu beitragen\, dass beim mir vor Ort Radschnellverbindungen in Umsetzung kommen?\n\nWir diskutieren mit: \n\nSebastian Knecht\nIst zuständig für Radwegeplanung und Radschnellwege beim Regierungspräsidium Stuttgart\nPaul Fremer\,\nAls Geschäftsführer und Projektleiter des Planungsbüro RV-K hat er zahlreiche Machbarkeitsstudien für Radschnellverbindungen im BW durchgeführt.\n\nHier geht es zur Online-Veranstaltung: https://us06web.zoom.us/s/81616167184#success
URL:https://wandelstadt-esslingen.de/event/radschnellverbindungen-fuers-laendle-direkt-schnell-und-sicher/
END:VEVENT
END:VCALENDAR