BEGIN:VCALENDAR
VERSION:2.0
PRODID:-//Wandelstadt Esslingen - ECPv6.15.20//NONSGML v1.0//EN
CALSCALE:GREGORIAN
METHOD:PUBLISH
X-WR-CALNAME:Wandelstadt Esslingen
X-ORIGINAL-URL:https://wandelstadt-esslingen.de
X-WR-CALDESC:Veranstaltungen für Wandelstadt Esslingen
REFRESH-INTERVAL;VALUE=DURATION:PT1H
X-Robots-Tag:noindex
X-PUBLISHED-TTL:PT1H
BEGIN:VTIMEZONE
TZID:Europe/Berlin
BEGIN:DAYLIGHT
TZOFFSETFROM:+0100
TZOFFSETTO:+0200
TZNAME:CEST
DTSTART:20240331T010000
END:DAYLIGHT
BEGIN:STANDARD
TZOFFSETFROM:+0200
TZOFFSETTO:+0100
TZNAME:CET
DTSTART:20241027T010000
END:STANDARD
BEGIN:DAYLIGHT
TZOFFSETFROM:+0100
TZOFFSETTO:+0200
TZNAME:CEST
DTSTART:20250330T010000
END:DAYLIGHT
BEGIN:STANDARD
TZOFFSETFROM:+0200
TZOFFSETTO:+0100
TZNAME:CET
DTSTART:20251026T010000
END:STANDARD
BEGIN:DAYLIGHT
TZOFFSETFROM:+0100
TZOFFSETTO:+0200
TZNAME:CEST
DTSTART:20260329T010000
END:DAYLIGHT
BEGIN:STANDARD
TZOFFSETFROM:+0200
TZOFFSETTO:+0100
TZNAME:CET
DTSTART:20261025T010000
END:STANDARD
END:VTIMEZONE
BEGIN:VEVENT
DTSTART;TZID=Europe/Berlin:20251129T140000
DTEND;TZID=Europe/Berlin:20251129T180000
DTSTAMP:20260421T234425
CREATED:20251002T153332Z
LAST-MODIFIED:20251030T105131Z
UID:6634-1764424800-1764439200@wandelstadt-esslingen.de
SUMMARY:ZuZule Workshop: Say Cheese! gemeinsam veganen Keese herstellen
DESCRIPTION:Say Cheese! gemeinsam veganen Keese herstellen \nEine pflanzliche Ernährung ist in aller Munde. Und auch die pflanzliche Variation von Käse kann das Tierprodukt geschmacklich wunderbar ersetzen und ist ihm in Sachen Umweltschutz\, Tierschutz\, für die eigene Gesundheit und das persönliche Wohlbefinden weit voraus. \nDu bist neugierig auf Neues?\nDu hast regelmäßig Lust auf Käse\, möchtest aber vom tierischen Produkt immer mehr wegkommen? \nDu bist im Supermarkt (noch) nicht fündig geworden bei Deiner Suche nach leckeren pflanzlichen Käsevarianten? \nDu möchtest mit vollwertigen Lebensmitteln kochen und einfach wissen\, was in Deinem pflanzlichen Käse drin ist?\nDu möchtest dabei einiges an Verpackung einsparen? \nDu bist hier genau richtig! \nWir stellen in entspannter Atmosphäre verschiedene Varianten von unserem veganen Keese her\n– Mozarella\, Parmesan\, Schnittkäse\, Frischkäse & die ZuZule-Spezial-Keese-Soße. \nMit unseren wunderbaren selbstgemachten Kreationen\nzusammen mit Pasta & Oliven\, gutem Brot\, frischem Gemüse & Früchten \n– und mit zusätzlichen veganen ZuZule-Keese-Empfehlungen – \nbereiten wir uns ein leckeres Abendessen\, das keine Keese-Wünsche offen lässt. \nBeim Essen und natürlich auch während des gesamten Workshops ist Zeit zum Austausch und gemütlichen (Zusammen)Sein. \nKeine Vorkenntnisse erforderlich. Bring(t) Spaß am Zubereiten und Neugier auf Neues mit & wenn Du magst Deine Kochschürze. Falls etwas übrig bleibt\, dürfen Kostproben in einer selbst mitgebrachten Dose mitgenommen werden. \nWir freuen uns auf Dich! \nSamstag\, 29.11.25 \n14 Uhr bis 18 Uhr \n40 Euro + 15 Euro Lebensmittel p.P. \nFalls Du Dir den Teilnahmebeitrag nicht leisten kannst\, schreib uns\, wir finden eine Lösung. \nTreffpunkt: ZuZule Begegnungsort\, Aichschießer Str. 2\, Aichwald – Schanbach \nAnmeldung unter ZuZule@mail.de \nwww.ZuZule@mail.de
URL:https://wandelstadt-esslingen.de/event/zuzule-workshop-say-cheese-gemeinsam-veganen-keese-herstellen/
LOCATION:ZuZule\, Aichschießer Str. 2\, Aichwald\, 73773
CATEGORIES:Workshop
ORGANIZER;CN="ZuZule":MAILTO:zuzule@mail.de
END:VEVENT
END:VCALENDAR