BEGIN:VCALENDAR
VERSION:2.0
PRODID:-//Wandelstadt Esslingen - ECPv6.15.20//NONSGML v1.0//EN
CALSCALE:GREGORIAN
METHOD:PUBLISH
X-WR-CALNAME:Wandelstadt Esslingen
X-ORIGINAL-URL:https://wandelstadt-esslingen.de
X-WR-CALDESC:Veranstaltungen für Wandelstadt Esslingen
REFRESH-INTERVAL;VALUE=DURATION:PT1H
X-Robots-Tag:noindex
X-PUBLISHED-TTL:PT1H
BEGIN:VTIMEZONE
TZID:Europe/Berlin
BEGIN:DAYLIGHT
TZOFFSETFROM:+0100
TZOFFSETTO:+0200
TZNAME:CEST
DTSTART:20240331T010000
END:DAYLIGHT
BEGIN:STANDARD
TZOFFSETFROM:+0200
TZOFFSETTO:+0100
TZNAME:CET
DTSTART:20241027T010000
END:STANDARD
BEGIN:DAYLIGHT
TZOFFSETFROM:+0100
TZOFFSETTO:+0200
TZNAME:CEST
DTSTART:20250330T010000
END:DAYLIGHT
BEGIN:STANDARD
TZOFFSETFROM:+0200
TZOFFSETTO:+0100
TZNAME:CET
DTSTART:20251026T010000
END:STANDARD
BEGIN:DAYLIGHT
TZOFFSETFROM:+0100
TZOFFSETTO:+0200
TZNAME:CEST
DTSTART:20260329T010000
END:DAYLIGHT
BEGIN:STANDARD
TZOFFSETFROM:+0200
TZOFFSETTO:+0100
TZNAME:CET
DTSTART:20261025T010000
END:STANDARD
END:VTIMEZONE
BEGIN:VEVENT
DTSTART;TZID=Europe/Berlin:20251023T180000
DTEND;TZID=Europe/Berlin:20251023T193000
DTSTAMP:20260421T234118
CREATED:20251013T073925Z
LAST-MODIFIED:20251013T074950Z
UID:6691-1761242400-1761247800@wandelstadt-esslingen.de
SUMMARY:ZuZule-Workshop „Die Pflanzenmilch macht’s“
DESCRIPTION:Wir stellen mit viel Zeit zum Ausprobieren gemeinsam verschiedene Variationen von Hafermilch her – und sparen dabei Plastikverpackung im Vergleich zur TetraPak-Variante. Beim „Milch-Tasting“ probieren wir natürlich unsere selbstgemachten Kreationen\, auch gerne bei einer Tasse Kaffee.\nWenn eine Flasche mitgebracht wird\, darf selbst hergestellte Milch mit nach Hause genommen werden. \nDu wirst erstaunt sein\, wie schnell und einfach es mit ein paar Tipps und Tricks geht und wie lecker die selbst kreierten Milch-Varianten schmecken. \nAnmeldung unter ZuZule@mail.de \nalle Infos unter https://zuzule.net/event/workshop-die-pflanzenmilch-machts/
URL:https://wandelstadt-esslingen.de/event/zuzule-workshop-die-pflanzenmilch-machts/
LOCATION:ZuZule\, Aichschießer Str. 2\, Aichwald\, 73773
CATEGORIES:Workshop
ORGANIZER;CN="ZuZule":MAILTO:zuzule@mail.de
END:VEVENT
END:VCALENDAR