BEGIN:VCALENDAR
VERSION:2.0
PRODID:-//Wandelstadt Esslingen - ECPv6.15.20//NONSGML v1.0//EN
CALSCALE:GREGORIAN
METHOD:PUBLISH
X-WR-CALNAME:Wandelstadt Esslingen
X-ORIGINAL-URL:https://wandelstadt-esslingen.de
X-WR-CALDESC:Veranstaltungen für Wandelstadt Esslingen
REFRESH-INTERVAL;VALUE=DURATION:PT1H
X-Robots-Tag:noindex
X-PUBLISHED-TTL:PT1H
BEGIN:VTIMEZONE
TZID:Europe/Berlin
BEGIN:DAYLIGHT
TZOFFSETFROM:+0100
TZOFFSETTO:+0200
TZNAME:CEST
DTSTART:20230326T010000
END:DAYLIGHT
BEGIN:STANDARD
TZOFFSETFROM:+0200
TZOFFSETTO:+0100
TZNAME:CET
DTSTART:20231029T010000
END:STANDARD
BEGIN:DAYLIGHT
TZOFFSETFROM:+0100
TZOFFSETTO:+0200
TZNAME:CEST
DTSTART:20240331T010000
END:DAYLIGHT
BEGIN:STANDARD
TZOFFSETFROM:+0200
TZOFFSETTO:+0100
TZNAME:CET
DTSTART:20241027T010000
END:STANDARD
BEGIN:DAYLIGHT
TZOFFSETFROM:+0100
TZOFFSETTO:+0200
TZNAME:CEST
DTSTART:20250330T010000
END:DAYLIGHT
BEGIN:STANDARD
TZOFFSETFROM:+0200
TZOFFSETTO:+0100
TZNAME:CET
DTSTART:20251026T010000
END:STANDARD
END:VTIMEZONE
BEGIN:VEVENT
DTSTART;TZID=Europe/Berlin:20240413T140000
DTEND;TZID=Europe/Berlin:20240414T160000
DTSTAMP:20260422T031916
CREATED:20240323T130330Z
LAST-MODIFIED:20240323T130330Z
UID:2758-1713016800-1713110400@wandelstadt-esslingen.de
SUMMARY:ZuZule - Secondhand Wochenende
DESCRIPTION:Samstag 13.4. + Sonntag 14.4.24 \nSa 14-20 Uhr So 10-16 Uhr \nLangheck Areal\, Ulmer Str. 34\, Esslingen \n\nSecondhand-Artikel aller Art\nselbst DIY Beutel nähen\nInfo-Corner\nMusik + Chill-Ecke\nSnacks + Getränke\nu.v.m.\n\n  \n>>> \n\n\nInfo-Corner (je 15 min Austausch >> ohne Anmeldung >> komm vorbei) \nzum Thema \nMüll-/Plastikvermeidung Samstag 15 Uhr / Sonntag 13 Uhr \nNachhaltige Ernährung Samstag 16 Uhr / Sonntag 14 Uhr \n… Themen-Liste + Uhrzeit wird noch aktualisiert... \n\n\n>>> \nHab ne gute ZuZule-Zeit\, triff coole Leute\, hol Dir Informationen\, werde für Nachhaltigkeit aktiv und unterstütze unser gemeinnütziges Tun \nDIY und Secondhand Artikel gegen Spende (siehe ZuZule-Spendenprinzip) \nMit Snacks und Getränken gegen kleine Gebühr \n  \nGib\, was Du kannst – was es (Dir) wert ist – mit wieviel Du uns und unser Tun unterstützen möchtest 🙂 \nZuZule-Spendenprinzip
URL:https://wandelstadt-esslingen.de/event/zuzule-secondhand-wochenende/
LOCATION:Langheck\, Ulmerstrasse 34\, Esslingen\, Baden Württemberg\, 73728
ORGANIZER;CN="ZuZule":MAILTO:zuzule@mail.de
END:VEVENT
END:VCALENDAR