BEGIN:VCALENDAR
VERSION:2.0
PRODID:-//Wandelstadt Esslingen - ECPv6.15.20//NONSGML v1.0//EN
CALSCALE:GREGORIAN
METHOD:PUBLISH
X-WR-CALNAME:Wandelstadt Esslingen
X-ORIGINAL-URL:https://wandelstadt-esslingen.de
X-WR-CALDESC:Veranstaltungen für Wandelstadt Esslingen
REFRESH-INTERVAL;VALUE=DURATION:PT1H
X-Robots-Tag:noindex
X-PUBLISHED-TTL:PT1H
BEGIN:VTIMEZONE
TZID:Europe/Berlin
BEGIN:DAYLIGHT
TZOFFSETFROM:+0100
TZOFFSETTO:+0200
TZNAME:CEST
DTSTART:20230326T010000
END:DAYLIGHT
BEGIN:STANDARD
TZOFFSETFROM:+0200
TZOFFSETTO:+0100
TZNAME:CET
DTSTART:20231029T010000
END:STANDARD
BEGIN:DAYLIGHT
TZOFFSETFROM:+0100
TZOFFSETTO:+0200
TZNAME:CEST
DTSTART:20240331T010000
END:DAYLIGHT
BEGIN:STANDARD
TZOFFSETFROM:+0200
TZOFFSETTO:+0100
TZNAME:CET
DTSTART:20241027T010000
END:STANDARD
BEGIN:DAYLIGHT
TZOFFSETFROM:+0100
TZOFFSETTO:+0200
TZNAME:CEST
DTSTART:20250330T010000
END:DAYLIGHT
BEGIN:STANDARD
TZOFFSETFROM:+0200
TZOFFSETTO:+0100
TZNAME:CET
DTSTART:20251026T010000
END:STANDARD
END:VTIMEZONE
BEGIN:VEVENT
DTSTART;TZID=Europe/Berlin:20240302T140000
DTEND;TZID=Europe/Berlin:20240302T200000
DTSTAMP:20260422T065449
CREATED:20240127T224548Z
LAST-MODIFIED:20240127T224548Z
UID:2532-1709388000-1709409600@wandelstadt-esslingen.de
SUMMARY:ZuZule: „Lieblingsstück“ Aktionstag
DESCRIPTION:Reparieren – Umstylen – Passend Machen von Lieblingsklamotten\nMit Kleidertauschbörse \nam Samstag 2.3.24 von 14 bis 20 Uhr\nim Langheck-Areal\, Ulmerstrasse 34 – 73728 Esslingen  \nPlus DIY – Beutel (Rücksäcke\, Brotbeutel…) nähen\, u.v.m. \nEs gibt Kaffee\, Tee\, Snacks\, gerettete Lebensmittel \nUND wir feiern 4 Jahre ZuZule :-) \nBring Deine Klamotten – Finde neue Lieblingsteile – Gestalte was Neues – Umstylen vor Ort möglich – Klamotten können auch „einfach so“ getauscht werden \nHab ne gute ZuZule-Zeit :-) \ngegen Spende: gibt was es Dir wert ist – was Dir möglich ist \nAnmeldung erwünscht an zuzule@mail.de\noder auch spontan am Aktionstag vorbeikommen
URL:https://wandelstadt-esslingen.de/event/zuzule-lieblingsstueck-aktionstag/
LOCATION:Langheck\, Ulmerstrasse 34\, Esslingen\, Baden Württemberg\, 73728
ORGANIZER;CN="ZuZule":MAILTO:zuzule@mail.de
END:VEVENT
END:VCALENDAR