BEGIN:VCALENDAR
VERSION:2.0
PRODID:-//Wandelstadt Esslingen - ECPv6.15.20//NONSGML v1.0//EN
CALSCALE:GREGORIAN
METHOD:PUBLISH
X-WR-CALNAME:Wandelstadt Esslingen
X-ORIGINAL-URL:https://wandelstadt-esslingen.de
X-WR-CALDESC:Veranstaltungen für Wandelstadt Esslingen
REFRESH-INTERVAL;VALUE=DURATION:PT1H
X-Robots-Tag:noindex
X-PUBLISHED-TTL:PT1H
BEGIN:VTIMEZONE
TZID:Europe/Berlin
BEGIN:DAYLIGHT
TZOFFSETFROM:+0100
TZOFFSETTO:+0200
TZNAME:CEST
DTSTART:20230326T010000
END:DAYLIGHT
BEGIN:STANDARD
TZOFFSETFROM:+0200
TZOFFSETTO:+0100
TZNAME:CET
DTSTART:20231029T010000
END:STANDARD
BEGIN:DAYLIGHT
TZOFFSETFROM:+0100
TZOFFSETTO:+0200
TZNAME:CEST
DTSTART:20240331T010000
END:DAYLIGHT
BEGIN:STANDARD
TZOFFSETFROM:+0200
TZOFFSETTO:+0100
TZNAME:CET
DTSTART:20241027T010000
END:STANDARD
BEGIN:DAYLIGHT
TZOFFSETFROM:+0100
TZOFFSETTO:+0200
TZNAME:CEST
DTSTART:20250330T010000
END:DAYLIGHT
BEGIN:STANDARD
TZOFFSETFROM:+0200
TZOFFSETTO:+0100
TZNAME:CET
DTSTART:20251026T010000
END:STANDARD
END:VTIMEZONE
BEGIN:VEVENT
DTSTART;TZID=Europe/Berlin:20241101T190000
DTEND;TZID=Europe/Berlin:20241101T213000
DTSTAMP:20260421T213044
CREATED:20240804T173221Z
LAST-MODIFIED:20240804T174225Z
UID:3277-1730487600-1730496600@wandelstadt-esslingen.de
SUMMARY:ZuZule-Film&Talk „Die Q ist ein Tier“
DESCRIPTION:World Vegan Day zum 3ten Mal im KoKi Esslingen\nWir zeigen den ganz aktuellen Film „Die Q ist ein Tier“ nach dem Buch von Hilal Sezgin \nTalk im Anschluss an den Film\nEintritt fürs Kino: 10 Euro / 7 Euro ermäßigt \nIn Kooperation mit Liberation Stuttgart!\,  ARIWA Esslingen\, Vegans for Future \nMit Bewirtung im Lux (ans KoKi angrenzende Gastronomie) und ZuZule-Infostand\, also gerne früher vor Ort sein. \n 
URL:https://wandelstadt-esslingen.de/event/zuzule-filmtalk-die-q-ist-ein-tier/
LOCATION:KoKi Esslingen\, Maille 4-9\, Esslingen\, 73728
CATEGORIES:Infoveranstaltung,Kulturveranstaltung
ORGANIZER;CN="ZuZule":MAILTO:zuzule@mail.de
END:VEVENT
END:VCALENDAR