BEGIN:VCALENDAR
VERSION:2.0
PRODID:-//Wandelstadt Esslingen - ECPv6.15.20//NONSGML v1.0//EN
CALSCALE:GREGORIAN
METHOD:PUBLISH
X-WR-CALNAME:Wandelstadt Esslingen
X-ORIGINAL-URL:https://wandelstadt-esslingen.de
X-WR-CALDESC:Veranstaltungen für Wandelstadt Esslingen
REFRESH-INTERVAL;VALUE=DURATION:PT1H
X-Robots-Tag:noindex
X-PUBLISHED-TTL:PT1H
BEGIN:VTIMEZONE
TZID:Europe/Berlin
BEGIN:DAYLIGHT
TZOFFSETFROM:+0100
TZOFFSETTO:+0200
TZNAME:CEST
DTSTART:20230326T010000
END:DAYLIGHT
BEGIN:STANDARD
TZOFFSETFROM:+0200
TZOFFSETTO:+0100
TZNAME:CET
DTSTART:20231029T010000
END:STANDARD
BEGIN:DAYLIGHT
TZOFFSETFROM:+0100
TZOFFSETTO:+0200
TZNAME:CEST
DTSTART:20240331T010000
END:DAYLIGHT
BEGIN:STANDARD
TZOFFSETFROM:+0200
TZOFFSETTO:+0100
TZNAME:CET
DTSTART:20241027T010000
END:STANDARD
BEGIN:DAYLIGHT
TZOFFSETFROM:+0100
TZOFFSETTO:+0200
TZNAME:CEST
DTSTART:20250330T010000
END:DAYLIGHT
BEGIN:STANDARD
TZOFFSETFROM:+0200
TZOFFSETTO:+0100
TZNAME:CET
DTSTART:20251026T010000
END:STANDARD
END:VTIMEZONE
BEGIN:VEVENT
DTSTART;TZID=Europe/Berlin:20240229T180000
DTEND;TZID=Europe/Berlin:20240229T210000
DTSTAMP:20260422T012910
CREATED:20240127T230358Z
LAST-MODIFIED:20240127T230358Z
UID:2514-1709229600-1709240400@wandelstadt-esslingen.de
SUMMARY:ZuZule: After Work Workshop „Die Pflanzenmilch macht's“
DESCRIPTION:am Donnerstag 29.2.24 – was für ein schönes Datum :-)\nvon 18 bis ca. 21 Uhr\, gemütliches ANKOMMEN ab 17:45 Uhr\nim Forum Esslingen\, Schelztor Str. 38 – 73728 Esslingen (ZENTRUM FÜR BÜRGERENGAGEMENT)\nWir stellen mit viel Zeit zum Ausprobieren gemeinsam verschiedene Variationen von Hafermilch und Nussmilch her – sparen dabei Plastikverpackung im Vergleich zur TetraPak-Variante. Das gemütliche Beisammensein bei Getränken und Knabberzeug und der lockere Austausch kommen nicht zu kurz. Beim „Milch-Tasting“ probieren wir natürlich unsere selbstgemachten Kreationen und wenn eine Flasche mitgebracht wird\, darf selbst hergestellte Milch mit nach Hause genommen werden.\nZusätzlich gibt es noch kleine Leckereien und gute Musik – wir feiern 4 Jahre ZuZule!\nGegen Spende: Gib\, was es Dir wert ist – was Dir möglich ist\nTeilnehmer*innen: 4 bis 8 Personen\n\nWir bitten um frühzeitige Anmeldung. Möglichst bis 25.2.24 an zuzule@mail.de\nWenn der Workshop ausgebucht ist\, gibt es eine Warteliste für weitere Workshops\, die im Laufe des Jahres folgen :-)
URL:https://wandelstadt-esslingen.de/event/zuzule-after-work-workshop-die-pflanzenmilch-machts/
LOCATION:Forum Esslingen – Zentrum für Bürgerengagement\, Schelztorstraße 38\, Esslingen\, Deutschland
ORGANIZER;CN="ZuZule":MAILTO:zuzule@mail.de
END:VEVENT
END:VCALENDAR