BEGIN:VCALENDAR
VERSION:2.0
PRODID:-//Wandelstadt Esslingen - ECPv6.15.20//NONSGML v1.0//EN
CALSCALE:GREGORIAN
METHOD:PUBLISH
X-WR-CALNAME:Wandelstadt Esslingen
X-ORIGINAL-URL:https://wandelstadt-esslingen.de
X-WR-CALDESC:Veranstaltungen für Wandelstadt Esslingen
REFRESH-INTERVAL;VALUE=DURATION:PT1H
X-Robots-Tag:noindex
X-PUBLISHED-TTL:PT1H
BEGIN:VTIMEZONE
TZID:Europe/Berlin
BEGIN:DAYLIGHT
TZOFFSETFROM:+0100
TZOFFSETTO:+0200
TZNAME:CEST
DTSTART:20220327T010000
END:DAYLIGHT
BEGIN:STANDARD
TZOFFSETFROM:+0200
TZOFFSETTO:+0100
TZNAME:CET
DTSTART:20221030T010000
END:STANDARD
BEGIN:DAYLIGHT
TZOFFSETFROM:+0100
TZOFFSETTO:+0200
TZNAME:CEST
DTSTART:20230326T010000
END:DAYLIGHT
BEGIN:STANDARD
TZOFFSETFROM:+0200
TZOFFSETTO:+0100
TZNAME:CET
DTSTART:20231029T010000
END:STANDARD
BEGIN:DAYLIGHT
TZOFFSETFROM:+0100
TZOFFSETTO:+0200
TZNAME:CEST
DTSTART:20240331T010000
END:DAYLIGHT
BEGIN:STANDARD
TZOFFSETFROM:+0200
TZOFFSETTO:+0100
TZNAME:CET
DTSTART:20241027T010000
END:STANDARD
END:VTIMEZONE
BEGIN:VEVENT
DTSTART;TZID=Europe/Berlin:20230511T190000
DTEND;TZID=Europe/Berlin:20230511T190000
DTSTAMP:20260425T020236
CREATED:20230330T155127Z
LAST-MODIFIED:20230330T155146Z
UID:1580-1683831600-1683831600@wandelstadt-esslingen.de
SUMMARY:Zukunftskino: Vogelperspektiven
DESCRIPTION:VOGELPERSPEKTIVEN ist eine intensive Verschmelzung von Dokumentar- und Naturfilm und öffnet die Augen für die Schönheit der Vögel und deren Beobachtung\, blickt dabei auch hinter die Kulissen der Umweltpolitik und zeigt beispielhafte Schutzprojekte. Der Film entführt seine Zuschauer auf eine emotionale und inspirierende Entdeckungsreise. Die Protagonisten des Films stehen exemplarisch für die Arbeit der NGOs\, Vereine und Verbände\, die sich für die Natur und die Artenvielfalt engagieren. (Deutschland 2023 | R: Jörg Adolph) \nIn Zusammenarbeit mit NABU Gruppe Esslingen | im Anschluss an die Filmvorführung Talk mit Alexandra Ickes\, NABU Landesverband Baden-Württemberg\, Referentin für Artenschutz | Moderation: Bernhard Wiesmeier\, vhs Esslingen
URL:https://wandelstadt-esslingen.de/event/zukunftskino/
LOCATION:Kommunales Kino\, Maille 4-9\, Esslingen\, 73728\, Deutschland
END:VEVENT
END:VCALENDAR