BEGIN:VCALENDAR
VERSION:2.0
PRODID:-//Wandelstadt Esslingen - ECPv6.15.20//NONSGML v1.0//EN
CALSCALE:GREGORIAN
METHOD:PUBLISH
X-WR-CALNAME:Wandelstadt Esslingen
X-ORIGINAL-URL:https://wandelstadt-esslingen.de
X-WR-CALDESC:Veranstaltungen für Wandelstadt Esslingen
REFRESH-INTERVAL;VALUE=DURATION:PT1H
X-Robots-Tag:noindex
X-PUBLISHED-TTL:PT1H
BEGIN:VTIMEZONE
TZID:Europe/Berlin
BEGIN:DAYLIGHT
TZOFFSETFROM:+0100
TZOFFSETTO:+0200
TZNAME:CEST
DTSTART:20250330T010000
END:DAYLIGHT
BEGIN:STANDARD
TZOFFSETFROM:+0200
TZOFFSETTO:+0100
TZNAME:CET
DTSTART:20251026T010000
END:STANDARD
BEGIN:DAYLIGHT
TZOFFSETFROM:+0100
TZOFFSETTO:+0200
TZNAME:CEST
DTSTART:20260329T010000
END:DAYLIGHT
BEGIN:STANDARD
TZOFFSETFROM:+0200
TZOFFSETTO:+0100
TZNAME:CET
DTSTART:20261025T010000
END:STANDARD
BEGIN:DAYLIGHT
TZOFFSETFROM:+0100
TZOFFSETTO:+0200
TZNAME:CEST
DTSTART:20270328T010000
END:DAYLIGHT
BEGIN:STANDARD
TZOFFSETFROM:+0200
TZOFFSETTO:+0100
TZNAME:CET
DTSTART:20271031T010000
END:STANDARD
END:VTIMEZONE
BEGIN:VEVENT
DTSTART;TZID=Europe/Berlin:20260312T190000
DTEND;TZID=Europe/Berlin:20260312T190000
DTSTAMP:20260421T134437
CREATED:20260302T192952Z
LAST-MODIFIED:20260302T192952Z
UID:8354-1773342000-1773342000@wandelstadt-esslingen.de
SUMMARY:Zukunft für Israelis und Palästinenser
DESCRIPTION:Zukunft für Israelis und Palästinenser \nVortrag und Gespräch \nmit Rabbiner Jeremy Milgro \nDonnerstag\, den 12. März 2026\, 19.00 Uhr\nGewerkschaftshaus\, Julius-Motteler-Str. 12\, Esslingen \nJeremy Milgrom\, Jahrgang 1953\, Reformrabbiner und Friedensaktivist\, lebt in Israel. Er ist Mitbegründer der Rabbis for Human Rights und Mitglied bei Clergy for Peace (»Geistliche für den Frieden«)\, die sich gegen Menschenrechtsverletzungen in Israel und den besetzten Gebieten stark macht. \nJeremy Milgrom\, aufgewachsen in den USA\, studierte am Jewish Theological Seminary in New York und zog 1968 nach Jerusalem. In den 1970er Jahren diente er in der israelischen Armee\, Im Laufe der Zeit wurde er zu einem bekennenden Pazifisten\, der sich für Menschenrechte und den Dialog mit den Palästinensern einsetzt. Ihn trägt die Überzeugung\, dass Gerechtigkeit für alle fest in der jüdischen Tradition und in der rabbinischen Lehre verwurzelt ist. Jeremy Milgrom wird die Lage in Israel und Palästina und die Veränderungen nach der Wahl der jetzigen überwiegend rechtsorientierten Regierung und dem Krieg in Gaza erläutern. Aus rabbinischer Sicht wird er die Werte der jüdischen Religion aus Thora (Bibel) und den Midraschim (Schriftauslegung) aufzeigen\, die allen Menschen gleichermaßen gelten. Ihn trägt die Vision von einem Land\, in dem beide Völker miteinander auf Augenhöhe verhandeln und leben\, gleiche Rechte haben und einander in Achtung und Respekt begegnen. Wie das erreicht werden kann\, dass die Palästinenser als Menschen wahrgenommen werden und von israelischen Politikern und israelischer Gesellschaft nicht dehumanisiert werden\, ist die große offene Frage. Die Überzeugungen und das Engagement von Menschenrechtsorganisationen\, wie den Rabbinern für Menschenrechte und von clergy for peace können dazu Wege weisen.
URL:https://wandelstadt-esslingen.de/event/zukunft-fuer-israelis-und-palaestinenser/
LOCATION:Gewerkschaftshaus Esslingen\, Julius-Motteler-Str. 12\, Esslingen\, 73728
CATEGORIES:Live-Veranstaltung,Podiumsdiskussion
ORGANIZER;CN="Friedensb%C3%BCndnis Esslingen":MAILTO:Sigrid.Altherr@t-online.de
END:VEVENT
END:VCALENDAR