BEGIN:VCALENDAR
VERSION:2.0
PRODID:-//Wandelstadt Esslingen - ECPv6.15.20//NONSGML v1.0//EN
CALSCALE:GREGORIAN
METHOD:PUBLISH
X-WR-CALNAME:Wandelstadt Esslingen
X-ORIGINAL-URL:https://wandelstadt-esslingen.de
X-WR-CALDESC:Veranstaltungen für Wandelstadt Esslingen
REFRESH-INTERVAL;VALUE=DURATION:PT1H
X-Robots-Tag:noindex
X-PUBLISHED-TTL:PT1H
BEGIN:VTIMEZONE
TZID:Europe/Berlin
BEGIN:DAYLIGHT
TZOFFSETFROM:+0100
TZOFFSETTO:+0200
TZNAME:CEST
DTSTART:20220327T010000
END:DAYLIGHT
BEGIN:STANDARD
TZOFFSETFROM:+0200
TZOFFSETTO:+0100
TZNAME:CET
DTSTART:20221030T010000
END:STANDARD
BEGIN:DAYLIGHT
TZOFFSETFROM:+0100
TZOFFSETTO:+0200
TZNAME:CEST
DTSTART:20230326T010000
END:DAYLIGHT
BEGIN:STANDARD
TZOFFSETFROM:+0200
TZOFFSETTO:+0100
TZNAME:CET
DTSTART:20231029T010000
END:STANDARD
BEGIN:DAYLIGHT
TZOFFSETFROM:+0100
TZOFFSETTO:+0200
TZNAME:CEST
DTSTART:20240331T010000
END:DAYLIGHT
BEGIN:STANDARD
TZOFFSETFROM:+0200
TZOFFSETTO:+0100
TZNAME:CET
DTSTART:20241027T010000
END:STANDARD
END:VTIMEZONE
BEGIN:VEVENT
DTSTART;TZID=Europe/Berlin:20231209T193000
DTEND;TZID=Europe/Berlin:20231210T020000
DTSTAMP:20260424T122145
CREATED:20231127T091507Z
LAST-MODIFIED:20231127T092141Z
UID:2378-1702150200-1702173600@wandelstadt-esslingen.de
SUMMARY:Youth Against Antisemitism
DESCRIPTION:Judenhass Underground: Antisemitismus in emanzipatorischen Subkulturen und Bewegungen (Lesung und Party) \nVeranstalter: Komma Jugend und Kultur\, Junges Forum der Deutsch-Israelischen Gesellschaft Region Stuttgart und Emanzipation und Frieden \nYouth Against Antisemitism \nJudenhass Underground: Antisemitismus in emanzipatorischen Subkulturen und Bewegungen (Lesung und Party) \nSamstag\, 9. Dezember 2023\, 19.30 Uhr\, Esslingen/Neckar \nKOMMA Jugend und Kultur\, Maille 5-9 \nBuchvorstellung und Diskussion mit Stefan Lauer und Nicholas Potter: Judenhass Underground. Antisemitismus in emanzipatorischen Subkulturen und Bewegungen \n„Der Sammelband Judenhass Underground\, herausgegeben von Nicholas Potter und Stefan Lauer\, analysiert\, wo\, wie und warum israelfeindliche Positionen in einer vermeintlich emanzipatorischen Subkultur Fuß fassen können und wann diese in antisemitische Ressentiments umschlagen. In den Beiträgen werden die verschiedensten Subkulturen und Bewegungen beleuchtet. Eingeleitet werden diese durch Hintergrundtexte. Damit wird es auch solchen Lesern ermöglicht\, den Analysen zu folgen\, die sich erstmalig mit Antisemitismus und Subkultur beschäftigen.“ Jüdische Allgemeine\, 10. September 2023 \nAnschließend Party \nEine Veranstaltung von Komma Jugend und Kultur\, Junges Forum der Deutsch-Israelischen Gesellschaft Region Stuttgart und Emanzipation und Frieden
URL:https://wandelstadt-esslingen.de/event/youth-against-antisemitism/
LOCATION:KOMMA\, Maille 5-9\, Esslingen\, Deutschland
CATEGORIES:Vernetzungsveranstaltung
ATTACH;FMTTYPE=image/jpeg:https://wandelstadt-esslingen.de/wp-content/uploads/2023/11/youthagainstantisemitismus-2.jpg
END:VEVENT
END:VCALENDAR