BEGIN:VCALENDAR
VERSION:2.0
PRODID:-//Wandelstadt Esslingen - ECPv6.15.20//NONSGML v1.0//EN
CALSCALE:GREGORIAN
METHOD:PUBLISH
X-WR-CALNAME:Wandelstadt Esslingen
X-ORIGINAL-URL:https://wandelstadt-esslingen.de
X-WR-CALDESC:Veranstaltungen für Wandelstadt Esslingen
REFRESH-INTERVAL;VALUE=DURATION:PT1H
X-Robots-Tag:noindex
X-PUBLISHED-TTL:PT1H
BEGIN:VTIMEZONE
TZID:Europe/Berlin
BEGIN:DAYLIGHT
TZOFFSETFROM:+0100
TZOFFSETTO:+0200
TZNAME:CEST
DTSTART:20240331T010000
END:DAYLIGHT
BEGIN:STANDARD
TZOFFSETFROM:+0200
TZOFFSETTO:+0100
TZNAME:CET
DTSTART:20241027T010000
END:STANDARD
BEGIN:DAYLIGHT
TZOFFSETFROM:+0100
TZOFFSETTO:+0200
TZNAME:CEST
DTSTART:20250330T010000
END:DAYLIGHT
BEGIN:STANDARD
TZOFFSETFROM:+0200
TZOFFSETTO:+0100
TZNAME:CET
DTSTART:20251026T010000
END:STANDARD
BEGIN:DAYLIGHT
TZOFFSETFROM:+0100
TZOFFSETTO:+0200
TZNAME:CEST
DTSTART:20260329T010000
END:DAYLIGHT
BEGIN:STANDARD
TZOFFSETFROM:+0200
TZOFFSETTO:+0100
TZNAME:CET
DTSTART:20261025T010000
END:STANDARD
END:VTIMEZONE
BEGIN:VEVENT
DTSTART;TZID=Europe/Berlin:20250426T090000
DTEND;TZID=Europe/Berlin:20250426T170000
DTSTAMP:20260421T212755
CREATED:20250328T184700Z
LAST-MODIFIED:20250328T184700Z
UID:4543-1745658000-1745686800@wandelstadt-esslingen.de
SUMMARY:Workshop "Kompetent gegen rechte Sprüche!"
DESCRIPTION:Workshop „Kompetent gegen rechte Sprüche!“ der Landeszentrale für politische Bildung am 26. April 2025 im menschen:raum\nDemokratie stärken – Zivilcourage fördern: Argumentationstraining gegen rechte Parolen\nRechte Parolen und diskriminierende Sprüche begegnen uns im Alltag immer wieder – sei es am Arbeitsplatz\, in der Familie oder im Freundeskreis. Doch wie reagieren wir darauf? Mit dem Workshop „Kompetent gegen rechte Sprüche! Handlungs- und Argumentationstraining gegen rechte Parolen“ bietet das Team meX der Landeszentrale für politische Bildung Baden-Württemberg eine praxisnahe Schulung an\, die sensibilisiert\, Handlungskompetenz vermittelt und die Teilnehmenden in ihrer Zivilcourage stärkt.\nDas Team meX setzt sich für eine diskriminierungsfreie Gesellschaft ein und zeigt in diesem Training auf\, wie extremistische Parolen entlarvt und entkräftet werden können. Ziel ist es\, demokratische Werte aktiv zu verteidigen und sich mutig gegen Hass und Hetze zu stellen. „Die Arbeit gegen Vorurteile\, Diskriminierung und extremistische Ideologien ist eine gesamtgesellschaftliche Aufgabe. Es reicht nicht\, darüber zu reden – wir müssen aktiv werden“\, so das Team meX. \nDer menschen:raum in Esslingen stellt für diese wichtige Veranstaltung nicht nur den Raum\, sondern auch die Verpflegung – denn Schutzräume müssen nicht nur thematisiert\, sondern auch geschaffen werden! \nEin paar Plätze sind noch frei\, bei Interesse gerne an ani@poppinski.de schreiben.
URL:https://wandelstadt-esslingen.de/event/workshop-kompetent-gegen-rechte-sprueche/
LOCATION:menschen:raum\, Eugenie-von-Soden-Straße 16A\, Esslingen am Neckar\, 73728
ORGANIZER;CN="Poppinski":MAILTO:hello@poppinski.de
END:VEVENT
END:VCALENDAR