BEGIN:VCALENDAR
VERSION:2.0
PRODID:-//Wandelstadt Esslingen - ECPv6.15.20//NONSGML v1.0//EN
CALSCALE:GREGORIAN
METHOD:PUBLISH
X-WR-CALNAME:Wandelstadt Esslingen
X-ORIGINAL-URL:https://wandelstadt-esslingen.de
X-WR-CALDESC:Veranstaltungen für Wandelstadt Esslingen
REFRESH-INTERVAL;VALUE=DURATION:PT1H
X-Robots-Tag:noindex
X-PUBLISHED-TTL:PT1H
BEGIN:VTIMEZONE
TZID:Europe/Berlin
BEGIN:DAYLIGHT
TZOFFSETFROM:+0100
TZOFFSETTO:+0200
TZNAME:CEST
DTSTART:20220327T010000
END:DAYLIGHT
BEGIN:STANDARD
TZOFFSETFROM:+0200
TZOFFSETTO:+0100
TZNAME:CET
DTSTART:20221030T010000
END:STANDARD
BEGIN:DAYLIGHT
TZOFFSETFROM:+0100
TZOFFSETTO:+0200
TZNAME:CEST
DTSTART:20230326T010000
END:DAYLIGHT
BEGIN:STANDARD
TZOFFSETFROM:+0200
TZOFFSETTO:+0100
TZNAME:CET
DTSTART:20231029T010000
END:STANDARD
BEGIN:DAYLIGHT
TZOFFSETFROM:+0100
TZOFFSETTO:+0200
TZNAME:CEST
DTSTART:20240331T010000
END:DAYLIGHT
BEGIN:STANDARD
TZOFFSETFROM:+0200
TZOFFSETTO:+0100
TZNAME:CET
DTSTART:20241027T010000
END:STANDARD
END:VTIMEZONE
BEGIN:VEVENT
DTSTART;TZID=Europe/Berlin:20230506T170000
DTEND;TZID=Europe/Berlin:20230506T200000
DTSTAMP:20260422T032241
CREATED:20230424T095737Z
LAST-MODIFIED:20230424T095737Z
UID:10001056-1683392400-1683403200@wandelstadt-esslingen.de
SUMMARY:Wohnführerschein: Das Wohnkompetenz-Training in Esslingen
DESCRIPTION:WANN?\nFreitag\, 26.05.2023 17:00 – 20:00 Uhr\nSamstag\, 27.05.2023 9:30 – 16:00 Uh \nWAS?\nWohnungssuche\, Bewerbung auf eine Wohnung\, Grundlagen Mietrecht\, Wohnen und Nachbarschaft\, Prüfung mit Zertifikat. \nWO?\nCVJM\, Kiesstraße 3-5\, 73728 Esslingen am Neckar \nANMELDUNG:\nAnmeldung bis 21.05. per Mail an:\nsmoessmer@hoffnungstraeger.de
URL:https://wandelstadt-esslingen.de/event/wohnfuehrerschein-das-wohnkompetenz-training-in-esslingen/2023-05-06/
LOCATION:CVJM-Haus Esslingen\, Kiesstraße 3-5\, Esslingen\, 73728\, Deutschland
END:VEVENT
END:VCALENDAR