BEGIN:VCALENDAR
VERSION:2.0
PRODID:-//Wandelstadt Esslingen - ECPv6.15.20//NONSGML v1.0//EN
CALSCALE:GREGORIAN
METHOD:PUBLISH
X-WR-CALNAME:Wandelstadt Esslingen
X-ORIGINAL-URL:https://wandelstadt-esslingen.de
X-WR-CALDESC:Veranstaltungen für Wandelstadt Esslingen
REFRESH-INTERVAL;VALUE=DURATION:PT1H
X-Robots-Tag:noindex
X-PUBLISHED-TTL:PT1H
BEGIN:VTIMEZONE
TZID:Europe/Berlin
BEGIN:DAYLIGHT
TZOFFSETFROM:+0100
TZOFFSETTO:+0200
TZNAME:CEST
DTSTART:20230326T010000
END:DAYLIGHT
BEGIN:STANDARD
TZOFFSETFROM:+0200
TZOFFSETTO:+0100
TZNAME:CET
DTSTART:20231029T010000
END:STANDARD
BEGIN:DAYLIGHT
TZOFFSETFROM:+0100
TZOFFSETTO:+0200
TZNAME:CEST
DTSTART:20240331T010000
END:DAYLIGHT
BEGIN:STANDARD
TZOFFSETFROM:+0200
TZOFFSETTO:+0100
TZNAME:CET
DTSTART:20241027T010000
END:STANDARD
BEGIN:DAYLIGHT
TZOFFSETFROM:+0100
TZOFFSETTO:+0200
TZNAME:CEST
DTSTART:20250330T010000
END:DAYLIGHT
BEGIN:STANDARD
TZOFFSETFROM:+0200
TZOFFSETTO:+0100
TZNAME:CET
DTSTART:20251026T010000
END:STANDARD
END:VTIMEZONE
BEGIN:VEVENT
DTSTART;TZID=Europe/Berlin:20240208T120000
DTEND;TZID=Europe/Berlin:20240208T133000
DTSTAMP:20260422T021248
CREATED:20240123T112219Z
LAST-MODIFIED:20240123T112219Z
UID:2492-1707393600-1707399000@wandelstadt-esslingen.de
SUMMARY:Wir klären auf – Heizen mit erneuerbaren Energien und die 65%
DESCRIPTION:Die Veranstaltung ist eine Kooperation der Verbraucherzentrale BW und der rea BW (Verband der regionalen Energie- und Klimaschutzagenturen Baden-Württemberg) sowie ihrem Netzwerk aus den regionalen Energie- und Klimaschutzagenturen vor Ort. \nDie Energiepreise haben sich in den vergangenen Monaten mehr als verdoppelt und auch das Fortschreiten des Klimawandels legt nahe\, möglichst auf Öl und Gas zu verzichten. Heizen mit Erneuerbaren Energien wird nicht nur kostengünstiger und schont das Klima\, sondern macht Hauseigentümer:innen auch unabhängig von fossilen Brennstoffen. \nIn diesem Online-Vortrag beantwortet die Energieberaterin Birgit Groh Fragen wie: Welche Heizung ist für mein Haus geeignet\, wenn der Ölkessel raus muss? Ist es nicht günstiger den Energiebedarf durch Dämmung zu senken\, als für Brennstoffe zu bezahlen? Welche Fördermittel gibt es derzeit für die Heizungsumstellung – und reichen die erneuerbaren Energien überhaupt für alle Häuser? \nEbenfalls wird angesprochen was die Nachricht aus Berlin bedeutet\, dass ab 2024 zu 65% mit erneuerbaren Energien geheizt werden soll. \nMelden Sie sich über das Anmeldeformular zum Online-Seminar an und nehmen Sie bequem von zuhause aus teil. Die Teilnahme ist kostenlos. \nHinweis: Sofern Sie im Online-Seminar anonym bleiben wollen\, können Sie sich mit E-Mail-Adresse und einem Nickname\, bzw. Pseudonym anmelden. Der Name\, den Sie bei der Anmeldung eingeben\, wird während des Online-Seminars nur den Moderator:innen angezeigt.
URL:https://wandelstadt-esslingen.de/event/wir-klaeren-auf-heizen-mit-erneuerbaren-energien-und-die-65-2/
LOCATION:online
CATEGORIES:Infoveranstaltung
ATTACH;FMTTYPE=image/png:https://wandelstadt-esslingen.de/wp-content/uploads/2024/01/verbraucherzentrale_klimaschutzagentur.png
ORGANIZER;CN="Klimaschutzagentur des Landkreises Esslingen gGmbH":MAILTO:info@ksa-es.de
END:VEVENT
END:VCALENDAR