BEGIN:VCALENDAR
VERSION:2.0
PRODID:-//Wandelstadt Esslingen - ECPv6.15.20//NONSGML v1.0//EN
CALSCALE:GREGORIAN
METHOD:PUBLISH
X-WR-CALNAME:Wandelstadt Esslingen
X-ORIGINAL-URL:https://wandelstadt-esslingen.de
X-WR-CALDESC:Veranstaltungen für Wandelstadt Esslingen
REFRESH-INTERVAL;VALUE=DURATION:PT1H
X-Robots-Tag:noindex
X-PUBLISHED-TTL:PT1H
BEGIN:VTIMEZONE
TZID:Europe/Berlin
BEGIN:DAYLIGHT
TZOFFSETFROM:+0100
TZOFFSETTO:+0200
TZNAME:CEST
DTSTART:20240331T010000
END:DAYLIGHT
BEGIN:STANDARD
TZOFFSETFROM:+0200
TZOFFSETTO:+0100
TZNAME:CET
DTSTART:20241027T010000
END:STANDARD
BEGIN:DAYLIGHT
TZOFFSETFROM:+0100
TZOFFSETTO:+0200
TZNAME:CEST
DTSTART:20250330T010000
END:DAYLIGHT
BEGIN:STANDARD
TZOFFSETFROM:+0200
TZOFFSETTO:+0100
TZNAME:CET
DTSTART:20251026T010000
END:STANDARD
BEGIN:DAYLIGHT
TZOFFSETFROM:+0100
TZOFFSETTO:+0200
TZNAME:CEST
DTSTART:20260329T010000
END:DAYLIGHT
BEGIN:STANDARD
TZOFFSETFROM:+0200
TZOFFSETTO:+0100
TZNAME:CET
DTSTART:20261025T010000
END:STANDARD
END:VTIMEZONE
BEGIN:VEVENT
DTSTART;TZID=Europe/Berlin:20251207T160000
DTEND;TZID=Europe/Berlin:20251207T190000
DTSTAMP:20260421T212925
CREATED:20251123T182904Z
LAST-MODIFIED:20251123T182904Z
UID:7237-1765123200-1765134000@wandelstadt-esslingen.de
SUMMARY:Wir bewegen was - Benefizshow
DESCRIPTION:EINE VERANSTALTUNG\, DIE BEWEGT\, BEGEISTERT UND VERBINDET – FÜR DEN GUTEN ZWECK. ZUGUNSTEN DER WEIHNACHTSSPENDENAKTION DER ESSLINGER ZEITUNG \nDie Benefizshow „Wir bewegen was“ verspricht ein abwechslungsreiches Programm\, das internationale Bühnenluft\, junge Talente und mitreißende Musik in einem einzigartigen Abend vereint. \nJulian Kloos begeistert mit einer spektakulären Showperformance. Mit eigens programmierten LED-Keulen verbindet er modernste Technik mit höchster Präzision. \nDrei Latino-Paare des Tanzclubs Ludwigsburg zwischen 7 und 13 Jahren entzünden ein Feuerwerk aus Energie und Leidenschaft – und die Deutsche Vizemeisterin im Solodance verzaubert mit Eleganz und Ausdruckskraft. \nMusikalisch sorgt Pascal Blenke – Sänger\, Songwriter und Pianist – für Gänsehautmomente. Sein unverwechselbarer Stil aus groovigem Funk\, deutschsprachigen Good-Vibes-Popsongs und emotionaler Klaviermusik macht ihn zu einem echten Geheimtipp. \nUnd dann heißt es: Mitsingen und Mitschunkeln! Luis Gschwendtner und sein Akkordeon sind der Garant für gute Laune und jede Menge gemeinsamer Momente. \nWeitere Infos unter www.wbw-es.de
URL:https://wandelstadt-esslingen.de/event/wir-bewegen-was-benefizshow/
LOCATION:Württembergische Landesbühne – Schauspielhaus mit Podium 1 & 2\, Ritterstraße 11\, Esslingen\, Deutschland
CATEGORIES:Kulturveranstaltung,Live-Veranstaltung
END:VEVENT
END:VCALENDAR