BEGIN:VCALENDAR
VERSION:2.0
PRODID:-//Wandelstadt Esslingen - ECPv6.15.20//NONSGML v1.0//EN
CALSCALE:GREGORIAN
METHOD:PUBLISH
X-WR-CALNAME:Wandelstadt Esslingen
X-ORIGINAL-URL:https://wandelstadt-esslingen.de
X-WR-CALDESC:Veranstaltungen für Wandelstadt Esslingen
REFRESH-INTERVAL;VALUE=DURATION:PT1H
X-Robots-Tag:noindex
X-PUBLISHED-TTL:PT1H
BEGIN:VTIMEZONE
TZID:Europe/Berlin
BEGIN:DAYLIGHT
TZOFFSETFROM:+0100
TZOFFSETTO:+0200
TZNAME:CEST
DTSTART:20240331T010000
END:DAYLIGHT
BEGIN:STANDARD
TZOFFSETFROM:+0200
TZOFFSETTO:+0100
TZNAME:CET
DTSTART:20241027T010000
END:STANDARD
BEGIN:DAYLIGHT
TZOFFSETFROM:+0100
TZOFFSETTO:+0200
TZNAME:CEST
DTSTART:20250330T010000
END:DAYLIGHT
BEGIN:STANDARD
TZOFFSETFROM:+0200
TZOFFSETTO:+0100
TZNAME:CET
DTSTART:20251026T010000
END:STANDARD
BEGIN:DAYLIGHT
TZOFFSETFROM:+0100
TZOFFSETTO:+0200
TZNAME:CEST
DTSTART:20260329T010000
END:DAYLIGHT
BEGIN:STANDARD
TZOFFSETFROM:+0200
TZOFFSETTO:+0100
TZNAME:CET
DTSTART:20261025T010000
END:STANDARD
END:VTIMEZONE
BEGIN:VEVENT
DTSTART;TZID=Europe/Berlin:20250621T073000
DTEND;TZID=Europe/Berlin:20250621T093000
DTSTAMP:20260421T203505
CREATED:20250527T184816Z
LAST-MODIFIED:20250602T181354Z
UID:5043-1750491000-1750498200@wandelstadt-esslingen.de
SUMMARY:Wiesenmahd - Agendagruppe Streuobstwiesen
DESCRIPTION:Locker und mit Schwung: Eine Wiese mit der Sense mähen \nAnfänger sind besonders willkommen. Die Termine sind an 4 Samstagen im Juni am 07.06 / 14.06. / 21.06. / 28.06. und außerdem dienstags am 10.06. / 17.06. / 24.06. für alle\, die auch unter der Woche Zeit haben. Die Termine beginnen alle um 7 Uhr 30 und dauern bis etwa 9 Uhr 30. Wir treffen uns an der Wiese\, auf der Karte zu finden mit Google Maps unter den Koordinaten 48.74885\, 9.30826. Der Zugang erfolgt über die Mülbergerstraße – Obere Beutau – Wittumhalde. Anmeldung bei Rainer König unter rainer.o.koenig@web.de oder 0151 50742396. Eigene Sensen und Wetzsteine sollten mitgebracht werden. Mehrere Sensen zum Ausleihen sind vorhanden.
URL:https://wandelstadt-esslingen.de/event/wiesenmahd-agendagruppe-streuobstwiesen-5/
ORGANIZER;CN="Agendagruppe Streuobstwiesen":MAILTO:streuobstgruppe@forum-esslingen.de
END:VEVENT
END:VCALENDAR