BEGIN:VCALENDAR
VERSION:2.0
PRODID:-//Wandelstadt Esslingen - ECPv6.15.20//NONSGML v1.0//EN
CALSCALE:GREGORIAN
METHOD:PUBLISH
X-WR-CALNAME:Wandelstadt Esslingen
X-ORIGINAL-URL:https://wandelstadt-esslingen.de
X-WR-CALDESC:Veranstaltungen für Wandelstadt Esslingen
REFRESH-INTERVAL;VALUE=DURATION:PT1H
X-Robots-Tag:noindex
X-PUBLISHED-TTL:PT1H
BEGIN:VTIMEZONE
TZID:Europe/Berlin
BEGIN:DAYLIGHT
TZOFFSETFROM:+0100
TZOFFSETTO:+0200
TZNAME:CEST
DTSTART:20230326T010000
END:DAYLIGHT
BEGIN:STANDARD
TZOFFSETFROM:+0200
TZOFFSETTO:+0100
TZNAME:CET
DTSTART:20231029T010000
END:STANDARD
BEGIN:DAYLIGHT
TZOFFSETFROM:+0100
TZOFFSETTO:+0200
TZNAME:CEST
DTSTART:20240331T010000
END:DAYLIGHT
BEGIN:STANDARD
TZOFFSETFROM:+0200
TZOFFSETTO:+0100
TZNAME:CET
DTSTART:20241027T010000
END:STANDARD
BEGIN:DAYLIGHT
TZOFFSETFROM:+0100
TZOFFSETTO:+0200
TZNAME:CEST
DTSTART:20250330T010000
END:DAYLIGHT
BEGIN:STANDARD
TZOFFSETFROM:+0200
TZOFFSETTO:+0100
TZNAME:CET
DTSTART:20251026T010000
END:STANDARD
END:VTIMEZONE
BEGIN:VEVENT
DTSTART;TZID=Europe/Berlin:20240215T193000
DTEND;TZID=Europe/Berlin:20240215T193000
DTSTAMP:20260422T042119
CREATED:20240115T133718Z
LAST-MODIFIED:20240214T113422Z
UID:2449-1708025400-1708025400@wandelstadt-esslingen.de
SUMMARY:Wie gelingt gemeinschaftliches Wohnen?
DESCRIPTION:Nach der Auftaktveranstaltung im Oktober soll es in 2024 weiter gehen mit der Frage\, wie gemeinschaftliches Wohnen in verschiedenen Formen funktioniert – und was Bewohner*innen davon haben. Zu den jeweiligen Themen werden lokale Referent*innen eingeladen und in einer offenen Diskussion die Fragen des Publikums beantwortet. \nThema dieses Mal: Gemeinschaftliches Wohnen im Alter. Welche Vorteile bietet gemeinschaftliches Wohnen\, wenn das Eigenheim zu groß wird? \nReferent*in: Gunnar Laufer-Stark\, nestbau AG Tübingen \nProgrammheft
URL:https://wandelstadt-esslingen.de/event/wie-gelingt-gemeinschaftliches-wohnen/
LOCATION:Kulturzentrum Dieselstraße\, Dieselstraße 26\, Esslingen\, Deutschland
END:VEVENT
END:VCALENDAR