BEGIN:VCALENDAR
VERSION:2.0
PRODID:-//Wandelstadt Esslingen - ECPv6.15.20//NONSGML v1.0//EN
CALSCALE:GREGORIAN
METHOD:PUBLISH
X-WR-CALNAME:Wandelstadt Esslingen
X-ORIGINAL-URL:https://wandelstadt-esslingen.de
X-WR-CALDESC:Veranstaltungen für Wandelstadt Esslingen
REFRESH-INTERVAL;VALUE=DURATION:PT1H
X-Robots-Tag:noindex
X-PUBLISHED-TTL:PT1H
BEGIN:VTIMEZONE
TZID:Europe/Berlin
BEGIN:DAYLIGHT
TZOFFSETFROM:+0100
TZOFFSETTO:+0200
TZNAME:CEST
DTSTART:20230326T010000
END:DAYLIGHT
BEGIN:STANDARD
TZOFFSETFROM:+0200
TZOFFSETTO:+0100
TZNAME:CET
DTSTART:20231029T010000
END:STANDARD
BEGIN:DAYLIGHT
TZOFFSETFROM:+0100
TZOFFSETTO:+0200
TZNAME:CEST
DTSTART:20240331T010000
END:DAYLIGHT
BEGIN:STANDARD
TZOFFSETFROM:+0200
TZOFFSETTO:+0100
TZNAME:CET
DTSTART:20241027T010000
END:STANDARD
BEGIN:DAYLIGHT
TZOFFSETFROM:+0100
TZOFFSETTO:+0200
TZNAME:CEST
DTSTART:20250330T010000
END:DAYLIGHT
BEGIN:STANDARD
TZOFFSETFROM:+0200
TZOFFSETTO:+0100
TZNAME:CET
DTSTART:20251026T010000
END:STANDARD
END:VTIMEZONE
BEGIN:VEVENT
DTSTART;TZID=Europe/Berlin:20241002T193000
DTEND;TZID=Europe/Berlin:20241002T210000
DTSTAMP:20260425T191823
CREATED:20240926T193512Z
LAST-MODIFIED:20240926T193512Z
UID:3539-1727897400-1727902800@wandelstadt-esslingen.de
SUMMARY:Wie die Energiewende gelingen kann
DESCRIPTION:Die deutsche Wirtschaft steht aktuell vor großen Herausforderungen. Eine davon ist das Ziel\, unsere Volkswirtschaft klimaneutral zu gestalten. Zwar konnten die Emissionen in Deutschland in den zurückliegenden 30 Jahren bereits stark gesenkt werden. Um das Ziel der Klimaneutralität bis zum Jahr 2045 zu erreichen\, muss aber unter anderem sowohl die installierte Leistung erneuerbarer Energien als auch die heimische Erzeugung von Wasserstoff deutlich ansteigen. Um entsprechende Anreize zu setzen\, sollte die Attraktivität für unternehmerisches Handeln steigen und staatliches Handeln selbst effizienter und lösungsorientierter werden. Gleichzeitig gilt es\, die Interessen des Industriestandorts Deutschland zu berücksichtigen. \nDer Vortrag befasst sich mit Handlungsoptionen\, die aus der volkswirtschaftlichen Perspektive notwendige Rahmenbedingungen für eine effiziente Energiewende skizzieren – ohne unseren Wohlstand zu gefährden. \n  \nChristoph M. Schmidt ist Präsident des RWI – Leibniz-Institut für Wirtschaftsforschung\, Vizepräsident der acatech – Deutsche Akademie der Technikwissenschaften und ehemaliger Vorsitzender des Sachverständigenrates zur Begutachtung der gesamtwirtschaftlichen Entwicklung.
URL:https://wandelstadt-esslingen.de/event/wie-die-energiewende-gelingen-kann/
CATEGORIES:Infoveranstaltung
ORGANIZER;CN="Volkshochschule Esslingen":MAILTO:info@vhs-esslingen.de
END:VEVENT
END:VCALENDAR