BEGIN:VCALENDAR
VERSION:2.0
PRODID:-//Wandelstadt Esslingen - ECPv6.15.20//NONSGML v1.0//EN
CALSCALE:GREGORIAN
METHOD:PUBLISH
X-WR-CALNAME:Wandelstadt Esslingen
X-ORIGINAL-URL:https://wandelstadt-esslingen.de
X-WR-CALDESC:Veranstaltungen für Wandelstadt Esslingen
REFRESH-INTERVAL;VALUE=DURATION:PT1H
X-Robots-Tag:noindex
X-PUBLISHED-TTL:PT1H
BEGIN:VTIMEZONE
TZID:Europe/Berlin
BEGIN:DAYLIGHT
TZOFFSETFROM:+0100
TZOFFSETTO:+0200
TZNAME:CEST
DTSTART:20250330T010000
END:DAYLIGHT
BEGIN:STANDARD
TZOFFSETFROM:+0200
TZOFFSETTO:+0100
TZNAME:CET
DTSTART:20251026T010000
END:STANDARD
BEGIN:DAYLIGHT
TZOFFSETFROM:+0100
TZOFFSETTO:+0200
TZNAME:CEST
DTSTART:20260329T010000
END:DAYLIGHT
BEGIN:STANDARD
TZOFFSETFROM:+0200
TZOFFSETTO:+0100
TZNAME:CET
DTSTART:20261025T010000
END:STANDARD
BEGIN:DAYLIGHT
TZOFFSETFROM:+0100
TZOFFSETTO:+0200
TZNAME:CEST
DTSTART:20270328T010000
END:DAYLIGHT
BEGIN:STANDARD
TZOFFSETFROM:+0200
TZOFFSETTO:+0100
TZNAME:CET
DTSTART:20271031T010000
END:STANDARD
END:VTIMEZONE
BEGIN:VEVENT
DTSTART;TZID=Europe/Berlin:20260313T170000
DTEND;TZID=Europe/Berlin:20260313T200000
DTSTAMP:20260421T142119
CREATED:20260224T163109Z
LAST-MODIFIED:20260224T163109Z
UID:8312-1773421200-1773432000@wandelstadt-esslingen.de
SUMMARY:Warentauschtag "Bring mit - hol ab"
DESCRIPTION:Es ist mal wieder so weit: Das Frühjahr kommt und man hat Lust auf Veränderung. \nDa kommt der Warentauschtag-Termin von „BRING MIT – HOL AB!“ gerade recht\, wenn in Schränken\, Keller\, Garagen wieder mal Platz geschaffen werden soll für Neues. \nAm Freitag nehmen wir in der Hohenkreuzhalle gut erhaltene und saubere Waren an\, die dann am Samstag kostenlos an Interessierte wieder abgeben werden. Die Waren müssen von einer Person zu tragen sein\, – größere Gegenstände können an unserer Pinnwand oder online bei esslingen.verschenkmarkt.info angeboten werden. \nElektrogeräte werden vor Ort geprüft. Bildbände\, Lexika\, CD´s\, Videokassetten TV-Geräte u. ä. können wir leider nicht annehmen. \nWas wir angenommen haben\, muss nach der Veranstaltung nicht wieder abgeholt werden. Man kann entweder nur bringen oder nur holen oder beides.
URL:https://wandelstadt-esslingen.de/event/warentauschtag-bring-mit-hol-ab/
LOCATION:Hohenkreuzhalle Esslingen\, Hohenkreuzweg 34\, Esslingen
END:VEVENT
END:VCALENDAR