BEGIN:VCALENDAR
VERSION:2.0
PRODID:-//Wandelstadt Esslingen - ECPv6.15.20//NONSGML v1.0//EN
CALSCALE:GREGORIAN
METHOD:PUBLISH
X-WR-CALNAME:Wandelstadt Esslingen
X-ORIGINAL-URL:https://wandelstadt-esslingen.de
X-WR-CALDESC:Veranstaltungen für Wandelstadt Esslingen
REFRESH-INTERVAL;VALUE=DURATION:PT1H
X-Robots-Tag:noindex
X-PUBLISHED-TTL:PT1H
BEGIN:VTIMEZONE
TZID:Europe/Berlin
BEGIN:DAYLIGHT
TZOFFSETFROM:+0100
TZOFFSETTO:+0200
TZNAME:CEST
DTSTART:20230326T010000
END:DAYLIGHT
BEGIN:STANDARD
TZOFFSETFROM:+0200
TZOFFSETTO:+0100
TZNAME:CET
DTSTART:20231029T010000
END:STANDARD
BEGIN:DAYLIGHT
TZOFFSETFROM:+0100
TZOFFSETTO:+0200
TZNAME:CEST
DTSTART:20240331T010000
END:DAYLIGHT
BEGIN:STANDARD
TZOFFSETFROM:+0200
TZOFFSETTO:+0100
TZNAME:CET
DTSTART:20241027T010000
END:STANDARD
BEGIN:DAYLIGHT
TZOFFSETFROM:+0100
TZOFFSETTO:+0200
TZNAME:CEST
DTSTART:20250330T010000
END:DAYLIGHT
BEGIN:STANDARD
TZOFFSETFROM:+0200
TZOFFSETTO:+0100
TZNAME:CET
DTSTART:20251026T010000
END:STANDARD
END:VTIMEZONE
BEGIN:VEVENT
DTSTART;TZID=Europe/Berlin:20240606T190000
DTEND;TZID=Europe/Berlin:20240606T190000
DTSTAMP:20260422T013748
CREATED:20240524T155940Z
LAST-MODIFIED:20240524T160145Z
UID:3005-1717700400-1717700400@wandelstadt-esslingen.de
SUMMARY:Wahlopoly Esslingen
DESCRIPTION:Moderiert von Gesa von Leesen\, Redakteurin der KONTEXT:Wochenzeitung\, spielen die eingeladenen Kandidatinnen und Kandidaten der Kommunalwahl das Spiel „Wahlopoly“ nach genau vorgegebenen Regeln: auf einem auf den Fußboden aufgeklebtes und dem Brettspiel Monopoly nachempfundenen Spielfeld wird gewürfelt\, mit einem – farblich passenden – Hütchen gezogen und je nach Spielfeld verschiedene Fragen beantwortet. Auf den Feldern mit den Fragezeichen müssen Wissensfragen beantwortet werden\, auf anderen darf das Publikum fragen. So soll am Ende auch allen Anwesenden ihre zentrale Frage beantwortet werden: Wen wähle ich bei der Kommunalwahl? \nMit dabei sind: \n\nBündnis 90/Die Grünen: Ben Baecker\nCDU: Lukas Schwarz\nDie Linke: Martin Auerbach\nFDP: Rena Farquhar\nFreie Wähler: Hermann Falch\nFÜR Esslingen: Michael Zöllner\nSPD: Mark Wendt
URL:https://wandelstadt-esslingen.de/event/wahlopoly-esslingen/
LOCATION:KOMMA\, Maille 5-9\, Esslingen\, Deutschland
ATTACH;FMTTYPE=image/jpeg:https://wandelstadt-esslingen.de/wp-content/uploads/2024/05/signal-2024-05-22-141239_002-scaled.jpeg
ORGANIZER;CN="DGB":MAILTO:Peter.Schadt@dgb.de
END:VEVENT
END:VCALENDAR