BEGIN:VCALENDAR
VERSION:2.0
PRODID:-//Wandelstadt Esslingen - ECPv6.15.20//NONSGML v1.0//EN
CALSCALE:GREGORIAN
METHOD:PUBLISH
X-WR-CALNAME:Wandelstadt Esslingen
X-ORIGINAL-URL:https://wandelstadt-esslingen.de
X-WR-CALDESC:Veranstaltungen für Wandelstadt Esslingen
REFRESH-INTERVAL;VALUE=DURATION:PT1H
X-Robots-Tag:noindex
X-PUBLISHED-TTL:PT1H
BEGIN:VTIMEZONE
TZID:Europe/Berlin
BEGIN:DAYLIGHT
TZOFFSETFROM:+0100
TZOFFSETTO:+0200
TZNAME:CEST
DTSTART:20220327T010000
END:DAYLIGHT
BEGIN:STANDARD
TZOFFSETFROM:+0200
TZOFFSETTO:+0100
TZNAME:CET
DTSTART:20221030T010000
END:STANDARD
BEGIN:DAYLIGHT
TZOFFSETFROM:+0100
TZOFFSETTO:+0200
TZNAME:CEST
DTSTART:20230326T010000
END:DAYLIGHT
BEGIN:STANDARD
TZOFFSETFROM:+0200
TZOFFSETTO:+0100
TZNAME:CET
DTSTART:20231029T010000
END:STANDARD
BEGIN:DAYLIGHT
TZOFFSETFROM:+0100
TZOFFSETTO:+0200
TZNAME:CEST
DTSTART:20240331T010000
END:DAYLIGHT
BEGIN:STANDARD
TZOFFSETFROM:+0200
TZOFFSETTO:+0100
TZNAME:CET
DTSTART:20241027T010000
END:STANDARD
END:VTIMEZONE
BEGIN:VEVENT
DTSTART;TZID=Europe/Berlin:20230720T190000
DTEND;TZID=Europe/Berlin:20230720T190000
DTSTAMP:20260422T070055
CREATED:20230629T150735Z
LAST-MODIFIED:20230629T150735Z
UID:1944-1689879600-1689879600@wandelstadt-esslingen.de
SUMMARY:Wahl des Bürgerausschusses Mettingen\, Weil\, Brühl
DESCRIPTION:Die digitale Wahl der Kandidaten ist anschließend ab dem 06.07.2023 12:00 bis zum 16.07.2023 18:00 eröffnet. Alternativ zur Online-Wahl ist eine Stimmabgabe im Rahmen der Präsenz-Wahl vor Beginn der Einwohnerversammlung am 20.07.2023 19:00 möglich.
URL:https://wandelstadt-esslingen.de/event/wahl-des-buergerausschusses-mettingen-weil-bruehl/
END:VEVENT
END:VCALENDAR