BEGIN:VCALENDAR
VERSION:2.0
PRODID:-//Wandelstadt Esslingen - ECPv6.15.20//NONSGML v1.0//EN
CALSCALE:GREGORIAN
METHOD:PUBLISH
X-WR-CALNAME:Wandelstadt Esslingen
X-ORIGINAL-URL:https://wandelstadt-esslingen.de
X-WR-CALDESC:Veranstaltungen für Wandelstadt Esslingen
REFRESH-INTERVAL;VALUE=DURATION:PT1H
X-Robots-Tag:noindex
X-PUBLISHED-TTL:PT1H
BEGIN:VTIMEZONE
TZID:Europe/Berlin
BEGIN:DAYLIGHT
TZOFFSETFROM:+0100
TZOFFSETTO:+0200
TZNAME:CEST
DTSTART:20230326T010000
END:DAYLIGHT
BEGIN:STANDARD
TZOFFSETFROM:+0200
TZOFFSETTO:+0100
TZNAME:CET
DTSTART:20231029T010000
END:STANDARD
BEGIN:DAYLIGHT
TZOFFSETFROM:+0100
TZOFFSETTO:+0200
TZNAME:CEST
DTSTART:20240331T010000
END:DAYLIGHT
BEGIN:STANDARD
TZOFFSETFROM:+0200
TZOFFSETTO:+0100
TZNAME:CET
DTSTART:20241027T010000
END:STANDARD
BEGIN:DAYLIGHT
TZOFFSETFROM:+0100
TZOFFSETTO:+0200
TZNAME:CEST
DTSTART:20250330T010000
END:DAYLIGHT
BEGIN:STANDARD
TZOFFSETFROM:+0200
TZOFFSETTO:+0100
TZNAME:CET
DTSTART:20251026T010000
END:STANDARD
END:VTIMEZONE
BEGIN:VEVENT
DTSTART;TZID=Europe/Berlin:20241121T180000
DTEND;TZID=Europe/Berlin:20241121T184500
DTSTAMP:20260422T032350
CREATED:20240926T191649Z
LAST-MODIFIED:20240926T192257Z
UID:3527-1732212000-1732214700@wandelstadt-esslingen.de
SUMMARY:Wahl Bürgerausschuss Pliensauvorstadt
DESCRIPTION:Die Einwohnerversammlungen wurden 2023 neu konzipiert und modernisiert. Über eine Beteiligungsplattform können Sie \n\n\nThemenvorschläge für die Einwohnerversammlungen bereits im Vorfeld einreichen\nüber die eingereichten\, thematisch zusammengefassten Vorschläge online abstimmen\nIhre Kandidatur für den Bürgerausschuss einreichen\nonline für Ihre Kandidatin\, Ihren Kandidaten abstimmen\n\n\n\n\n\n\n\n\n\n\n\n\n\n\nDie Beteiligungsplatform findet sich hier. \n\n\n\n\nKandidieren\n11. bis 25. Oktober\njeweils 12 Uhr \n\n\n\n\nOnline wählen\n7. November\, 12 Uhr bis\n17. November\, 18 Uhr \n\n\n\n\nWahl vor Ort\nVon 18 Uhr bis 18:45 Uhr können Sie vor der Veranstaltung noch wählen! Bringen Sie dazu einen gültigen Ausweis mit. \n\n\nBekanntgabe dann auf der Einwohnerversammlung ab 19 Uhr\, zu der auch zuvor Themen eingereicht werden können.
URL:https://wandelstadt-esslingen.de/event/wahl-buergerausschuss-pliensauvorstadt/
LOCATION:Saal der katholischen Kirchgemeinde St. Elisabeth\, Häuserhaldenweg 38\, Esslingen am Neckar\, 73734\, Deutschland
CATEGORIES:Beteiligung
END:VEVENT
END:VCALENDAR