BEGIN:VCALENDAR
VERSION:2.0
PRODID:-//Wandelstadt Esslingen - ECPv6.15.20//NONSGML v1.0//EN
CALSCALE:GREGORIAN
METHOD:PUBLISH
X-WR-CALNAME:Wandelstadt Esslingen
X-ORIGINAL-URL:https://wandelstadt-esslingen.de
X-WR-CALDESC:Veranstaltungen für Wandelstadt Esslingen
REFRESH-INTERVAL;VALUE=DURATION:PT1H
X-Robots-Tag:noindex
X-PUBLISHED-TTL:PT1H
BEGIN:VTIMEZONE
TZID:Europe/Berlin
BEGIN:DAYLIGHT
TZOFFSETFROM:+0100
TZOFFSETTO:+0200
TZNAME:CEST
DTSTART:20240331T010000
END:DAYLIGHT
BEGIN:STANDARD
TZOFFSETFROM:+0200
TZOFFSETTO:+0100
TZNAME:CET
DTSTART:20241027T010000
END:STANDARD
BEGIN:DAYLIGHT
TZOFFSETFROM:+0100
TZOFFSETTO:+0200
TZNAME:CEST
DTSTART:20250330T010000
END:DAYLIGHT
BEGIN:STANDARD
TZOFFSETFROM:+0200
TZOFFSETTO:+0100
TZNAME:CET
DTSTART:20251026T010000
END:STANDARD
BEGIN:DAYLIGHT
TZOFFSETFROM:+0100
TZOFFSETTO:+0200
TZNAME:CEST
DTSTART:20260329T010000
END:DAYLIGHT
BEGIN:STANDARD
TZOFFSETFROM:+0200
TZOFFSETTO:+0100
TZNAME:CET
DTSTART:20261025T010000
END:STANDARD
END:VTIMEZONE
BEGIN:VEVENT
DTSTART;TZID=Europe/Berlin:20251021T150000
DTEND;TZID=Europe/Berlin:20251021T170000
DTSTAMP:20260421T203308
CREATED:20250922T105657Z
LAST-MODIFIED:20250922T105657Z
UID:6438-1761058800-1761066000@wandelstadt-esslingen.de
SUMMARY:Vortrag zum Thema "Impfen"
DESCRIPTION:Im Herbst sollte man sich gegen Grippe sowie Corona impfen lassen\, das empfiehlt die Ständige Impfkommission allen über 60-Jährigen. „Wie funktioniert Impfen überhaupt und welche Risiken gibt es?“ Darüber klärt auf Einladung des StadtSeniorenRates der Apotheker Dr. Wolfgang Strölin in einem Vortrag auf. Bereits 1796 gelang der erste Versuch einer Impfung und heute ist sie die Standardmethode\, gefährliche Infektionen zu vermeiden. Nichtwissen und Fehlinformationen führen aber immer wieder zur Ablehnung. Der Pharmazeut spricht nicht nur die Sicherheit der Medikamente an \, sondern auch über die verschiedenen Empfehlungen\, sich gegen eine Krankheit impfen zu lassen.
URL:https://wandelstadt-esslingen.de/event/vortrag-zum-thema-impfen/
LOCATION:Forum Esslingen in der Schelztorstraße 38\, 73728 Esslingen\, Schelztorstraße 38\, Esslingen\, 73728\, Deutschland
CATEGORIES:Infoveranstaltung
ATTACH;FMTTYPE=image/jpeg:https://wandelstadt-esslingen.de/wp-content/uploads/2025/09/Impfung.jpg
END:VEVENT
END:VCALENDAR