BEGIN:VCALENDAR
VERSION:2.0
PRODID:-//Wandelstadt Esslingen - ECPv6.15.20//NONSGML v1.0//EN
CALSCALE:GREGORIAN
METHOD:PUBLISH
X-WR-CALNAME:Wandelstadt Esslingen
X-ORIGINAL-URL:https://wandelstadt-esslingen.de
X-WR-CALDESC:Veranstaltungen für Wandelstadt Esslingen
REFRESH-INTERVAL;VALUE=DURATION:PT1H
X-Robots-Tag:noindex
X-PUBLISHED-TTL:PT1H
BEGIN:VTIMEZONE
TZID:Europe/Berlin
BEGIN:DAYLIGHT
TZOFFSETFROM:+0100
TZOFFSETTO:+0200
TZNAME:CEST
DTSTART:20240331T010000
END:DAYLIGHT
BEGIN:STANDARD
TZOFFSETFROM:+0200
TZOFFSETTO:+0100
TZNAME:CET
DTSTART:20241027T010000
END:STANDARD
BEGIN:DAYLIGHT
TZOFFSETFROM:+0100
TZOFFSETTO:+0200
TZNAME:CEST
DTSTART:20250330T010000
END:DAYLIGHT
BEGIN:STANDARD
TZOFFSETFROM:+0200
TZOFFSETTO:+0100
TZNAME:CET
DTSTART:20251026T010000
END:STANDARD
BEGIN:DAYLIGHT
TZOFFSETFROM:+0100
TZOFFSETTO:+0200
TZNAME:CEST
DTSTART:20260329T010000
END:DAYLIGHT
BEGIN:STANDARD
TZOFFSETFROM:+0200
TZOFFSETTO:+0100
TZNAME:CET
DTSTART:20261025T010000
END:STANDARD
END:VTIMEZONE
BEGIN:VEVENT
DTSTART;TZID=Europe/Berlin:20250325T193000
DTEND;TZID=Europe/Berlin:20250325T210000
DTSTAMP:20260422T162905
CREATED:20250223T073309Z
LAST-MODIFIED:20250223T073309Z
UID:4328-1742931000-1742936400@wandelstadt-esslingen.de
SUMMARY:vhs.wissen live: Wasser für die Welt – klimaresilientes Wassermanagement angesichts klimatischer und geopolitischer Herausforderungen
DESCRIPTION:Wasser ist Leben\, Wasser eint\, trennt und schürt Konflikte. In einer klimatisch und geopolitisch aufgeheizten Welt verschärfen sich die Herausforderungen um Wasser substanziell. \nUnsicherheit wird Normalität\, Grenzen der Beherrschbarkeit könnten überschritten werden. \nNotwendig ist ein klimaresilientes Wassermanagement mit langfristigem Blick\, das Wasser in Flüssen\, Seen und Grundwasser\, sowie im Boden gebundenes Wasser zusammendenkt und flexibel auf Veränderungen reagieren kann. \nDazu braucht es einen gestaltenden Staat ebenso wie privatwirtschaftliche Initiative. Es braucht globale Kooperation aber auch selbstorganisierte Strukturen und nicht zuletzt eine starke begleitende Wissenschaft. \nWie können wir diesen Herausforderungen begegnen und die notwendigen Prozesse initiieren? \n  \nProf. Dr. Karen Pittel\, ifo Institut und acatech Präsidiumsmitglied\, lehrt Volkswirtschaftslehre an der Universität München (LMU) und berichtet hier als Co-Vorsitzende des WBGU zu dessen aktuellem Gutachten „Wasser in einer aufgeheizten Welt“. \n  \nDie Veranstaltung findet in Kooperation mit der acatech statt.
URL:https://wandelstadt-esslingen.de/event/vhs-wissen-live-wasser-fuer-die-welt-klimaresilientes-wassermanagement-angesichts-klimatischer-und-geopolitischer-herausforderungen/
LOCATION:online
ORGANIZER;CN="Volkshochschule Esslingen":MAILTO:info@vhs-esslingen.de
END:VEVENT
END:VCALENDAR