BEGIN:VCALENDAR
VERSION:2.0
PRODID:-//Wandelstadt Esslingen - ECPv6.15.20//NONSGML v1.0//EN
CALSCALE:GREGORIAN
METHOD:PUBLISH
X-WR-CALNAME:Wandelstadt Esslingen
X-ORIGINAL-URL:https://wandelstadt-esslingen.de
X-WR-CALDESC:Veranstaltungen für Wandelstadt Esslingen
REFRESH-INTERVAL;VALUE=DURATION:PT1H
X-Robots-Tag:noindex
X-PUBLISHED-TTL:PT1H
BEGIN:VTIMEZONE
TZID:Europe/Berlin
BEGIN:DAYLIGHT
TZOFFSETFROM:+0100
TZOFFSETTO:+0200
TZNAME:CEST
DTSTART:20240331T010000
END:DAYLIGHT
BEGIN:STANDARD
TZOFFSETFROM:+0200
TZOFFSETTO:+0100
TZNAME:CET
DTSTART:20241027T010000
END:STANDARD
BEGIN:DAYLIGHT
TZOFFSETFROM:+0100
TZOFFSETTO:+0200
TZNAME:CEST
DTSTART:20250330T010000
END:DAYLIGHT
BEGIN:STANDARD
TZOFFSETFROM:+0200
TZOFFSETTO:+0100
TZNAME:CET
DTSTART:20251026T010000
END:STANDARD
BEGIN:DAYLIGHT
TZOFFSETFROM:+0100
TZOFFSETTO:+0200
TZNAME:CEST
DTSTART:20260329T010000
END:DAYLIGHT
BEGIN:STANDARD
TZOFFSETFROM:+0200
TZOFFSETTO:+0100
TZNAME:CET
DTSTART:20261025T010000
END:STANDARD
END:VTIMEZONE
BEGIN:VEVENT
DTSTART;TZID=Europe/Berlin:20250408T193000
DTEND;TZID=Europe/Berlin:20250408T210000
DTSTAMP:20260422T162906
CREATED:20250328T172906Z
LAST-MODIFIED:20250328T173057Z
UID:4507-1744140600-1744146000@wandelstadt-esslingen.de
SUMMARY:vhs.wissen live: Raus aus der Abhängigkeit: Wie sichern wir die Rohstoffversorgung für Deutschland?
DESCRIPTION:Welche Rolle können primäre Rohstoffe aus heimischen Lagerstätten spielen? \nWie kann Deutschland auf den internationalen Rohstoffmärkten handlungsfähig werden? \nWie können wir unsere hohen Abhängigkeiten bei kritischen Metallen und Mineralien verringern? \nEs ist höchste Zeit\, neue Wege für unsere Rohstoffversorgung einzuschlagen. \n  \nProf. Dr. Jens Gutzmer leitet als Gründungsdirektor das Helmholtz-Institut Freiberg für Ressourcentechnologie\, welches zum Helmholtz-Zentrum Dresden-Rossendorf gehört. \nEr ist Professor für Erzlagerstätten und Geometallurgie an der TU Bergakademie Freiberg. Zudem hat er eine Gastprofessur in der Paleoproterozoic Mineralization Research Group im Department of Geology der Universität Johannesburg\, Südafrika inne. Er ist Mitglied der Deutschen Akademie der Technikwissenschaft (acatech). \nDie Veranstaltung findet in Kooperation mit der acatech statt. \nAnmeldung zur Online-Veranstaltung bei de VHS Esslingen.
URL:https://wandelstadt-esslingen.de/event/vhs-wissen-live-raus-aus-der-abhaengigkeit-wie-sichern-wir-die-rohstoffversorgung-fuer-deutschland/
LOCATION:online
ORGANIZER;CN="Volkshochschule Esslingen":MAILTO:info@vhs-esslingen.de
END:VEVENT
END:VCALENDAR