BEGIN:VCALENDAR
VERSION:2.0
PRODID:-//Wandelstadt Esslingen - ECPv6.15.20//NONSGML v1.0//EN
CALSCALE:GREGORIAN
METHOD:PUBLISH
X-WR-CALNAME:Wandelstadt Esslingen
X-ORIGINAL-URL:https://wandelstadt-esslingen.de
X-WR-CALDESC:Veranstaltungen für Wandelstadt Esslingen
REFRESH-INTERVAL;VALUE=DURATION:PT1H
X-Robots-Tag:noindex
X-PUBLISHED-TTL:PT1H
BEGIN:VTIMEZONE
TZID:Europe/Berlin
BEGIN:DAYLIGHT
TZOFFSETFROM:+0100
TZOFFSETTO:+0200
TZNAME:CEST
DTSTART:20240331T010000
END:DAYLIGHT
BEGIN:STANDARD
TZOFFSETFROM:+0200
TZOFFSETTO:+0100
TZNAME:CET
DTSTART:20241027T010000
END:STANDARD
BEGIN:DAYLIGHT
TZOFFSETFROM:+0100
TZOFFSETTO:+0200
TZNAME:CEST
DTSTART:20250330T010000
END:DAYLIGHT
BEGIN:STANDARD
TZOFFSETFROM:+0200
TZOFFSETTO:+0100
TZNAME:CET
DTSTART:20251026T010000
END:STANDARD
BEGIN:DAYLIGHT
TZOFFSETFROM:+0100
TZOFFSETTO:+0200
TZNAME:CEST
DTSTART:20260329T010000
END:DAYLIGHT
BEGIN:STANDARD
TZOFFSETFROM:+0200
TZOFFSETTO:+0100
TZNAME:CET
DTSTART:20261025T010000
END:STANDARD
END:VTIMEZONE
BEGIN:VEVENT
DTSTART;TZID=Europe/Berlin:20250918T190000
DTEND;TZID=Europe/Berlin:20250918T210000
DTSTAMP:20260422T033237
CREATED:20250909T111606Z
LAST-MODIFIED:20250909T111606Z
UID:6290-1758222000-1758229200@wandelstadt-esslingen.de
SUMMARY:Vernissage Philipp Berkovich im Buchladen die Zeitgenossen eG
DESCRIPTION:  \nWir laden Sie herzlich ein zur Vernissage  im Buchladen Die Zeitgenossen eG \nin der Strohstr. 28\, Esslingen am  Donnerstag den 18.9.25 um 19 Uhr. \n \nPhilipp Berkovich zeigt Arbeiten zwischen Ordnung und Auflösung und spielt bewusst mit Leerräumen.  In geometrischen Formen und nicht idealisierten Körpern spiegelt sich der Blick eines jungen Künstlers auf Schönheit\, Zerbrechlichkeit und Bewegung.Berkovich zeigt Arbeiten zwischen Ordnung und Auflösung und spielt bewusst mit Leerräumen.  In geometrischen Formen und nicht idealisierten Körpern spiegelt sich der Blick eines jungen Künstlers auf Schönheit\, Zerbrechlichkeit und Bewegung. \nDer Eintritt ist frei. \n 
URL:https://wandelstadt-esslingen.de/event/vernissage-philipp-berkovich-im-buchladen-die-zeitgenossen-eg/
END:VEVENT
END:VCALENDAR