BEGIN:VCALENDAR
VERSION:2.0
PRODID:-//Wandelstadt Esslingen - ECPv6.15.20//NONSGML v1.0//EN
CALSCALE:GREGORIAN
METHOD:PUBLISH
X-WR-CALNAME:Wandelstadt Esslingen
X-ORIGINAL-URL:https://wandelstadt-esslingen.de
X-WR-CALDESC:Veranstaltungen für Wandelstadt Esslingen
REFRESH-INTERVAL;VALUE=DURATION:PT1H
X-Robots-Tag:noindex
X-PUBLISHED-TTL:PT1H
BEGIN:VTIMEZONE
TZID:Europe/Berlin
BEGIN:DAYLIGHT
TZOFFSETFROM:+0100
TZOFFSETTO:+0200
TZNAME:CEST
DTSTART:20230326T010000
END:DAYLIGHT
BEGIN:STANDARD
TZOFFSETFROM:+0200
TZOFFSETTO:+0100
TZNAME:CET
DTSTART:20231029T010000
END:STANDARD
BEGIN:DAYLIGHT
TZOFFSETFROM:+0100
TZOFFSETTO:+0200
TZNAME:CEST
DTSTART:20240331T010000
END:DAYLIGHT
BEGIN:STANDARD
TZOFFSETFROM:+0200
TZOFFSETTO:+0100
TZNAME:CET
DTSTART:20241027T010000
END:STANDARD
BEGIN:DAYLIGHT
TZOFFSETFROM:+0100
TZOFFSETTO:+0200
TZNAME:CEST
DTSTART:20250330T010000
END:DAYLIGHT
BEGIN:STANDARD
TZOFFSETFROM:+0200
TZOFFSETTO:+0100
TZNAME:CET
DTSTART:20251026T010000
END:STANDARD
END:VTIMEZONE
BEGIN:VEVENT
DTSTART;TZID=Europe/Berlin:20240705T183000
DTEND;TZID=Europe/Berlin:20240705T210000
DTSTAMP:20260423T022225
CREATED:20240517T123935Z
LAST-MODIFIED:20240518T083245Z
UID:2947-1720204200-1720213200@wandelstadt-esslingen.de
SUMMARY:Vernissage "Mit Senf schmeckt alles nach Wurst" – eine Ausstellung von Renate Barth-Engelhorn
DESCRIPTION:Eine Ausstellung mit Werken der Künstlerin Renate Barth-Engelhorn. \nGetränke und Snacks auf Spendenbasis.
URL:https://wandelstadt-esslingen.de/event/vernissage-mit-senf-schmeckt-alles-nach-wurst-eine-ausstellung-von-renate-barth-engelhorn/
CATEGORIES:Kulturveranstaltung
END:VEVENT
END:VCALENDAR