BEGIN:VCALENDAR
VERSION:2.0
PRODID:-//Wandelstadt Esslingen - ECPv6.15.20//NONSGML v1.0//EN
CALSCALE:GREGORIAN
METHOD:PUBLISH
X-WR-CALNAME:Wandelstadt Esslingen
X-ORIGINAL-URL:https://wandelstadt-esslingen.de
X-WR-CALDESC:Veranstaltungen für Wandelstadt Esslingen
REFRESH-INTERVAL;VALUE=DURATION:PT1H
X-Robots-Tag:noindex
X-PUBLISHED-TTL:PT1H
BEGIN:VTIMEZONE
TZID:Europe/Berlin
BEGIN:DAYLIGHT
TZOFFSETFROM:+0100
TZOFFSETTO:+0200
TZNAME:CEST
DTSTART:20240331T010000
END:DAYLIGHT
BEGIN:STANDARD
TZOFFSETFROM:+0200
TZOFFSETTO:+0100
TZNAME:CET
DTSTART:20241027T010000
END:STANDARD
BEGIN:DAYLIGHT
TZOFFSETFROM:+0100
TZOFFSETTO:+0200
TZNAME:CEST
DTSTART:20250330T010000
END:DAYLIGHT
BEGIN:STANDARD
TZOFFSETFROM:+0200
TZOFFSETTO:+0100
TZNAME:CET
DTSTART:20251026T010000
END:STANDARD
BEGIN:DAYLIGHT
TZOFFSETFROM:+0100
TZOFFSETTO:+0200
TZNAME:CEST
DTSTART:20260329T010000
END:DAYLIGHT
BEGIN:STANDARD
TZOFFSETFROM:+0200
TZOFFSETTO:+0100
TZNAME:CET
DTSTART:20261025T010000
END:STANDARD
END:VTIMEZONE
BEGIN:VEVENT
DTSTART;TZID=Europe/Berlin:20251001T190000
DTEND;TZID=Europe/Berlin:20251001T203000
DTSTAMP:20260421T205945
CREATED:20250927T142144Z
LAST-MODIFIED:20250927T142144Z
UID:6553-1759345200-1759350600@wandelstadt-esslingen.de
SUMMARY:Verbindung statt Machtkampf - Wie Sie Ihr Kind verstehen und sich selbst nicht vergessen
DESCRIPTION:Verbindung statt Machtkampf – Wie Sie Ihr Kind verstehen und sich selbst nicht vergessen\nfür Eltern und Interessierte \nKennen Sie das? Sie wollen einfach nur\, dass Ihr Kind mitmacht – aber stattdessen gibt es Streit. Ein Nein folgt dem nächsten\, die Stimmung kippt und plötzlich stecken Sie in einem Machtkampf. Aber warum passiert das eigentlich immer wieder? Und wie kann man es anders machen – ohne Druck\, aber mit Klarheit? \nGenau darum geht es in diesem interaktiven Online-Seminar. \nWir schauen gemeinsam darauf\, warum Machtkämpfe entstehen – und wie Sie wieder in Verbindung kommen: Mit Ihrem Kind und mit sich selbst. \nDas erwartet Sie in 90 Minuten: \n• Impulse\, warum Machtkämpfe entstehen – und wie sie vermieden werden können \n• konkrete Werkzeuge für einen alltagstauglichen\, bindungsstarken Umgang \n• Raum für ehrliche Reflexion & Austausch über den Chat \n• Ein kompaktes Handout mit den wichtigsten Erkenntnissen
URL:https://wandelstadt-esslingen.de/event/verbindung-statt-machtkampf-wie-sie-ihr-kind-verstehen-und-sich-selbst-nicht-vergessen/
LOCATION:online
ORGANIZER;CN="Volkshochschule Esslingen":MAILTO:info@vhs-esslingen.de
END:VEVENT
END:VCALENDAR