BEGIN:VCALENDAR
VERSION:2.0
PRODID:-//Wandelstadt Esslingen - ECPv6.15.20//NONSGML v1.0//EN
CALSCALE:GREGORIAN
METHOD:PUBLISH
X-WR-CALNAME:Wandelstadt Esslingen
X-ORIGINAL-URL:https://wandelstadt-esslingen.de
X-WR-CALDESC:Veranstaltungen für Wandelstadt Esslingen
REFRESH-INTERVAL;VALUE=DURATION:PT1H
X-Robots-Tag:noindex
X-PUBLISHED-TTL:PT1H
BEGIN:VTIMEZONE
TZID:Europe/Berlin
BEGIN:DAYLIGHT
TZOFFSETFROM:+0100
TZOFFSETTO:+0200
TZNAME:CEST
DTSTART:20240331T010000
END:DAYLIGHT
BEGIN:STANDARD
TZOFFSETFROM:+0200
TZOFFSETTO:+0100
TZNAME:CET
DTSTART:20241027T010000
END:STANDARD
BEGIN:DAYLIGHT
TZOFFSETFROM:+0100
TZOFFSETTO:+0200
TZNAME:CEST
DTSTART:20250330T010000
END:DAYLIGHT
BEGIN:STANDARD
TZOFFSETFROM:+0200
TZOFFSETTO:+0100
TZNAME:CET
DTSTART:20251026T010000
END:STANDARD
BEGIN:DAYLIGHT
TZOFFSETFROM:+0100
TZOFFSETTO:+0200
TZNAME:CEST
DTSTART:20260329T010000
END:DAYLIGHT
BEGIN:STANDARD
TZOFFSETFROM:+0200
TZOFFSETTO:+0100
TZNAME:CET
DTSTART:20261025T010000
END:STANDARD
END:VTIMEZONE
BEGIN:VEVENT
DTSTART;TZID=Europe/Berlin:20250322T110000
DTEND;TZID=Europe/Berlin:20250322T153000
DTSTAMP:20260422T162013
CREATED:20250223T072930Z
LAST-MODIFIED:20250223T072930Z
UID:4324-1742641200-1742657400@wandelstadt-esslingen.de
SUMMARY:Vegan Around The World - Bio Kochkurs
DESCRIPTION:Bio-Kochkurs\n\n\nEs erwartet Sie eine kulinarische Reise rund um die Welt. Lassen Sie sich entführen in die Küchen der Kulturen und genießen Sie die bunte Vielfalt auf dem Teller. Gemeinsam erleben wir rein pflanzliche Köstlichkeiten u.a. aus Indien\, Italien\, China\, Japan\, den USA\, Mexiko\, der Türkei… und Bayern! Da ist für jeden etwas dabei! Freuen Sie sich auf Herzhaftes und Süßes\, altbekannte Klassiker und neue Geschmackserlebnisse – gebacken\, gebraten oder kalt… Aus einer großen Vielfalt an Gerichten schöpfen wir aus dem Vollen: Es gibt Vorspeisen\, Hauptspeisen\, Beilagen und Nachspeisen. \nGeeignet ab 12 mit etwas Küchenerfahrung. Natürlich auch für Nicht-Veganer:innen und bei Unverträglichkeiten gegen Milch und Ei. \n\n\nMaterial \n\nBitte mitbringen: Schürze\, Geschirrtuch\, Getränk und Behälter für Kostenproben und Reste
URL:https://wandelstadt-esslingen.de/event/vegan-around-the-world-bio-kochkurs/
LOCATION:Esslingen\, BAZ\, Urbanstr. 28\, 1. OG\, Raum 113\, Küche\, Urbanstr. 28\, 1. OG\, Raum 113\, Küche\, Esslingen\, Deutschland
ORGANIZER;CN="Volkshochschule Esslingen":MAILTO:info@vhs-esslingen.de
END:VEVENT
END:VCALENDAR