BEGIN:VCALENDAR
VERSION:2.0
PRODID:-//Wandelstadt Esslingen - ECPv6.15.20//NONSGML v1.0//EN
CALSCALE:GREGORIAN
METHOD:PUBLISH
X-WR-CALNAME:Wandelstadt Esslingen
X-ORIGINAL-URL:https://wandelstadt-esslingen.de
X-WR-CALDESC:Veranstaltungen für Wandelstadt Esslingen
REFRESH-INTERVAL;VALUE=DURATION:PT1H
X-Robots-Tag:noindex
X-PUBLISHED-TTL:PT1H
BEGIN:VTIMEZONE
TZID:Europe/Berlin
BEGIN:DAYLIGHT
TZOFFSETFROM:+0100
TZOFFSETTO:+0200
TZNAME:CEST
DTSTART:20220327T010000
END:DAYLIGHT
BEGIN:STANDARD
TZOFFSETFROM:+0200
TZOFFSETTO:+0100
TZNAME:CET
DTSTART:20221030T010000
END:STANDARD
BEGIN:DAYLIGHT
TZOFFSETFROM:+0100
TZOFFSETTO:+0200
TZNAME:CEST
DTSTART:20230326T010000
END:DAYLIGHT
BEGIN:STANDARD
TZOFFSETFROM:+0200
TZOFFSETTO:+0100
TZNAME:CET
DTSTART:20231029T010000
END:STANDARD
BEGIN:DAYLIGHT
TZOFFSETFROM:+0100
TZOFFSETTO:+0200
TZNAME:CEST
DTSTART:20240331T010000
END:DAYLIGHT
BEGIN:STANDARD
TZOFFSETFROM:+0200
TZOFFSETTO:+0100
TZNAME:CET
DTSTART:20241027T010000
END:STANDARD
END:VTIMEZONE
BEGIN:VEVENT
DTSTART;TZID=Europe/Berlin:20231108T180000
DTEND;TZID=Europe/Berlin:20231108T193000
DTSTAMP:20260422T024827
CREATED:20231026T153450Z
LAST-MODIFIED:20231026T153450Z
UID:2279-1699466400-1699471800@wandelstadt-esslingen.de
SUMMARY:Urbane Waldgärten als langfristige\, multifunktionale Form des Urban Gardening
DESCRIPTION:Angesichts vielfacher ökologischer und sozialer Anforderungen an städtische Grünflächen bedarf es neuer Konzepte\, die es sowohl ermöglichen Grünflächen ökologisch aufzuwerten\, als auch gleichzeitig den Stadtbewohner*innen Mitwirkungsmöglichkeiten eröffnen. Urban Gardening wird immer beliebter und dabei geht es oft nicht nur um den eigenen Anbau\, sondern häufig auch darum\, aus städtischen Flächen artenreiche\, klimawirksame Lebensräume zu entwickeln. Mit seiner waldartigen Struktur bestehend aus vorwiegend mehrjährigen\, essbaren Pflanzen\, kann das multifunktionale Konzept des Waldgartens einen langfristigen Lösungsansatz bieten. Es wird im Projekt „Urbane Waldgärten“ unter intensiver Mitwirkung von Bürger*innen in Berlin und Kassel auf verschiedenen städtischen Grünflächen erprobt und fortlaufend wissenschaftlich evaluiert.
URL:https://wandelstadt-esslingen.de/event/urbane-waldgaerten-als-langfristige-multifunktionale-form-des-urban-gardening/
LOCATION:Volkshochschule\, Mettinger Straße 125\, Esslingen am Neckar\, 73728\, Deutschland
ORGANIZER;CN="Volkshochschule Esslingen":MAILTO:info@vhs-esslingen.de
END:VEVENT
END:VCALENDAR