BEGIN:VCALENDAR
VERSION:2.0
PRODID:-//Wandelstadt Esslingen - ECPv6.15.20//NONSGML v1.0//EN
CALSCALE:GREGORIAN
METHOD:PUBLISH
X-WR-CALNAME:Wandelstadt Esslingen
X-ORIGINAL-URL:https://wandelstadt-esslingen.de
X-WR-CALDESC:Veranstaltungen für Wandelstadt Esslingen
REFRESH-INTERVAL;VALUE=DURATION:PT1H
X-Robots-Tag:noindex
X-PUBLISHED-TTL:PT1H
BEGIN:VTIMEZONE
TZID:Europe/Berlin
BEGIN:DAYLIGHT
TZOFFSETFROM:+0100
TZOFFSETTO:+0200
TZNAME:CEST
DTSTART:20240331T010000
END:DAYLIGHT
BEGIN:STANDARD
TZOFFSETFROM:+0200
TZOFFSETTO:+0100
TZNAME:CET
DTSTART:20241027T010000
END:STANDARD
BEGIN:DAYLIGHT
TZOFFSETFROM:+0100
TZOFFSETTO:+0200
TZNAME:CEST
DTSTART:20250330T010000
END:DAYLIGHT
BEGIN:STANDARD
TZOFFSETFROM:+0200
TZOFFSETTO:+0100
TZNAME:CET
DTSTART:20251026T010000
END:STANDARD
BEGIN:DAYLIGHT
TZOFFSETFROM:+0100
TZOFFSETTO:+0200
TZNAME:CEST
DTSTART:20260329T010000
END:DAYLIGHT
BEGIN:STANDARD
TZOFFSETFROM:+0200
TZOFFSETTO:+0100
TZNAME:CET
DTSTART:20261025T010000
END:STANDARD
END:VTIMEZONE
BEGIN:VEVENT
DTSTART;TZID=Europe/Berlin:20250331T103000
DTEND;TZID=Europe/Berlin:20250331T123000
DTSTAMP:20260421T213542
CREATED:20250328T175609Z
LAST-MODIFIED:20250328T180000Z
UID:4517-1743417000-1743424200@wandelstadt-esslingen.de
SUMMARY:Über Diskriminierung und soziale Ungleichheit sprechen – was braucht es dafür?
DESCRIPTION:Diskriminierung ist eine gesamtgesellschaftliche Herausforderung\, die uns alle betrifft. Sie tritt in vielenFormen auf – oft subtil\, manchmal offensichtlich. Doch wie können wir wirksam dagegen vorgehen?Was braucht es\, um strukturelle Ungleichheiten zu erkennen\, Diskriminierung zu benennen undkonkrete Handlungsmöglichkeiten zu entwickeln?Die Antidiskriminierungsstelle Esslingen lädt Sie herzlich zu einer Reihe von vier interaktiven Online-Werkstattgesprächen ein. Diese bieten Raum für Reflexion\, Austausch und praxisnahe Lösungsansätze.Unser Ziel ist es\, Diskriminierung „besprechbar“ zu machen – offen\, respektvoll und gemeinsam.Was erwartet Sie?Werkstattgespräche sind interaktive Veranstaltungen\, bei denen kurze Impulse\, Diskussionen undgemeinsame Reflexion im Mittelpunkt stehen. Uns ist wichtig\, dass sich alle Teilnehmenden als„zuhörende und lernende Personen“ begegnen – unabhängig von Erfahrung oder Expertise. \nWarum teilnehmen?✔ Bewusstsein für verschiedene Formen von Diskriminierung schärfen ✔ Einen geschützten Raum für offenen Austausch nutzen ✔ Eigene Haltung reflektieren und stärken ✔ Konkrete Strategien zur Handlung entwickelnUnsere Themen und Termine: \n📅 31.03.2025 | 10:30 – 12:30 Uhr Über Diskriminierung und soziale Ungleichheit sprechen – was braucht es dafür? 🗣 Einführung in das Diskriminierungsverständnis 🤝 Begegnung auf Augenhöhe aus diskriminierungskritischer Perspektive \n📅 14.05.2025 | 09:00 – 11:00 Uhr Unausgeglichene Machtverhältnisse und Empowermentarbeit 🔍 Reflexion von Privilegien & Machtstrukturen 💡 Empowermentarbeit mit Idzumi Neumärker \n📅 17.07.2025 | 15:00 – 17:00 Uhr Sprache hat Macht 📝 Strukturelle Benachteiligung in Sprache erkennen 🌍 Fremdbezeichnungen vs. Eigenbezeichnungen \n📅 16.10.2025 | 14:00 – 16:00 Uhr Haltung zeigen! 💪 Diskriminierung entschieden\, aber deeskalierend entgegentreten \nIhre aktive Teilnahme zählt!\nDie Werkstattgespräche leben vom Austausch und der Beteiligung der Teilnehmenden. Wir arbeiten mit\ninteraktiven Methoden wie Breakout-Sessions und Whiteboard-Erarbeitungen. Die Erkenntnisse werden\nvon ADES gesammelt und anonymisiert auf kommunaler Ebene besprochen. \n📩 Anmeldung & weitere Infos:\nAnmeldung unter anmeldung@ad-es.de ist erwünscht\, für eine Teilnahme aber nicht zwingend\nerforderlich.\nÜber folgenden Link können Sie an allen 4 Werkstattgesprächen teilnehmen: https://us02web.zoom.us/j/82794606635?pwd=sPNzEpamOyMzgCB9vdU2vFOT0eaRxx.1 \nDie Teilnahme ist kostenlos.\nDie Teilnahme an allen vier Gesprächen ist erwünscht – aber nicht dringend notwendig.\nAuf Anfrage stellen wir Ihnen gerne eine Teilnahmebestätigung aus\, die Ihre\nAuseinandersetzung mit dem Thema Diskriminierung bestätigt. \nFinanziert durch das Ministerium für Soziales\, Gesundheit und Integration aus Landesmitteln\, die der Landtag von Baden-Württemberg beschlossen hat\, und durch den Landkreis Esslingen\, sowie die großen\nKreisstädte Esslingen\, Kirchheim unter Teck\, Nürtingen\, Filderstadt und Ostfildern.
URL:https://wandelstadt-esslingen.de/event/ueber-diskriminierung-und-soziale-ungleichheit-sprechen-was-braucht-es-dafuer/
LOCATION:online
END:VEVENT
END:VCALENDAR