BEGIN:VCALENDAR
VERSION:2.0
PRODID:-//Wandelstadt Esslingen - ECPv6.15.20//NONSGML v1.0//EN
CALSCALE:GREGORIAN
METHOD:PUBLISH
X-WR-CALNAME:Wandelstadt Esslingen
X-ORIGINAL-URL:https://wandelstadt-esslingen.de
X-WR-CALDESC:Veranstaltungen für Wandelstadt Esslingen
REFRESH-INTERVAL;VALUE=DURATION:PT1H
X-Robots-Tag:noindex
X-PUBLISHED-TTL:PT1H
BEGIN:VTIMEZONE
TZID:Europe/Berlin
BEGIN:DAYLIGHT
TZOFFSETFROM:+0100
TZOFFSETTO:+0200
TZNAME:CEST
DTSTART:20250330T010000
END:DAYLIGHT
BEGIN:STANDARD
TZOFFSETFROM:+0200
TZOFFSETTO:+0100
TZNAME:CET
DTSTART:20251026T010000
END:STANDARD
BEGIN:DAYLIGHT
TZOFFSETFROM:+0100
TZOFFSETTO:+0200
TZNAME:CEST
DTSTART:20260329T010000
END:DAYLIGHT
BEGIN:STANDARD
TZOFFSETFROM:+0200
TZOFFSETTO:+0100
TZNAME:CET
DTSTART:20261025T010000
END:STANDARD
BEGIN:DAYLIGHT
TZOFFSETFROM:+0100
TZOFFSETTO:+0200
TZNAME:CEST
DTSTART:20270328T010000
END:DAYLIGHT
BEGIN:STANDARD
TZOFFSETFROM:+0200
TZOFFSETTO:+0100
TZNAME:CET
DTSTART:20271031T010000
END:STANDARD
END:VTIMEZONE
BEGIN:VEVENT
DTSTART;TZID=Europe/Berlin:20260503T110000
DTEND;TZID=Europe/Berlin:20260503T150000
DTSTAMP:20260424T231933
CREATED:20260424T171032Z
LAST-MODIFIED:20260424T171032Z
UID:8843-1777806000-1777820400@wandelstadt-esslingen.de
SUMMARY:Tuned Konferenz
DESCRIPTION:Regionalkonferenz zum Thema Resilienz der Kultur \nKooperation statt Konkurrenz – welches Thema könnte einem Netzwerk von Festivals angemessener sein? Der Resilienz von Kulturinstitutionen und den Chancen\, die in einer strategischen Zusammenarbeit und ihrer Vernetzung liegen\, widmet sich am ersten Festivalsonntag eine Konferenz im Rahmen von „tuned – Netzwerk für zeitgenössische Klassik“. Dabei ist nicht nur die Fachwelt gefragt: Angesichts der bevorstehenden finanziellen Herausforderungen in den Städten und Gemeinden betreffen diese Themen die Gesellschaft insgesamt\, denn ein vielfältiges kulturelles Angebot ist gerade in Krisenzeiten und angesichts der zunehmenden Spaltung unserer Gesellschaft von existentieller Bedeutung. \nEin Projekt gefördert durch „tuned-Netzwerk für zeitgenössische Klassik“ der Kulturstiftung des Bundes. Gefördert von dem Beauftragten der Bundesregierung für Kultur und Medien.
URL:https://wandelstadt-esslingen.de/event/tuned-konferenz/
LOCATION:Württembergische Landesbühne – Schauspielhaus mit Podium 1 & 2\, Ritterstraße 11\, Esslingen\, Deutschland
CATEGORIES:Beteiligung,Kulturveranstaltung,Live-Veranstaltung,Podiumsdiskussion,Vernetzungsveranstaltung
ORGANIZER;CN="Podium Musikstiftung Esslingen":MAILTO:post@podium-esslingen.de
END:VEVENT
END:VCALENDAR