BEGIN:VCALENDAR
VERSION:2.0
PRODID:-//Wandelstadt Esslingen - ECPv6.15.20//NONSGML v1.0//EN
CALSCALE:GREGORIAN
METHOD:PUBLISH
X-WR-CALNAME:Wandelstadt Esslingen
X-ORIGINAL-URL:https://wandelstadt-esslingen.de
X-WR-CALDESC:Veranstaltungen für Wandelstadt Esslingen
REFRESH-INTERVAL;VALUE=DURATION:PT1H
X-Robots-Tag:noindex
X-PUBLISHED-TTL:PT1H
BEGIN:VTIMEZONE
TZID:Europe/Berlin
BEGIN:DAYLIGHT
TZOFFSETFROM:+0100
TZOFFSETTO:+0200
TZNAME:CEST
DTSTART:20230326T010000
END:DAYLIGHT
BEGIN:STANDARD
TZOFFSETFROM:+0200
TZOFFSETTO:+0100
TZNAME:CET
DTSTART:20231029T010000
END:STANDARD
BEGIN:DAYLIGHT
TZOFFSETFROM:+0100
TZOFFSETTO:+0200
TZNAME:CEST
DTSTART:20240331T010000
END:DAYLIGHT
BEGIN:STANDARD
TZOFFSETFROM:+0200
TZOFFSETTO:+0100
TZNAME:CET
DTSTART:20241027T010000
END:STANDARD
BEGIN:DAYLIGHT
TZOFFSETFROM:+0100
TZOFFSETTO:+0200
TZNAME:CEST
DTSTART:20250330T010000
END:DAYLIGHT
BEGIN:STANDARD
TZOFFSETFROM:+0200
TZOFFSETTO:+0100
TZNAME:CET
DTSTART:20251026T010000
END:STANDARD
END:VTIMEZONE
BEGIN:VEVENT
DTSTART;TZID=Europe/Berlin:20240417T200000
DTEND;TZID=Europe/Berlin:20240417T200000
DTSTAMP:20260422T030141
CREATED:20240405T070931Z
LAST-MODIFIED:20240405T070931Z
UID:2808-1713384000-1713384000@wandelstadt-esslingen.de
SUMMARY:Treffen des Esslinger Bündnis für Demokratie und Menschenrechte
DESCRIPTION:Lieber Unterstützer:innen\, \njetzt ist es offiziell: Die AfD kandidiert erstmals für den Esslinger Gemeinderat. Mit 13 Bewerber:innen tritt die Partei bei der Kommunalwahl am 9. Juni 2024 an.\nEin Grund mehr für ein aktives\, gemeinschaftliches und entschlossenes Engagement zur Stärkung der Demokratie und für Weltoffenheit und Menschenrechte vor Ort – jetzt auch verstärkt auf lokaler Ebene. Lasst uns in den kommenden Wochen gemeinsam ein Zeichen für Demokratie und Menschenrechte und gegen Menschenfeindlichkeit und Rechtsextremismus setzen. \nDas nächste Treffen des Esslinger Bündnis für Demokratie und Menschenrechte ist bereits geplant. Alle Interessierten sind herzlich eingeladen. \nMittwoch\, 17.04.2024\num 20:00 Uhr\nin der Dieselstraße
URL:https://wandelstadt-esslingen.de/event/treffen-des-esslinger-buendnis-fuer-demokratie-und-menschenrechte/
LOCATION:Kulturzentrum Dieselstraße\, Dieselstraße 26\, Esslingen\, Deutschland
END:VEVENT
END:VCALENDAR