BEGIN:VCALENDAR
VERSION:2.0
PRODID:-//Wandelstadt Esslingen - ECPv6.15.20//NONSGML v1.0//EN
CALSCALE:GREGORIAN
METHOD:PUBLISH
X-WR-CALNAME:Wandelstadt Esslingen
X-ORIGINAL-URL:https://wandelstadt-esslingen.de
X-WR-CALDESC:Veranstaltungen für Wandelstadt Esslingen
REFRESH-INTERVAL;VALUE=DURATION:PT1H
X-Robots-Tag:noindex
X-PUBLISHED-TTL:PT1H
BEGIN:VTIMEZONE
TZID:Europe/Berlin
BEGIN:DAYLIGHT
TZOFFSETFROM:+0100
TZOFFSETTO:+0200
TZNAME:CEST
DTSTART:20240331T010000
END:DAYLIGHT
BEGIN:STANDARD
TZOFFSETFROM:+0200
TZOFFSETTO:+0100
TZNAME:CET
DTSTART:20241027T010000
END:STANDARD
BEGIN:DAYLIGHT
TZOFFSETFROM:+0100
TZOFFSETTO:+0200
TZNAME:CEST
DTSTART:20250330T010000
END:DAYLIGHT
BEGIN:STANDARD
TZOFFSETFROM:+0200
TZOFFSETTO:+0100
TZNAME:CET
DTSTART:20251026T010000
END:STANDARD
BEGIN:DAYLIGHT
TZOFFSETFROM:+0100
TZOFFSETTO:+0200
TZNAME:CEST
DTSTART:20260329T010000
END:DAYLIGHT
BEGIN:STANDARD
TZOFFSETFROM:+0200
TZOFFSETTO:+0100
TZNAME:CET
DTSTART:20261025T010000
END:STANDARD
END:VTIMEZONE
BEGIN:VEVENT
DTSTART;TZID=Europe/Berlin:20250414T190000
DTEND;TZID=Europe/Berlin:20250414T210000
DTSTAMP:20260421T203809
CREATED:20241114T091015Z
LAST-MODIFIED:20241114T091015Z
UID:10004433-1744657200-1744664400@wandelstadt-esslingen.de
SUMMARY:Treffen des Bündnis für Klimagerechtigkeit
DESCRIPTION:Herzliche Einladung mit uns aktiv zu sein \nJa\, wir wollen noch mehr bewegen in Esslingen und laden Sie herzlich ein\, sich gemeinsam mit uns für den nötigen ökologischen\, ökonomischen\, sozialen und kulturellen Wandel zu engagieren. Wir freuen uns sowohl auf neue Gruppen wie auch auf Einzelpersonen\, die sich gerne einbringen möchten! \nHier vor Ort können wir in Esslingen die Veränderung leben\, die wir uns für unsere Welt wünschen. Wir treffen uns als gesamtes Bündnis in der Regel jeden zweiten Montagabend im Monat um 19 Uhr online\, um zu planen\, zu organisieren\, zu berichten und unsere Erfolge zu teilen. Herzliche Einladung an neue Mitmacher:innen uns ganz unverbindlich kennenzulernen! \n  \nIhr Kontakt zu uns: \nThomas Albrecht \ninfo@klimagerechtigkeit-esslingen.de \nwww.klimagerechtigkeit-esslingen.de
URL:https://wandelstadt-esslingen.de/event/treffen-des-buendnis-fuer-klimagerechtigkeit-6/2025-04-14/
LOCATION:Forum Esslingen – Zentrum für Bürgerengagement\, Schelztorstraße 38\, Esslingen\, Deutschland
ATTACH;FMTTYPE=image/jpeg:https://wandelstadt-esslingen.de/wp-content/uploads/2022/07/klimagerechtig-esslingen.jpg
ORGANIZER;CN="B%C3%BCndnis f%C3%BCr Klimagerechtigkeit Esslingen":MAILTO:info@klimagerechtigkeit-esslingen.de
END:VEVENT
END:VCALENDAR