BEGIN:VCALENDAR
VERSION:2.0
PRODID:-//Wandelstadt Esslingen - ECPv6.15.20//NONSGML v1.0//EN
CALSCALE:GREGORIAN
METHOD:PUBLISH
X-WR-CALNAME:Wandelstadt Esslingen
X-ORIGINAL-URL:https://wandelstadt-esslingen.de
X-WR-CALDESC:Veranstaltungen für Wandelstadt Esslingen
REFRESH-INTERVAL;VALUE=DURATION:PT1H
X-Robots-Tag:noindex
X-PUBLISHED-TTL:PT1H
BEGIN:VTIMEZONE
TZID:Europe/Berlin
BEGIN:DAYLIGHT
TZOFFSETFROM:+0100
TZOFFSETTO:+0200
TZNAME:CEST
DTSTART:20230326T010000
END:DAYLIGHT
BEGIN:STANDARD
TZOFFSETFROM:+0200
TZOFFSETTO:+0100
TZNAME:CET
DTSTART:20231029T010000
END:STANDARD
BEGIN:DAYLIGHT
TZOFFSETFROM:+0100
TZOFFSETTO:+0200
TZNAME:CEST
DTSTART:20240331T010000
END:DAYLIGHT
BEGIN:STANDARD
TZOFFSETFROM:+0200
TZOFFSETTO:+0100
TZNAME:CET
DTSTART:20241027T010000
END:STANDARD
BEGIN:DAYLIGHT
TZOFFSETFROM:+0100
TZOFFSETTO:+0200
TZNAME:CEST
DTSTART:20250330T010000
END:DAYLIGHT
BEGIN:STANDARD
TZOFFSETFROM:+0200
TZOFFSETTO:+0100
TZNAME:CET
DTSTART:20251026T010000
END:STANDARD
END:VTIMEZONE
BEGIN:VEVENT
DTSTART;TZID=Europe/Berlin:20240307T143000
DTEND;TZID=Europe/Berlin:20240307T143000
DTSTAMP:20260422T124630
CREATED:20240226T092014Z
LAST-MODIFIED:20240226T092014Z
UID:2666-1709821800-1709821800@wandelstadt-esslingen.de
SUMMARY:Theaterstück „Alte Hasen kehren besser!“
DESCRIPTION:Theaterstück „Alte Hasen kehren besser!“\nEine kostenfreie Veranstaltung zur „Suchtprävention im Alter“\nDonnerstag 7. März 2024 um 14:30 Uhr\, Treffpunkt Stadtmitte in Wendlingen\nkeine Informationen zur Barrierefreiheit vorhanden \nOrganisiert von der Beauftragten für Suchtprävention des Landkreises in Zusammenarbeit mit der Fachgruppe „Sucht im Alter“ zeigt die Theatergruppe „Mach was – Prävention\, Theater und mehr…“ das Stück „Alte Hasen kehren besser!“. Im Anschluss an die Vorführung stehen Ansprechpartnerinnen aus den Suchtberatungsstellen und von SOFA für Fragen zur Verfügung.\nEingeladen sind insbesondere pflegende Angehörige\, Pflegekräfte\, Seniorinnen und Senioren.
URL:https://wandelstadt-esslingen.de/event/theaterstueck-alte-hasen-kehren-besser/
END:VEVENT
END:VCALENDAR