BEGIN:VCALENDAR
VERSION:2.0
PRODID:-//Wandelstadt Esslingen - ECPv6.15.20//NONSGML v1.0//EN
CALSCALE:GREGORIAN
METHOD:PUBLISH
X-WR-CALNAME:Wandelstadt Esslingen
X-ORIGINAL-URL:https://wandelstadt-esslingen.de
X-WR-CALDESC:Veranstaltungen für Wandelstadt Esslingen
REFRESH-INTERVAL;VALUE=DURATION:PT1H
X-Robots-Tag:noindex
X-PUBLISHED-TTL:PT1H
BEGIN:VTIMEZONE
TZID:Europe/Berlin
BEGIN:DAYLIGHT
TZOFFSETFROM:+0100
TZOFFSETTO:+0200
TZNAME:CEST
DTSTART:20290325T010000
END:DAYLIGHT
BEGIN:STANDARD
TZOFFSETFROM:+0200
TZOFFSETTO:+0100
TZNAME:CET
DTSTART:20291028T010000
END:STANDARD
BEGIN:DAYLIGHT
TZOFFSETFROM:+0100
TZOFFSETTO:+0200
TZNAME:CEST
DTSTART:20300331T010000
END:DAYLIGHT
BEGIN:STANDARD
TZOFFSETFROM:+0200
TZOFFSETTO:+0100
TZNAME:CET
DTSTART:20301027T010000
END:STANDARD
BEGIN:DAYLIGHT
TZOFFSETFROM:+0100
TZOFFSETTO:+0200
TZNAME:CEST
DTSTART:20310330T010000
END:DAYLIGHT
BEGIN:STANDARD
TZOFFSETFROM:+0200
TZOFFSETTO:+0100
TZNAME:CET
DTSTART:20311026T010000
END:STANDARD
END:VTIMEZONE
BEGIN:VEVENT
DTSTART;TZID=Europe/Berlin:20300918T180000
DTEND;TZID=Europe/Berlin:20300918T200000
DTSTAMP:20260422T033210
CREATED:20251127T202915Z
LAST-MODIFIED:20251127T202915Z
UID:10007807-1915984800-1915992000@wandelstadt-esslingen.de
SUMMARY:Textil- und druckwerkstatt
DESCRIPTION:Deine Band braucht Merch? Oder du hast Lust\, personalisierte Designs auf Klamotten zu sticken oder zu drucken? Hast du generell Interesse an Textildesign und Mode? Wir stellen Material\, vorgefertigte Motive\, eine Näh-\, eine Stickmaschine und einen Schneideplotter zu Verfügung\, damit du an\, auf und mit Textilien in kleinen Format experimentieren kannst. Bring dein Material zum Bedrucken mit. Im Hinblick auf nachhaltigen Konsum\, kannst du gerne alte oder unbenutzte Textilien mitbringen! \nWir haben die grundlegende Ausstattung für Photoshootings: Leinwand (Weiss\, Schwarz und Grün)\, 3 Dauerlichter\, Kamera und Zubehör. \nKostenlos und ohne Anmeldung – jeden Mittwoch ab 18 Uhr und auf Anfrage\nTagesaktuelle Infos auf Instagram @kommaesslingen\nKontakt: werkstatt@komma.info
URL:https://wandelstadt-esslingen.de/event/textil-und-druckwerkstatt/2030-09-18/
LOCATION:KOMMA Esslingen\, Maille 5-9\, Esslingen\, 73728\, Deutschland
CATEGORIES:Live-Veranstaltung,Vernetzungsveranstaltung,Workshop
END:VEVENT
END:VCALENDAR