BEGIN:VCALENDAR
VERSION:2.0
PRODID:-//Wandelstadt Esslingen - ECPv6.15.20//NONSGML v1.0//EN
CALSCALE:GREGORIAN
METHOD:PUBLISH
X-WR-CALNAME:Wandelstadt Esslingen
X-ORIGINAL-URL:https://wandelstadt-esslingen.de
X-WR-CALDESC:Veranstaltungen für Wandelstadt Esslingen
REFRESH-INTERVAL;VALUE=DURATION:PT1H
X-Robots-Tag:noindex
X-PUBLISHED-TTL:PT1H
BEGIN:VTIMEZONE
TZID:Europe/Berlin
BEGIN:DAYLIGHT
TZOFFSETFROM:+0100
TZOFFSETTO:+0200
TZNAME:CEST
DTSTART:20230326T010000
END:DAYLIGHT
BEGIN:STANDARD
TZOFFSETFROM:+0200
TZOFFSETTO:+0100
TZNAME:CET
DTSTART:20231029T010000
END:STANDARD
BEGIN:DAYLIGHT
TZOFFSETFROM:+0100
TZOFFSETTO:+0200
TZNAME:CEST
DTSTART:20240331T010000
END:DAYLIGHT
BEGIN:STANDARD
TZOFFSETFROM:+0200
TZOFFSETTO:+0100
TZNAME:CET
DTSTART:20241027T010000
END:STANDARD
BEGIN:DAYLIGHT
TZOFFSETFROM:+0100
TZOFFSETTO:+0200
TZNAME:CEST
DTSTART:20250330T010000
END:DAYLIGHT
BEGIN:STANDARD
TZOFFSETFROM:+0200
TZOFFSETTO:+0100
TZNAME:CET
DTSTART:20251026T010000
END:STANDARD
END:VTIMEZONE
BEGIN:VEVENT
DTSTART;TZID=Europe/Berlin:20240706T110000
DTEND;TZID=Europe/Berlin:20240706T160000
DTSTAMP:20260422T005519
CREATED:20240621T111113Z
LAST-MODIFIED:20240621T111113Z
UID:3129-1720263600-1720281600@wandelstadt-esslingen.de
SUMMARY:Tag des offenen Rathauses mit Bürgersprechstunden
DESCRIPTION:Im Rahmen des Schwörfest lädt das neue Rathaus zur Besichtigung ein. \nDabei werden auch Bürgersprechstunden bei den Bürgermeistern\, jeweils in deren Büros angeboten. Tauschen Sie sich mit den Bürgermeistern aus! \n13:30 Uhr – 16:00 Uhr Oberbürgermeister Matthias Klopfer beim gemeinsamen Kickern \n13:30 Uhr – 16:00 Uhr Erster Bürgermeister Ingo Rust besonders zum Thema Umbau des Klinikums \n11:00 Uhr – 13:30 Uhr Yalcin Bayraktar\, Bürgermeister für Ordnung\, Soziales\, Bildung\, Kultur und Sport lädt zum Tischtennisspiel \n11:00 Uhr -13:30 Uhr Hans-Georg Sigel\, Bürgermeister für Stadtentwicklung\, Infrastruktur\, Bauen und Umwelt freut sich auf den persönlichen Austausch besonders zum Thema Radverkehr \nEin Austausch mit Vertretern desJugendgemeinderat\, dem Gemeinderat und Bürgerausschüssen auf dem Rathausplatz ist ebenfalls möglich. \nDas Rahmenprogramm beinhaltet eine Einblick in das Goldene Buch der Stadt und weiteren Ehrungen sowie eine Vorstellung der Esslinger Feuerwehr und die Möglichkeit ein Errinnerungsfoto vom Balkon über dem Rathausplatz auszudrucken.
URL:https://wandelstadt-esslingen.de/event/tag-des-offenen-rathauses-mit-buergersprechstunden/
LOCATION:Neues Rathaus\, Rathausplatz 2\, Esslingen am Neckar\, 73728
END:VEVENT
END:VCALENDAR